BEGIN:VCALENDAR
VERSION:2.0
PRODID:-//UNC Student Affairs - ECPv6.15.20//NONSGML v1.0//EN
CALSCALE:GREGORIAN
METHOD:PUBLISH
X-ORIGINAL-URL:https://studentaffairs.unc.edu
X-WR-CALDESC:Events for UNC Student Affairs
REFRESH-INTERVAL;VALUE=DURATION:PT1H
X-Robots-Tag:noindex
X-PUBLISHED-TTL:PT1H
BEGIN:VTIMEZONE
TZID:America/New_York
BEGIN:DAYLIGHT
TZOFFSETFROM:-0500
TZOFFSETTO:-0400
TZNAME:EDT
DTSTART:20250309T070000
END:DAYLIGHT
BEGIN:STANDARD
TZOFFSETFROM:-0400
TZOFFSETTO:-0500
TZNAME:EST
DTSTART:20251102T060000
END:STANDARD
BEGIN:DAYLIGHT
TZOFFSETFROM:-0500
TZOFFSETTO:-0400
TZNAME:EDT
DTSTART:20260308T070000
END:DAYLIGHT
BEGIN:STANDARD
TZOFFSETFROM:-0400
TZOFFSETTO:-0500
TZNAME:EST
DTSTART:20261101T060000
END:STANDARD
BEGIN:DAYLIGHT
TZOFFSETFROM:-0500
TZOFFSETTO:-0400
TZNAME:EDT
DTSTART:20270314T070000
END:DAYLIGHT
BEGIN:STANDARD
TZOFFSETFROM:-0400
TZOFFSETTO:-0500
TZNAME:EST
DTSTART:20271107T060000
END:STANDARD
END:VTIMEZONE
BEGIN:VEVENT
DTSTART;TZID=America/New_York:20260419T163000
DTEND;TZID=America/New_York:20260419T183000
DTSTAMP:20260419T220002
CREATED:20260417T142226Z
LAST-MODIFIED:20260419T142540Z
UID:7595-1776616200-1776623400@studentaffairs.unc.edu
SUMMARY:Building Energy System Resilience in Southeast Asia
DESCRIPTION:Building Energy System Resilience in Southeast Asia\n\nGlobal challenges ranging from climate change to geopolitical instability are reshaping energy affordability\, reliability\, and sustainability. This talk examines how to build more resilient energy systems in Southeast Asia using several case studies. I will highlight a stakeholder-driven energy modeling effort conducted under the ASEAN Green Futures initiative\, which develops iterative pathways to expand electricity access\, enhance grid reliability\, and reduce environmental impacts across the region. I will also explore mobility-energy integration in Thailand\, focusing on vehicle-to-grid applications and car sharing as strategies to increase system flexibility and support distributed energy resources.  Together\, these cases offer able transferable lessons for resilient energy planning in Southeast Asia and the US\, reflecting opportunities enabled by the Bringing Southeast Asia Home project supported by the Luce Foundation including regional collaboration\, capacity building\, and the development of scalable clean energy solutions. \nhttps://asia.unc.edu/event/building-energy-system-resilience-in-sea/ \nReception to follow. \n\n\n\n      From Sunday\, April 19\, 2026 4:30 PM\n      to 5:30 PM EDT\n      at Nelson Mandela Auditorium\, FedEx Global Education Center.
URL:https://studentaffairs.unc.edu/event/building-energy-system-resilience-in-southeast-asia/
CATEGORIES:Campus Life Experience,Lecture,ThoughtfulLearning
ATTACH;FMTTYPE=image/png:https://studentaffairs.unc.edu/wp-content/uploads/2026/04/46670279-8b52-45c7-9745-d999bd0e37f8b5f72ffe-dd82-450e-b924-5a0a46f7b356.jpg
END:VEVENT
END:VCALENDAR