BEGIN:VCALENDAR
VERSION:2.0
PRODID:-//UNC Student Affairs - ECPv6.15.20//NONSGML v1.0//EN
CALSCALE:GREGORIAN
METHOD:PUBLISH
X-WR-CALNAME:UNC Student Affairs
X-ORIGINAL-URL:https://studentaffairs.unc.edu
X-WR-CALDESC:Events for UNC Student Affairs
REFRESH-INTERVAL;VALUE=DURATION:PT1H
X-Robots-Tag:noindex
X-PUBLISHED-TTL:PT1H
BEGIN:VTIMEZONE
TZID:America/New_York
BEGIN:DAYLIGHT
TZOFFSETFROM:-0500
TZOFFSETTO:-0400
TZNAME:EDT
DTSTART:20250309T070000
END:DAYLIGHT
BEGIN:STANDARD
TZOFFSETFROM:-0400
TZOFFSETTO:-0500
TZNAME:EST
DTSTART:20251102T060000
END:STANDARD
BEGIN:DAYLIGHT
TZOFFSETFROM:-0500
TZOFFSETTO:-0400
TZNAME:EDT
DTSTART:20260308T070000
END:DAYLIGHT
BEGIN:STANDARD
TZOFFSETFROM:-0400
TZOFFSETTO:-0500
TZNAME:EST
DTSTART:20261101T060000
END:STANDARD
BEGIN:DAYLIGHT
TZOFFSETFROM:-0500
TZOFFSETTO:-0400
TZNAME:EDT
DTSTART:20270314T070000
END:DAYLIGHT
BEGIN:STANDARD
TZOFFSETFROM:-0400
TZOFFSETTO:-0500
TZNAME:EST
DTSTART:20271107T060000
END:STANDARD
END:VTIMEZONE
BEGIN:VEVENT
DTSTART;TZID=America/New_York:20260504T100000
DTEND;TZID=America/New_York:20260504T120000
DTSTAMP:20260419T083534
CREATED:20260417T142350Z
LAST-MODIFIED:20260418T142648Z
UID:7896-1777888800-1777896000@studentaffairs.unc.edu
SUMMARY:Finals Bootcamp
DESCRIPTION:Finals Bootcamp\n\nCome study with us during finals! Join us at any or all of the sessions in this shared study space to set study goals\, work among other students\, and end the semester strong! Come and leave when you like. Snacks and raffle prizes available! \n\n\n\n      From Monday\, May 4\, 2026 10:00 AM\n      to 5:00 PM EDT\n      at SASB North 0127 (The Writing Center).
URL:https://studentaffairs.unc.edu/event/finals-bootcamp-4/
CATEGORIES:Campus Life Experience,ThoughtfulLearning
ATTACH;FMTTYPE=image/png:https://studentaffairs.unc.edu/wp-content/uploads/2026/04/1bf3776f-f043-4620-8829-3344f9140d4418b42974-fc0c-4a81-bdc2-43a706e3f6b7-3.jpg
END:VEVENT
END:VCALENDAR