BEGIN:VCALENDAR
VERSION:2.0
PRODID:-//UNC Student Affairs - ECPv6.15.20//NONSGML v1.0//EN
CALSCALE:GREGORIAN
METHOD:PUBLISH
X-ORIGINAL-URL:https://studentaffairs.unc.edu
X-WR-CALDESC:Events for UNC Student Affairs
REFRESH-INTERVAL;VALUE=DURATION:PT1H
X-Robots-Tag:noindex
X-PUBLISHED-TTL:PT1H
BEGIN:VTIMEZONE
TZID:America/New_York
BEGIN:DAYLIGHT
TZOFFSETFROM:-0500
TZOFFSETTO:-0400
TZNAME:EDT
DTSTART:20250309T070000
END:DAYLIGHT
BEGIN:STANDARD
TZOFFSETFROM:-0400
TZOFFSETTO:-0500
TZNAME:EST
DTSTART:20251102T060000
END:STANDARD
BEGIN:DAYLIGHT
TZOFFSETFROM:-0500
TZOFFSETTO:-0400
TZNAME:EDT
DTSTART:20260308T070000
END:DAYLIGHT
BEGIN:STANDARD
TZOFFSETFROM:-0400
TZOFFSETTO:-0500
TZNAME:EST
DTSTART:20261101T060000
END:STANDARD
BEGIN:DAYLIGHT
TZOFFSETFROM:-0500
TZOFFSETTO:-0400
TZNAME:EDT
DTSTART:20270314T070000
END:DAYLIGHT
BEGIN:STANDARD
TZOFFSETFROM:-0400
TZOFFSETTO:-0500
TZNAME:EST
DTSTART:20271107T060000
END:STANDARD
END:VTIMEZONE
BEGIN:VEVENT
DTSTART;TZID=America/New_York:20260428T130000
DTEND;TZID=America/New_York:20260428T150000
DTSTAMP:20260419T101628
CREATED:20260417T142136Z
LAST-MODIFIED:20260418T142633Z
UID:7403-1777381200-1777388400@studentaffairs.unc.edu
SUMMARY:AI in Research Series – Using AI in Survey Research: Practices and Pitfalls
DESCRIPTION:AI in Research Series – Using AI in Survey Research: Practices and Pitfalls\n\nAI in Research: Driving Innovation Forward\n \nDiscover how artificial intelligence can streamline workflows\, uncover hidden patterns\, and empower breakthroughs in your field. Learn practical applications of AI through Odum Institute AIR series that can revolutionize your research process.\nThis course offers an overview of how AI tools such as large language models (LLMS) can enhance early stages of the survey process\, including item generation\, questionnaire evaluation\, and survey refinement. This session will highlight practical ways LLMs such as ChatGPT and Microsoft Copilot can support researchers while also addressing common pitfalls. Participants will learn best practices for questionnaire design focusing on writing questions\, response option development\, and question ordering. Ideal for researchers seeking to incorporate AI thoughtfully and efficiently during survey development work. The first half of the session will provide structured lecture content\, and the second half will offer time for participants to ask questions and discuss the specific projects they are working on. \nRegistration is required to secure your spot. To learn more and register\, click HERE. \n\n\n\n      From Tuesday\, April 28\, 2026 1:00 PM\n      to 2:00 PM EDT\n      at Online.
URL:https://studentaffairs.unc.edu/event/ai-in-research-series-using-ai-in-survey-research-practices-and-pitfalls/
CATEGORIES:Campus Life Experience,Career Exploration & Development,Civic Engagement, Public Service, & Philanthropy,Lecture,Science & Nature,ThoughtfulLearning
ATTACH;FMTTYPE=image/png:https://studentaffairs.unc.edu/wp-content/uploads/2026/04/99ab2725-10bb-41e6-9c46-c9bf819f0a4051423d33-4816-4a92-a717-d26d660479a8.jpg
END:VEVENT
BEGIN:VEVENT
DTSTART;TZID=America/New_York:20260428T140000
DTEND;TZID=America/New_York:20260428T160000
DTSTAMP:20260419T101628
CREATED:20260417T142232Z
LAST-MODIFIED:20260418T142635Z
UID:7617-1777384800-1777392000@studentaffairs.unc.edu
SUMMARY:Attention on Campus: A Paid Student Focus Group Study
DESCRIPTION:Attention on Campus: A Paid Student Focus Group Study\n\nUNC undergraduates are invited to participate in a paid research study exploring how attention actually unfolds in daily campus life. The study looks at what helps—and what disrupts—students’ ability to feel present\, mentally engaged\, and focused in classes\, study spaces\, campus environments\, and co-curricular activities. Your perspective will directly inform ongoing research on student experience at UNC. \nParticipants will attend one 60-minute focus group with 6–8 other students\, facilitated by trained graduate researchers. The session is a guided but conversational discussion designed to surface honest insight. No preparation is required. Focus groups will be held in a UNC classroom; the specific location will be shared after registration. Participation is open to current undergraduate students who are at least 18 years old. \nMore information here: tarheels.live/attention/student-focus-groups/ \n\n\n\n      From Tuesday\, April 28\, 2026 2:00 PM\n      to 3:00 PM EDT\n      at Location will be shared with registered participants!.
URL:https://studentaffairs.unc.edu/event/attention-on-campus-a-paid-student-focus-group-study-2/
CATEGORIES:Campus Life Experience,Community Building & Social Activities,Self-Awareness, Health & Well-being,ThoughtfulLearning
ATTACH;FMTTYPE=image/png:https://studentaffairs.unc.edu/wp-content/uploads/2026/04/49dd9fc1-41cd-46f5-b171-7f45e446dd38016f479b-cae9-44bf-8108-1bdfc18acc6a.jpg
END:VEVENT
BEGIN:VEVENT
DTSTART;TZID=America/New_York:20260428T153000
DTEND;TZID=America/New_York:20260428T173000
DTSTAMP:20260419T101628
CREATED:20260417T142332Z
LAST-MODIFIED:20260418T142522Z
UID:7833-1777390200-1777397400@studentaffairs.unc.edu
SUMMARY:Write On! Therapeutic Writing Retreat
DESCRIPTION:Write On! Therapeutic Writing Retreat\n\nTake a mindful pause and explore the power of words. Writing can be a simple yet profound way to reduce stress\, process emotions\, and connect more deeply with yourself. During this one-hour retreat\, you’ll experience guided therapeutic writing exercises inspired by the work of J.W. Pennebaker\, Ph.D.\, and J.F. Evans\, Ed.D.\, designed to help you slow down\, reflect\, and release. \nYou’ll be introduced to several styles of therapeutic writing — from expressive and letter-writing to gratitude writing. You will be given writing prompts and your writing will remain private and not shared. Any student – undergraduate\, graduate\, professional\, or post-doc – is welcome to attend. The retreat will begin and close with a meditation. \nWhether you’re curious about how writing can support your wellbeing or just want a calm\, creative space to breathe and reflect\, this retreat is for you. Come with an open mind and a willingness to write your way toward greater clarity and calm. \nRegistrations are limited to 15 people. On the day of the event\, check in at the CAPS front desk on the 3rd floor of Campus Health.  \n\n\n\n      From Tuesday\, April 28\, 2026 3:30 PM\n      to 4:30 PM EDT\n      at CAPS – 3rd Floor.
URL:https://studentaffairs.unc.edu/event/write-on-therapeutic-writing-retreat/
CATEGORIES:Campus Life Experience,Self-Awareness, Health & Well-being,ThoughtfulLearning
ATTACH;FMTTYPE=image/png:https://studentaffairs.unc.edu/wp-content/uploads/2026/04/d5618021-a644-4c58-8051-8294bf22a45e492c0d2a-9e75-41a3-8549-0e2fe0d64495.jpg
END:VEVENT
END:VCALENDAR