BEGIN:VCALENDAR
VERSION:2.0
PRODID:-//UNC Student Affairs - ECPv6.15.20//NONSGML v1.0//EN
CALSCALE:GREGORIAN
METHOD:PUBLISH
X-WR-CALNAME:UNC Student Affairs
X-ORIGINAL-URL:https://studentaffairs.unc.edu
X-WR-CALDESC:Events for UNC Student Affairs
REFRESH-INTERVAL;VALUE=DURATION:PT1H
X-Robots-Tag:noindex
X-PUBLISHED-TTL:PT1H
BEGIN:VTIMEZONE
TZID:America/New_York
BEGIN:DAYLIGHT
TZOFFSETFROM:-0500
TZOFFSETTO:-0400
TZNAME:EDT
DTSTART:20250309T070000
END:DAYLIGHT
BEGIN:STANDARD
TZOFFSETFROM:-0400
TZOFFSETTO:-0500
TZNAME:EST
DTSTART:20251102T060000
END:STANDARD
BEGIN:DAYLIGHT
TZOFFSETFROM:-0500
TZOFFSETTO:-0400
TZNAME:EDT
DTSTART:20260308T070000
END:DAYLIGHT
BEGIN:STANDARD
TZOFFSETFROM:-0400
TZOFFSETTO:-0500
TZNAME:EST
DTSTART:20261101T060000
END:STANDARD
BEGIN:DAYLIGHT
TZOFFSETFROM:-0500
TZOFFSETTO:-0400
TZNAME:EDT
DTSTART:20270314T070000
END:DAYLIGHT
BEGIN:STANDARD
TZOFFSETFROM:-0400
TZOFFSETTO:-0500
TZNAME:EST
DTSTART:20271107T060000
END:STANDARD
END:VTIMEZONE
BEGIN:VEVENT
DTSTART;TZID=America/New_York:20260423T180000
DTEND;TZID=America/New_York:20260423T200000
DTSTAMP:20260419T093628
CREATED:20260417T142248Z
LAST-MODIFIED:20260418T142651Z
UID:7679-1776967200-1776974400@studentaffairs.unc.edu
SUMMARY:Thursday Night Program
DESCRIPTION:Thursday Night Program\n\nJoin us for dinner and fellowship from 6-7 and music and theological discussion from 7-8 at 110 Henderson St! We are a queer-affirming ministry and we welcome people from all backgrounds\, Presbyterian or otherwise. Follow us on Instagram @pcm_chapelhill for more information!  \n\n\n\n      From Thursday\, April 23\, 2026 6:00 PM\n      to 8:00 PM EDT\n      at PCM.
URL:https://studentaffairs.unc.edu/event/thursday-night-program/
CATEGORIES:Religious & Spiritual,Spirituality
ATTACH;FMTTYPE=image/png:https://studentaffairs.unc.edu/wp-content/uploads/2026/04/53b35330-76f4-47c5-8741-eeda07411a7996a630be-82d7-47c3-a0b6-3b05f6d9bbc6.jpg
END:VEVENT
BEGIN:VEVENT
DTSTART;TZID=America/New_York:20260423T190000
DTEND;TZID=America/New_York:20260423T210000
DTSTAMP:20260419T093628
CREATED:20260417T142212Z
LAST-MODIFIED:20260418T142650Z
UID:7539-1776970800-1776978000@studentaffairs.unc.edu
SUMMARY:Bible Study with Agapé Campus Ministry
DESCRIPTION:Bible Study with Agapé Campus Ministry\n\nWe invite you to join us as we study God’s word\, pray and fellowship together. We look forward to being refreshed in God’s love and power together! \n\n\n\n      From Thursday\, April 23\, 2026 7:00 PM\n      to 8:00 PM EDT\n      at Frank Porter Graham Student Union Room 2511.
URL:https://studentaffairs.unc.edu/event/bible-study-with-agape-campus-ministry/
CATEGORIES:Religious & Spiritual,Spirituality
END:VEVENT
BEGIN:VEVENT
DTSTART;TZID=America/New_York:20260423T190000
DTEND;TZID=America/New_York:20260423T210000
DTSTAMP:20260419T093628
CREATED:20260417T142253Z
LAST-MODIFIED:20260418T142525Z
UID:7695-1776970800-1776978000@studentaffairs.unc.edu
SUMMARY:Thursday Life Group
DESCRIPTION:Thursday Life Group \n\nGather with other students for prayer\, fellowship\, and Bible study. Snacks are provided! \n\n\n\n      From Thursday\, April 23\, 2026 7:00 PM\n      to 9:00 PM EDT\n      at Union 2502 .
URL:https://studentaffairs.unc.edu/event/thursday-life-group/
CATEGORIES:Community Building & Social Activities,Religious & Spiritual,Spirituality
ATTACH;FMTTYPE=image/png:https://studentaffairs.unc.edu/wp-content/uploads/2026/04/29c57295-489c-4161-9adb-59d0e47a110fbe3623bb-45a7-4d87-8de0-864870184093.jpg
END:VEVENT
BEGIN:VEVENT
DTSTART;TZID=America/New_York:20260423T193000
DTEND;TZID=America/New_York:20260423T213000
DTSTAMP:20260419T093628
CREATED:20260417T142154Z
LAST-MODIFIED:20260418T142604Z
UID:7474-1776972600-1776979800@studentaffairs.unc.edu
SUMMARY:ENC Large Group
DESCRIPTION:ENC Large Group\n\n\n\n  \nYou’re invited to join us Thursday nights with Every Nation Campus! \n  \nWhether you’re new to campus or just looking for a place to belong\, come hang out with us! We’ll have games\, a short message to encourage you\, and plenty of time to connect and build real friendships. It’s a place to grow\, be encouraged\, and share life together. \n  \n\n\n\n\n\n      From Thursday\, April 23\, 2026 7:30 PM\n      to 9:00 PM EDT\n      at Chapman 125.
URL:https://studentaffairs.unc.edu/event/enc-large-group/
CATEGORIES:Community Building & Social Activities,Religious & Spiritual,Spirituality
ATTACH;FMTTYPE=image/png:https://studentaffairs.unc.edu/wp-content/uploads/2026/04/13f49c1e-37f8-4508-9caa-0030067ff5bc443928c7-9c2e-432b-a9aa-6ed6a9177277.jpg
END:VEVENT
BEGIN:VEVENT
DTSTART;TZID=America/New_York:20260423T193000
DTEND;TZID=America/New_York:20260423T213000
DTSTAMP:20260419T093628
CREATED:20260417T142213Z
LAST-MODIFIED:20260418T142603Z
UID:7545-1776972600-1776979800@studentaffairs.unc.edu
SUMMARY:Cru Large Group
DESCRIPTION:Cru Large Group\n\nJoin us on Thursday nights at 7:30 p.m! You can find us in Fetzer Rm 109 (right across the street from Bojangles and the Student Union) starting the first week of class! Cru’s Large Group is our weekly time to gather as a community. Together\, we engage in musical worship\, find out what’s happening throughout the ministry\, and hear a message from one of our staff. This is also a place where you can meet other students who are looking to invest in their spiritual growth and connect with one of our staff members. \n\n\n\n      From Thursday\, April 23\, 2026 7:30 PM\n      to 9:00 PM EDT\n      at Fetzer 109.
URL:https://studentaffairs.unc.edu/event/cru-large-group/
CATEGORIES:Community Building & Social Activities,Religious & Spiritual,Spirituality
ATTACH;FMTTYPE=image/png:https://studentaffairs.unc.edu/wp-content/uploads/2026/04/d62c1b6a-c9a3-4c51-9235-97cd785bc278df30f0cf-3b5a-4bdc-9f60-0155d4e3a259.jpg
END:VEVENT
BEGIN:VEVENT
DTSTART;TZID=America/New_York:20260426T110000
DTEND;TZID=America/New_York:20260426T130000
DTSTAMP:20260419T093628
CREATED:20260417T142316Z
LAST-MODIFIED:20260418T142546Z
UID:7776-1777201200-1777208400@studentaffairs.unc.edu
SUMMARY:Student Sundays Worship and Lunch
DESCRIPTION:Student Sundays Worship and Lunch\n\nJoin us after worship at University Baptist Church every Sunday where there is class the next day for a time of food and fellowship. Lunch is freely provided by a member of the church congregation. We look forward to seeing everyone! \n  \nWorship: 11:00am-12:00pm \nLunch: 12:00pm-1:00pm \n\n\n\n      From Sunday\, April 26\, 2026 11:00 AM\n      to 1:00 PM EDT\n      at University Baptist Church.
URL:https://studentaffairs.unc.edu/event/student-sundays-worship-and-lunch-2/
CATEGORIES:Religious & Spiritual,Spirituality
ATTACH;FMTTYPE=image/png:https://studentaffairs.unc.edu/wp-content/uploads/2026/04/f3d4c779-ecac-4459-815c-8af35e3f29965f33f5a3-2054-4812-b8f2-3a58a45556aa-1.jpg
END:VEVENT
BEGIN:VEVENT
DTSTART;TZID=America/New_York:20260426T113000
DTEND;TZID=America/New_York:20260426T133000
DTSTAMP:20260419T093628
CREATED:20260417T142159Z
LAST-MODIFIED:20260418T142622Z
UID:7494-1777203000-1777210200@studentaffairs.unc.edu
SUMMARY:Sunday Worship Celebration with Agapé Campus Ministry
DESCRIPTION:Sunday Worship Celebration with Agapé Campus Ministry\n\nCome worship with us! We meet for rides in front of the Union (across the street from the bus stop) at 11:10am. Please rsvp if you plan to join us so we can make sure you have a spot! \n\n\n\n      From Sunday\, April 26\, 2026 11:30 AM\n      to 1:00 PM EDT\n      at Agapé Harvest Church Ministry Center.
URL:https://studentaffairs.unc.edu/event/sunday-worship-celebration-with-agape-campus-ministry/
CATEGORIES:Religious & Spiritual,Spirituality
END:VEVENT
BEGIN:VEVENT
DTSTART;TZID=America/New_York:20260426T183000
DTEND;TZID=America/New_York:20260426T203000
DTSTAMP:20260419T093628
CREATED:20260417T142225Z
LAST-MODIFIED:20260418T142625Z
UID:7593-1777228200-1777235400@studentaffairs.unc.edu
SUMMARY:Dinner & Worship
DESCRIPTION:Dinner & Worship\n\nCome take part in this student-led Christian worship service (almost) every Sunday night of the semester! \nThe night starts with a FREE dinner at 6:30 PM (gluten-free and vegan options provided\, and let us know if you have other dietary needs).  Then\, around 7:30 PM\, the worship service starts\, featuring music from our student praise band\, prayer\, small group discussion\, activities\, Holy Communion\, and a sermon\, by either our staff or a student.  We mix it up a little each week. \nDinner is in Fellowship Hall in the Basement.  Worship is on the Ground Floor.  We’ll have signs out to help you find it! \nPlus\, there are plenty of ways to get involved if you would like to play\, sing\, or help lead the service!  Or\, you can simply come and participate!  Whatever your spirit needs! \nYou can learn more about UNC Wesley or sign-up for our e-mails at uncwesley.org. \n\n\n\n      From Sunday\, April 26\, 2026 6:30 PM\n      to 8:30 PM EDT\n      at University United Methodist Church.
URL:https://studentaffairs.unc.edu/event/dinner-worship/
CATEGORIES:Religious & Spiritual,Spirituality
ATTACH;FMTTYPE=image/png:https://studentaffairs.unc.edu/wp-content/uploads/2026/04/24882f9d-c9cd-4c40-b002-e9ad69f9ab3ce5682099-eb24-4c61-bb6e-aa1a0fa45ddf.jpg
END:VEVENT
BEGIN:VEVENT
DTSTART;TZID=America/New_York:20260427T190000
DTEND;TZID=America/New_York:20260427T210000
DTSTAMP:20260419T093628
CREATED:20260417T142229Z
LAST-MODIFIED:20260418T142630Z
UID:7605-1777316400-1777323600@studentaffairs.unc.edu
SUMMARY:Mindful Meditation by Bhakti Yoga Club of UNC Chapel Hill
DESCRIPTION:Mindful Meditation by Bhakti Yoga Club of UNC Chapel Hill\n\nMindful meditation is a key practice of Bhakti Yoga. Original Yoga practices were made to help one control their thoughts and actions through raising awareness and self-regulation. Yoga from ancient India was originally meant for the mind before it was popularized as a physical activity. The UNC Bhakti Yoga club is working to help students experience these same fulfilling feelings through mindful meditation. \nThe Bhakti Yoga Club is committed to creating a stress-relieving and welcoming environment. Free vegan treats will be provided to session participants. All are welcome! \nThe main session runs from 7-8 P.M. Participants are welcome to stay (from 8-8:30 P.M.) after the main session\, to enjoy some snacks and interact with other participants. \nNotes: \nYou do not need to RSVP to attend! We only use the RSVP headcount as an estimate so we know how much food to bring (+ so we can have extras for everyone). \nYou do not need a yoga mat (this is not physical exercise). You are welcome to stay as long as you like during the sessions. You also do not need to have attended previous sessions to show up to an upcoming one. Feel free to come and see how you feel. \n\n\n\n      From Monday\, April 27\, 2026 7:00 PM\n      to 8:00 PM EDT\n      at Student Union #3407.
URL:https://studentaffairs.unc.edu/event/mindful-meditation-by-bhakti-yoga-club-of-unc-chapel-hill/
CATEGORIES:Religious & Spiritual,Science & Nature,Self-Awareness, Health & Well-being,Spirituality
ATTACH;FMTTYPE=image/png:https://studentaffairs.unc.edu/wp-content/uploads/2026/04/0d920090-905f-411b-85dd-d719ec7c5be4b83e17be-f84e-4621-a29e-220e4d6419c3.jpg
END:VEVENT
BEGIN:VEVENT
DTSTART;TZID=America/New_York:20260427T190000
DTEND;TZID=America/New_York:20260427T210000
DTSTAMP:20260419T093628
CREATED:20260417T142325Z
LAST-MODIFIED:20260418T142549Z
UID:7807-1777316400-1777323600@studentaffairs.unc.edu
SUMMARY:Weekly Bible Study
DESCRIPTION:Weekly Bible Study\n\nJoin us for our weekly Monday Bible Study! \n\n\n\n      From Monday\, April 27\, 2026 7:00 PM\n      to 8:00 PM EDT\n      at Carolina Union Room 3409.
URL:https://studentaffairs.unc.edu/event/weekly-bible-study-2/
CATEGORIES:Religious & Spiritual,Spirituality
ATTACH;FMTTYPE=image/png:https://studentaffairs.unc.edu/wp-content/uploads/2026/04/cf8c44b4-8bd2-4f16-96af-88a5b0b470bfc08151ce-edb8-43f6-ab23-4245a5951a0c-1.jpg
END:VEVENT
BEGIN:VEVENT
DTSTART;TZID=America/New_York:20260427T190000
DTEND;TZID=America/New_York:20260427T210000
DTSTAMP:20260419T093628
CREATED:20260417T142326Z
LAST-MODIFIED:20260418T142532Z
UID:7811-1777316400-1777323600@studentaffairs.unc.edu
SUMMARY:CCF Connect Group
DESCRIPTION:CCF Connect Group\n\n  \nConnect Groups are our weekly small group Bible studies. \nConnect Groups are CCF’s small group gatherings where students live life together with purpose — studying Scripture\, serving others\, sharing meals\, and supporting each other through prayer and encouragement. These groups are designed for intentional discipleship\, creating space for students to grow spiritually and relationally in a close-knit community. \nEach Connect Group dives deep into a specific section of the Bible\, engaging in meaningful discussion and asking honest questions. Our goal is to journey through the entire Bible over four years\, giving students a holistic understanding of Scripture during their time at Carolina. \nIn addition to Bible study\, Connect Groups include time to check in with one another\, share how the week is going\, and create a prayer list for each member. We pray together during group meetings and encourage students to continue praying and caring for each other throughout the week. Whether through game nights\, service projects\, or spontaneous get-togethers\, Connect Groups become a family where students are known\, encouraged\, and challenged to follow Jesus daily. \nAt the heart of Connect Groups is CCF’s mission: to make disciples on campus who impact the world. These groups are where that mission comes to life — as students learn to follow Jesus together\, grow in maturity\, and carry the gospel into every part of their lives. \n\n\n\n      From Monday\, April 27\, 2026 7:00 PM\n      to 8:00 PM EDT\n      at Carolina Union 2502.
URL:https://studentaffairs.unc.edu/event/ccf-connect-group-2/
CATEGORIES:Religious & Spiritual,Spirituality
ATTACH;FMTTYPE=image/png:https://studentaffairs.unc.edu/wp-content/uploads/2026/04/7ec4426c-d8f2-4368-9320-fb75025a65715ac002e5-981c-49a8-ad21-e567dfe1da53-1.jpg
END:VEVENT
BEGIN:VEVENT
DTSTART;TZID=America/New_York:20260428T123000
DTEND;TZID=America/New_York:20260428T143000
DTSTAMP:20260419T093628
CREATED:20260417T142330Z
LAST-MODIFIED:20260418T142533Z
UID:7825-1777379400-1777386600@studentaffairs.unc.edu
SUMMARY:Settling the Mind: A Meditation Workshop
DESCRIPTION:Settling the Mind: A Meditation Workshop\n\nWhen the mind’s usual distracting thoughts are allowed to settle through meditation\, a feeling of peace and clarity naturally arises. Join us for an hour of explanation and guided practice of Buddhist meditation\, followed by informal conversation over free lunch. \nThis workshop will be led by Kadam Ethan Lechner\, Resident Teacher of Chapel Hill’s Kosala Kadampa Buddhist Center. It has been made possible by the sponsorship of UNC’s Educating for the Virtues of Attention initiative. \n  \n\n\n\n      From Tuesday\, April 28\, 2026 12:30 PM\n      to 2:00 PM EDT\n      at Graham Memorial Lounge.
URL:https://studentaffairs.unc.edu/event/settling-the-mind-a-meditation-workshop/
CATEGORIES:Campus Life Experience,Culture & Identity,Religious & Spiritual,Self-Awareness, Health & Well-being,Spirituality
ATTACH;FMTTYPE=image/png:https://studentaffairs.unc.edu/wp-content/uploads/2026/04/6f44224c-bdec-450e-8a04-edf92267997ed0d27fed-a48c-48e0-a17b-1bc852e153d1.jpg
END:VEVENT
BEGIN:VEVENT
DTSTART;TZID=America/New_York:20260503T110000
DTEND;TZID=America/New_York:20260503T130000
DTSTAMP:20260419T093628
CREATED:20260417T142142Z
LAST-MODIFIED:20260418T142557Z
UID:7426-1777806000-1777813200@studentaffairs.unc.edu
SUMMARY:A2F Sunday Service
DESCRIPTION:A2F Sunday Service\n\nJoin us for Sunday Service at Alston Ridge elementary in Cary at 11:00 AM!  \nFree lunch after\, rides available (if you need a ride\, fill out this form!).  \n  \n\n\n\n      From Sunday\, May 3\, 2026 11:00 AM\n      to 1:00 PM EDT\n      at Alston Ridge Elementary.
URL:https://studentaffairs.unc.edu/event/a2f-sunday-service/
CATEGORIES:Religious & Spiritual,Spirituality
ATTACH;FMTTYPE=image/png:https://studentaffairs.unc.edu/wp-content/uploads/2026/04/8a54073a-0839-4438-a782-8f61a3509c3471c613f9-b835-4ffa-a18d-331f0afb2ec7.jpg
END:VEVENT
BEGIN:VEVENT
DTSTART;TZID=America/New_York:20260503T113000
DTEND;TZID=America/New_York:20260503T133000
DTSTAMP:20260419T093628
CREATED:20260417T142347Z
LAST-MODIFIED:20260418T142646Z
UID:7886-1777807800-1777815000@studentaffairs.unc.edu
SUMMARY:Sunday Worship Celebration with Agapé Campus Ministry
DESCRIPTION:Sunday Worship Celebration with Agapé Campus Ministry\n\nCome worship with us! We meet for rides in front of the Union (across the street from the bus stop) at 11:10am. Please rsvp if you plan to join us so we can make sure you have a spot! \n\n\n\n      From Sunday\, May 3\, 2026 11:30 AM\n      to 1:00 PM EDT\n      at Agapé Harvest Church Ministry Center.
URL:https://studentaffairs.unc.edu/event/sunday-worship-celebration-with-agape-campus-ministry-3/
CATEGORIES:Religious & Spiritual,Spirituality
END:VEVENT
BEGIN:VEVENT
DTSTART;TZID=America/New_York:20260503T183000
DTEND;TZID=America/New_York:20260503T203000
DTSTAMP:20260419T093628
CREATED:20260417T142240Z
LAST-MODIFIED:20260418T142524Z
UID:7646-1777833000-1777840200@studentaffairs.unc.edu
SUMMARY:Dinner & Devo
DESCRIPTION:Dinner & Devo\n\n–Like Dinner and Worship\, but finals edition.  It’s your perfect Spiritual study break! \nThe night starts with a FREE dinner at 6:30 PM in the Wesley Building (201 E. Rosemary St\, gluten-free and vegan options provided\, and let us know if you have other dietary needs)\, then we’ll head over to the sanctuary of University UMC to sing Christmas Carols at 7:30 PM (150 E. Franklin St). \nYou can learn more about UNC Wesley or sign-up for our e-mails at uncwesley.org. \n\n\n\n      From Sunday\, May 3\, 2026 6:30 PM\n      to 8:30 PM EDT\n      at Wesley Building.
URL:https://studentaffairs.unc.edu/event/dinner-devo/
CATEGORIES:Religious & Spiritual,Spirituality
ATTACH;FMTTYPE=image/png:https://studentaffairs.unc.edu/wp-content/uploads/2026/04/c24ea9be-dc09-41f6-909b-1fd63b8803d416b87141-40c4-4964-a845-11fc27f341ec.jpg
END:VEVENT
END:VCALENDAR