BEGIN:VCALENDAR
VERSION:2.0
PRODID:-//UNC Student Affairs - ECPv6.15.20//NONSGML v1.0//EN
CALSCALE:GREGORIAN
METHOD:PUBLISH
X-ORIGINAL-URL:https://studentaffairs.unc.edu
X-WR-CALDESC:Events for UNC Student Affairs
REFRESH-INTERVAL;VALUE=DURATION:PT1H
X-Robots-Tag:noindex
X-PUBLISHED-TTL:PT1H
BEGIN:VTIMEZONE
TZID:America/New_York
BEGIN:DAYLIGHT
TZOFFSETFROM:-0500
TZOFFSETTO:-0400
TZNAME:EDT
DTSTART:20250309T070000
END:DAYLIGHT
BEGIN:STANDARD
TZOFFSETFROM:-0400
TZOFFSETTO:-0500
TZNAME:EST
DTSTART:20251102T060000
END:STANDARD
BEGIN:DAYLIGHT
TZOFFSETFROM:-0500
TZOFFSETTO:-0400
TZNAME:EDT
DTSTART:20260308T070000
END:DAYLIGHT
BEGIN:STANDARD
TZOFFSETFROM:-0400
TZOFFSETTO:-0500
TZNAME:EST
DTSTART:20261101T060000
END:STANDARD
BEGIN:DAYLIGHT
TZOFFSETFROM:-0500
TZOFFSETTO:-0400
TZNAME:EDT
DTSTART:20270314T070000
END:DAYLIGHT
BEGIN:STANDARD
TZOFFSETFROM:-0400
TZOFFSETTO:-0500
TZNAME:EST
DTSTART:20271107T060000
END:STANDARD
END:VTIMEZONE
BEGIN:VEVENT
DTSTART;TZID=America/New_York:20260425T100000
DTEND;TZID=America/New_York:20260425T120000
DTSTAMP:20260419T101957
CREATED:20260417T142221Z
LAST-MODIFIED:20260418T142617Z
UID:7576-1777111200-1777118400@studentaffairs.unc.edu
SUMMARY:Allied Health Career Expo
DESCRIPTION:Allied Health Career Expo\n\nJoin us for our Allied Health Career Expo\, an exciting in-person event that offers the opportunity for you to explore career opportunities and meet hiring managers within the allied health field. \n\nExplore a wide range of job openings and career paths within the allied health sector\nMeet allied health leaders from across the system and learn about their journey in health care\nEngage with fellow professionals and expand your network\nGain insights into ECU Health’s mission\, vision\, values and commitment to patient centered care\n\n  \nRegister: https://wkf.ms/47eoJs0  \nNetwork with allied health professionals from across the region and participate in educational sessions to learn more about various career areas. \n  \n\nLaboratory\nRehabilitation\nPharmacy\nRespiratory Therapy\nRadiology/Imaging\nSurgical Technology\n\nLearn more about this event by visiting our website. \n\n\n\n      From Saturday\, April 25\, 2026 10:00 AM\n      to 2:00 PM EDT\n      at East Carolina Heart Institute.
URL:https://studentaffairs.unc.edu/event/allied-health-career-expo/
LOCATION: East Carolina Heart Institute\, 115 Heart Drive\, Greenville\, NC 27834
CATEGORIES:Career Exploration & Development,Civic Engagement, Public Service, & Philanthropy,Community Building & Social Activities,Graduate & Professional Student Program,Leadership Development,Social
ATTACH;FMTTYPE=image/png:https://studentaffairs.unc.edu/wp-content/uploads/2026/04/2a4c251a-0204-40b2-bc57-758b4e9be596c7b0d8fd-9915-4f97-a160-e03cbb50c558.jpg
END:VEVENT
BEGIN:VEVENT
DTSTART;TZID=America/New_York:20260425T100000
DTEND;TZID=America/New_York:20260425T120000
DTSTAMP:20260419T101957
CREATED:20260417T142310Z
LAST-MODIFIED:20260418T142544Z
UID:7756-1777111200-1777118400@studentaffairs.unc.edu
SUMMARY:ECU Health Allied Health Career Expo (Cancelled)
DESCRIPTION:ECU Health Allied Health Career Expo\n\nJoin us for our Allied Health Career Expo\, an exciting in-person event that offers the opportunity for you to explore career opportunities and meet hiring managers within the allied health field. \n\nExplore a wide range of job openings and career paths within the allied health sector\nMeet allied health leaders from across the system and learn about their journey in health care\nEngage with fellow professionals and expand your network\nGain insights into ECU Health’s mission\, vision\, values and commitment to patient centered care\n\n  \nRegister: https://wkf.ms/47eoJs0  \nNetwork with allied health professionals from across the region and participate in educational sessions to learn more about various career areas. \n  \n\nLaboratory\nRehabilitation\nPharmacy\nRespiratory Therapy\nRadiology/Imaging\nSurgical Technology\n\n  \nLearn more about this event by visiting our website. \n\n\n\n      From Saturday\, April 25\, 2026 10:00 AM\n      to 2:00 PM EDT\n      at East Carolina Heart Institute.
URL:https://studentaffairs.unc.edu/event/ecu-health-allied-health-career-expo-cancelled/
LOCATION: East Carolina Heart Institute\, 115 Heart Drive\, Greenville\, NC 27834
CATEGORIES:Career Exploration & Development,Civic Engagement, Public Service, & Philanthropy,Community Building & Social Activities,Graduate & Professional Student Program,Leadership Development,Social
ATTACH;FMTTYPE=image/png:https://studentaffairs.unc.edu/wp-content/uploads/2026/04/4a7b972e-cc2e-4fa7-abea-32798da9f34f3b240c6d-5d93-4949-97a2-60324c4b1899.jpg
END:VEVENT
BEGIN:VEVENT
DTSTART;TZID=America/New_York:20260425T120000
DTEND;TZID=America/New_York:20260425T140000
DTSTAMP:20260419T101957
CREATED:20260417T142315Z
LAST-MODIFIED:20260418T142521Z
UID:7772-1777118400-1777125600@studentaffairs.unc.edu
SUMMARY:Weekly Board Game Night
DESCRIPTION:Weekly Board Game Night\n\n\n\nLooking to de-stress after a long week of classes? Come join us for a night of board games! Bring your favorite game and a friend\, or just yourself! Open to all UNC students and faculty. \n\n\n \n \n\n\n\n      From Saturday\, April 25\, 2026 12:00 PM\n      to 10:00 PM EDT\n      at Greenlaw 304.
URL:https://studentaffairs.unc.edu/event/weekly-board-game-night-2/
CATEGORIES:Carolina After Dark,Community Building & Social Activities,Social
ATTACH;FMTTYPE=image/png:https://studentaffairs.unc.edu/wp-content/uploads/2026/04/3ff8be26-1e8c-4c67-ae26-6495fa53c95ab3986ceb-98e0-4832-8d44-55b8c27c0c9a-1.jpg
END:VEVENT
BEGIN:VEVENT
DTSTART;TZID=America/New_York:20260427T163000
DTEND;TZID=America/New_York:20260427T183000
DTSTAMP:20260419T101957
CREATED:20260417T142324Z
LAST-MODIFIED:20260418T142522Z
UID:7804-1777307400-1777314600@studentaffairs.unc.edu
SUMMARY:KS End of Year Celebration
DESCRIPTION:KS End of Year Celebration\n\nJoin us as we celebrate our graduating Kessler Scholars:) \n\n\n\n      From Monday\, April 27\, 2026 4:30 PM\n      to 7:00 PM EDT\n      at The Junction (TBD Room).
URL:https://studentaffairs.unc.edu/event/ks-end-of-year-celebration/
CATEGORIES:Campus Life Experience,Social
END:VEVENT
BEGIN:VEVENT
DTSTART;TZID=America/New_York:20260427T173000
DTEND;TZID=America/New_York:20260427T193000
DTSTAMP:20260419T101958
CREATED:20260417T142228Z
LAST-MODIFIED:20260418T142628Z
UID:7601-1777311000-1777318200@studentaffairs.unc.edu
SUMMARY:Carolina Recovery: Weekly Process Group
DESCRIPTION:Carolina Recovery: Weekly Process Group\n\n\nThis is a mutual-support group facilitated by Student Wellness staff for students in\, seeking\, or curious about recovery. Please reach out here or email recovery@unc.edu if you’re interested in joining or want to ask about other substance use resources! \nOur support group goals are the following: \n\nCommunity support: Helping students foster peer support networks; presenting safe and attainable space for students to be honest with themselves and others about struggles and achievements; prioritizing facilitation over leading the group (students become leading participants); reminding students to look for similarities across seemingly different lived experiences. Focus on diversifying and making recovery spaces as inclusive as possible through an intersectional lens.  \nRecovery capital: Acknowledging students’ skills and strengths; discussing and specifying goals and areas of improvement; planning actionable objectives; and recognizing the value of being where our feet are now. Each month\, we will incorporate skills for managing stress and triggers and clarify student values that may positively impact recovery.  \nEmpowerment: Encouraging students to share their experiences and utilize their agency for recovery\, academics\, interpersonal relationships\, and the other eight dimensions of wellness. Prioritizing strategies to build students’ resiliency through topics and themes they can apply throughout adulthood. \n\n**Please note that this space is exclusively for people in or seeking recovery and is NOT open to observers or for educational purposes.  \n\n\n\n\n      From Monday\, April 27\, 2026 5:30 PM\n      to 6:30 PM EDT\n      at Student Wellness.
URL:https://studentaffairs.unc.edu/event/carolina-recovery-weekly-process-group/
CATEGORIES:Graduate & Professional Student Program,Self-Awareness, Health & Well-being,Social
ATTACH;FMTTYPE=image/png:https://studentaffairs.unc.edu/wp-content/uploads/2026/04/1988db2a-1568-4952-8e23-2e2268ece36a3a24bfc8-31d1-4be9-8e30-53fb89d04737.jpg
END:VEVENT
BEGIN:VEVENT
DTSTART;TZID=America/New_York:20260427T180000
DTEND;TZID=America/New_York:20260427T200000
DTSTAMP:20260419T101958
CREATED:20260417T142201Z
LAST-MODIFIED:20260418T142629Z
UID:7501-1777312800-1777320000@studentaffairs.unc.edu
SUMMARY:Guest Speaker Event with Olandria Carthen
DESCRIPTION:Guest Speaker Event with Olandria Carthen \n\nJoin us as we welcome Olandria Carthen   \nCome hear her story as she shares her journey beyond reality TV\, including navigating life in the spotlight\, building her brand\, and staying true to herself along the way. \nTickets will be announced soon & are first come first served! \n\n\n\n      From Monday\, April 27\, 2026 6:00 PM\n      to 7:30 PM EDT\n      at Carolina Union .
URL:https://studentaffairs.unc.edu/event/guest-speaker-event-with-olandria-carthen/
CATEGORIES:CUAB,Social
ATTACH;FMTTYPE=image/png:https://studentaffairs.unc.edu/wp-content/uploads/2026/04/ce576830-d205-4c53-9d7c-5349e8edc327f67fa910-eb7c-4635-8cc9-ee1e439e8b27.jpg
END:VEVENT
BEGIN:VEVENT
DTSTART;TZID=America/New_York:20260427T180000
DTEND;TZID=America/New_York:20260427T200000
DTSTAMP:20260419T101958
CREATED:20260417T142327Z
LAST-MODIFIED:20260418T142550Z
UID:7815-1777312800-1777320000@studentaffairs.unc.edu
SUMMARY:RHA Carnival
DESCRIPTION:RHA Carnival\n\nCelebrate the end of the year at RHA Carnival on LDOC! \nWe will have FREE catering from Locopops\, Wings Over\, and Wegmans Pizza! \nA Photo booth with prints to capture fun moments with friends. \nWe’re collaborating with UNC Student Wellness to inform students on alcohol and other drug education and risk reduction.  \n\n\n\n      From Monday\, April 27\, 2026 6:00 PM\n      to 8:00 PM EDT\n      at Upper Quads Area.
URL:https://studentaffairs.unc.edu/event/rha-carnival/
CATEGORIES:Residence Hall Programming,Social
ATTACH;FMTTYPE=image/png:https://studentaffairs.unc.edu/wp-content/uploads/2026/04/e592c60a-eafc-4dcc-93d7-3440eb5cba8178a8930c-1c61-4d1a-a0bf-40297f62e676.jpg
END:VEVENT
BEGIN:VEVENT
DTSTART;TZID=America/New_York:20260428T100000
DTEND;TZID=America/New_York:20260428T120000
DTSTAMP:20260419T101958
CREATED:20260417T142329Z
LAST-MODIFIED:20260418T142551Z
UID:7821-1777370400-1777377600@studentaffairs.unc.edu
SUMMARY:Coffee Break at Sloane Art Library
DESCRIPTION:Coffee Break at Sloane Art Library\n\nNeed a pick-me-up to prep for finals? Have a cup of coffee on us!  \nWhen: Tuesday\, April 28 from 10am to 12pm \nWhere: Sloane Art Library \n\n\n\n      From Tuesday\, April 28\, 2026 10:00 AM\n      to 12:00 PM EDT\n      at Sloane Art Library.
URL:https://studentaffairs.unc.edu/event/coffee-break-at-sloane-art-library/
CATEGORIES:Community Building & Social Activities,LDOC,Social
ATTACH;FMTTYPE=image/png:https://studentaffairs.unc.edu/wp-content/uploads/2026/04/6c380209-060a-4f7a-baae-c90cbd4a085af123b73b-bb0c-4aa0-bec7-5a7d7d3a7a74.jpg
END:VEVENT
BEGIN:VEVENT
DTSTART;TZID=America/New_York:20260428T120000
DTEND;TZID=America/New_York:20260428T140000
DTSTAMP:20260419T101958
CREATED:20260417T142231Z
LAST-MODIFIED:20260418T142633Z
UID:7613-1777377600-1777384800@studentaffairs.unc.edu
SUMMARY:Razzle the Therapy Dog at Davis Library
DESCRIPTION:Razzle the Therapy Dog at Davis Library\n\nTake a break and unwind with Razzle\, the therapy dog!  \n\n\n\n      From Tuesday\, April 28\, 2026 12:00 PM\n      to 1:30 PM EDT\n      at Davis Library.
URL:https://studentaffairs.unc.edu/event/razzle-the-therapy-dog-at-davis-library/
CATEGORIES:Community Building & Social Activities,LDOC,Social
ATTACH;FMTTYPE=image/png:https://studentaffairs.unc.edu/wp-content/uploads/2026/04/44686fa6-b189-40cc-ac8b-d148e1d8a7a2f8f04d03-cea2-4185-a6b6-20e0c4309da4.jpg
END:VEVENT
BEGIN:VEVENT
DTSTART;TZID=America/New_York:20260428T120000
DTEND;TZID=America/New_York:20260428T140000
DTSTAMP:20260419T101958
CREATED:20260417T142331Z
LAST-MODIFIED:20260418T142551Z
UID:7829-1777377600-1777384800@studentaffairs.unc.edu
SUMMARY:Moxie the Therapy Dog at Wilson Library
DESCRIPTION:Moxie the Therapy Dog at Wilson Library\n\nTake a break and unwind with Moxie\, the therapy dog!  \n\n\n\n      From Tuesday\, April 28\, 2026 12:00 PM\n      to 2:00 PM EDT\n      at Wilson Library.
URL:https://studentaffairs.unc.edu/event/moxie-the-therapy-dog-at-wilson-library/
CATEGORIES:Community Building & Social Activities,LDOC,Social
ATTACH;FMTTYPE=image/png:https://studentaffairs.unc.edu/wp-content/uploads/2026/04/9da6c151-1e19-4517-a574-75162837ed5be934d12c-9530-4bad-a0dd-fd2cba45c6ec.jpg
END:VEVENT
BEGIN:VEVENT
DTSTART;TZID=America/New_York:20260429T110000
DTEND;TZID=America/New_York:20260429T130000
DTSTAMP:20260419T101958
CREATED:20260417T142233Z
LAST-MODIFIED:20260418T142636Z
UID:7621-1777460400-1777467600@studentaffairs.unc.edu
SUMMARY:Bunny Therapy at Health Sciences Library with Breadbox Farm
DESCRIPTION:Bunny Therapy at Health Sciences Library with Breadbox Farm\n\nTherapy bunnies from Breadbox Farm in Chapel Hill will be visiting the Health Science Library! Stop by to cuddle\, pet and hold rabbits to your heart’s content.  \n\n\n\n      From Wednesday\, April 29\, 2026 11:00 AM\n      to 1:00 PM EDT\n      at Health Sciences Library.
URL:https://studentaffairs.unc.edu/event/bunny-therapy-at-health-sciences-library-with-breadbox-farm/
CATEGORIES:Community Building & Social Activities,LDOC,Social
ATTACH;FMTTYPE=image/png:https://studentaffairs.unc.edu/wp-content/uploads/2026/04/4cda1503-a8f5-4e54-be69-7da63746654659fcc708-ea5e-4260-bfd2-3533ec400eed.jpg
END:VEVENT
BEGIN:VEVENT
DTSTART;TZID=America/New_York:20260429T113000
DTEND;TZID=America/New_York:20260429T133000
DTSTAMP:20260419T101958
CREATED:20260417T142334Z
LAST-MODIFIED:20260418T142534Z
UID:7839-1777462200-1777469400@studentaffairs.unc.edu
SUMMARY:Stampede of Love – Edible Campus Gardens behind Davis Library
DESCRIPTION:Stampede of Love – Edible Campus Gardens behind Davis Library\n\nTake a break from finals with miniature therapy horses! \nWhen: Wednesday\, April 29 from 11:30 a.m. to 1:30 p.m. \nWhere: In the Edible Campus garden behind Davis Library \nTherapy horses brought by Stampede of LovePresented in partnership with Edible Campus \n\n\n\n      From Wednesday\, April 29\, 2026 11:30 AM\n      to 1:30 PM EDT\n      at Edible Campus Gardens behind Davis Library.
URL:https://studentaffairs.unc.edu/event/stampede-of-love-edible-campus-gardens-behind-davis-library/
CATEGORIES:Community Building & Social Activities,LDOC,Social
ATTACH;FMTTYPE=image/png:https://studentaffairs.unc.edu/wp-content/uploads/2026/04/ad53a2a7-a0e1-4e74-a393-fe291a27df479202b386-5f83-485a-94a0-189de5e65643.jpg
END:VEVENT
BEGIN:VEVENT
DTSTART;TZID=America/New_York:20260429T150000
DTEND;TZID=America/New_York:20260429T170000
DTSTAMP:20260419T101958
CREATED:20260417T142335Z
LAST-MODIFIED:20260418T142553Z
UID:7843-1777474800-1777482000@studentaffairs.unc.edu
SUMMARY:Teach Vegas: College Edition
DESCRIPTION:Teach Vegas: College Edition\n\nInfo Session\nJoin us virtually for a Teach Vegas Webinar on Wednesday\, April 29\, 2026! Learn about the exciting opportunities and benefits of working in the greater Las Vegas area. We will review how to obtain a teaching license\, support for new teachers\, and advancement opportunities.  \nFeel free to call 702-799-5427 or email recruitment@nv.ccsd.net if you have question. \n\n\n\n      From Wednesday\, April 29\, 2026 3:00 PM\n      to 4:00 PM EDT\n      at Online.
URL:https://studentaffairs.unc.edu/event/teach-vegas-college-edition/
CATEGORIES:Career Exploration & Development,Graduate & Professional Student Program,Leadership Development,Social
ATTACH;FMTTYPE=image/png:https://studentaffairs.unc.edu/wp-content/uploads/2026/04/f6863c92-3221-4636-be73-9f33f685a384be9db98f-3632-4f12-bee7-fef236f66b1e.jpg
END:VEVENT
BEGIN:VEVENT
DTSTART;TZID=America/New_York:20260429T180000
DTEND;TZID=America/New_York:20260429T200000
DTSTAMP:20260419T101958
CREATED:20260417T142205Z
LAST-MODIFIED:20260418T142638Z
UID:7513-1777485600-1777492800@studentaffairs.unc.edu
SUMMARY:Consulting 101 Panel | Be a Kearney Original Webinar
DESCRIPTION:Consulting 101 Panel | Be a Kearney Original Webinar\n\nInfo Session\nCalling all undergraduate students interested in a career in management consulting! \nJoin us for our upcoming virtual Consulting 101 panel on April 29 at 5pm CT. Hear directly from #KearneyOriginals as they share insights on: \n\nOur recruiting process\nWhat it’s really like to work at Kearney\nPractical tips to help kickstart your career\n\nThis webinar is designed for current sophomores interested in summer internship opportunities and juniors exploring full-time roles starting in 2027. \nDon’t miss this opportunity to learn\, ask questions\, and get a closer look at life in consulting. Learn more and register for the webinar here: https://kearney.recsolu.com/app/collect/event/fh8F9-JTxo-rctVhDhvaTQ \n\n\n\n      From Wednesday\, April 29\, 2026 6:00 PM\n      to 6:45 PM EDT\n      at Online.
URL:https://studentaffairs.unc.edu/event/consulting-101-panel-be-a-kearney-original-webinar/
CATEGORIES:Career Exploration & Development,Community Building & Social Activities,Graduate & Professional Student Program,Leadership Development,Social
ATTACH;FMTTYPE=image/png:https://studentaffairs.unc.edu/wp-content/uploads/2026/04/c0b6d0a6-1a45-4b23-af8d-fdb05f9783a6b7472751-8760-418c-8dc3-7ccb6458fa21.jpg
END:VEVENT
BEGIN:VEVENT
DTSTART;TZID=America/New_York:20260429T180000
DTEND;TZID=America/New_York:20260429T200000
DTSTAMP:20260419T101958
CREATED:20260417T142336Z
LAST-MODIFIED:20260418T142514Z
UID:7847-1777485600-1777492800@studentaffairs.unc.edu
SUMMARY:Consulting 101 Panel | Be a Kearney Original Webinar (Cancelled)
DESCRIPTION:Consulting 101 Panel | Be a Kearney Original Webinar\n\nInfo Session\nCalling all undergraduate students interested in a career in management consulting! \nJoin us for our upcoming virtual Consulting 101 panel on April 29 at 5pm CT. Hear directly from #KearneyOriginals as they share insights on: \n\nOur recruiting process\nWhat it’s really like to work at Kearney\nPractical tips to help kickstart your career\n\nThis webinar is designed for current sophomores interested in summer internship opportunities and juniors exploring full-time roles starting in 2027. \nDon’t miss this opportunity to learn\, ask questions\, and get a closer look at life in consulting. Learn more and register for the webinar here: https://kearney.recsolu.com/app/collect/event/fh8F9-JTxo-rctVhDhvaTQ \n\n\n\n      From Wednesday\, April 29\, 2026 6:00 PM\n      to 6:45 PM EDT\n      at Online.
URL:https://studentaffairs.unc.edu/event/consulting-101-panel-be-a-kearney-original-webinar-cancelled/
CATEGORIES:Career Exploration & Development,Community Building & Social Activities,Graduate & Professional Student Program,Leadership Development,Social
ATTACH;FMTTYPE=image/png:https://studentaffairs.unc.edu/wp-content/uploads/2026/04/c0b6d0a6-1a45-4b23-af8d-fdb05f9783a6b7472751-8760-418c-8dc3-7ccb6458fa21-1.jpg
END:VEVENT
BEGIN:VEVENT
DTSTART;TZID=America/New_York:20260430T140000
DTEND;TZID=America/New_York:20260430T160000
DTSTAMP:20260419T101958
CREATED:20260417T142337Z
LAST-MODIFIED:20260418T142553Z
UID:7851-1777557600-1777564800@studentaffairs.unc.edu
SUMMARY:Coffee Break at HSL
DESCRIPTION:Coffee Break at HSL\n\nNeed a pick-me-up to prep for finals? Have a cup of coffee on us!  \nWhen: Thursday\, April 30 from 2pm to 4pm \nWhere: Health Sciences Library \n\n\n\n      From Thursday\, April 30\, 2026 2:00 PM\n      to 4:00 PM EDT\n      at Health Sciences Library.
URL:https://studentaffairs.unc.edu/event/coffee-break-at-hsl/
CATEGORIES:Community Building & Social Activities,LDOC,Social
ATTACH;FMTTYPE=image/png:https://studentaffairs.unc.edu/wp-content/uploads/2026/04/957f22fe-3f96-421a-b22f-a3973dcaddccd8724ae9-4ad2-4fdd-98c9-3d21561cbd32.jpg
END:VEVENT
BEGIN:VEVENT
DTSTART;TZID=America/New_York:20260430T183000
DTEND;TZID=America/New_York:20260430T203000
DTSTAMP:20260419T101958
CREATED:20260417T142135Z
LAST-MODIFIED:20260418T142640Z
UID:7399-1777573800-1777581000@studentaffairs.unc.edu
SUMMARY:Carolina Recovery: Weekly Social
DESCRIPTION:Carolina Recovery: Weekly Social\n\n\nFood and fellowship for people in or seeking recovery from substance use. All pathways of recovery are welcome and supported. \nPlease note that this space is exclusively for people in or seeking recovery and is not open to observers or for educational purposes.  \nContact one of our officers or contact recovery@unc.edu for location and more information. \n\n\n\n\n      From Thursday\, April 30\, 2026 6:30 PM\n      to 7:30 PM EDT\n      at Student Union.
URL:https://studentaffairs.unc.edu/event/carolina-recovery-weekly-social/
CATEGORIES:Community Building & Social Activities,Self-Awareness, Health & Well-being,Social
ATTACH;FMTTYPE=image/png:https://studentaffairs.unc.edu/wp-content/uploads/2026/04/b7508ce6-d3be-42d7-8a9b-46ac83e24a865147d8c0-69a8-4552-b9d9-37a7ead0f722.jpg
END:VEVENT
BEGIN:VEVENT
DTSTART;TZID=America/New_York:20260501T130000
DTEND;TZID=America/New_York:20260501T150000
DTSTAMP:20260419T101958
CREATED:20260417T142340Z
LAST-MODIFIED:20260418T142641Z
UID:7862-1777640400-1777647600@studentaffairs.unc.edu
SUMMARY:Coffee Break at Davis Library
DESCRIPTION:Coffee Break at Davis Library\n\nNeed a pick-me-up to prep for finals? Have a cup of coffee on us!  \nWhen: Friday\, May 1 from 1pm to 3pm \nWhere: Davis Library \n\n\n\n      From Friday\, May 1\, 2026 1:00 PM\n      to 3:00 PM EDT\n      at Davis Library.
URL:https://studentaffairs.unc.edu/event/coffee-break-at-davis-library/
CATEGORIES:Community Building & Social Activities,LDOC,Social
ATTACH;FMTTYPE=image/png:https://studentaffairs.unc.edu/wp-content/uploads/2026/04/b02ceafc-411d-4aa0-ab41-feae87ef2ff0f30d33b5-fff3-485b-8609-0c44b2802740.jpg
END:VEVENT
BEGIN:VEVENT
DTSTART;TZID=America/New_York:20260504T140000
DTEND;TZID=America/New_York:20260504T160000
DTSTAMP:20260419T101958
CREATED:20260417T142207Z
LAST-MODIFIED:20260418T142558Z
UID:7524-1777903200-1777910400@studentaffairs.unc.edu
SUMMARY:GRAYSON the Therapy Dog at HSL
DESCRIPTION:GRAYSON the Therapy Dog at HSL\n\nGRAYSON\, the School of Dentistry’s rehabilitative facility dog\, will be making an extra-special appearance in the Health Sciences Library during Week of Balance.   \n\n\n\n      From Monday\, May 4\, 2026 2:00 PM\n      to 4:00 PM EDT\n      at Health Sciences Library.
URL:https://studentaffairs.unc.edu/event/grayson-the-therapy-dog-at-hsl/
CATEGORIES:Community Building & Social Activities,LDOC,Social
ATTACH;FMTTYPE=image/png:https://studentaffairs.unc.edu/wp-content/uploads/2026/04/e46b0d9f-badf-442f-b7e2-8cbda21baeb20d798d82-386c-491e-9e18-de966c3ee775.jpg
END:VEVENT
BEGIN:VEVENT
DTSTART;TZID=America/New_York:20260504T173000
DTEND;TZID=America/New_York:20260504T193000
DTSTAMP:20260419T101958
CREATED:20260417T142241Z
LAST-MODIFIED:20260418T142536Z
UID:7650-1777915800-1777923000@studentaffairs.unc.edu
SUMMARY:Carolina Recovery: Weekly Process Group
DESCRIPTION:Carolina Recovery: Weekly Process Group\n\n\nThis is a mutual-support group facilitated by Student Wellness staff for students in\, seeking\, or curious about recovery. Please reach out here or email recovery@unc.edu if you’re interested in joining or want to ask about other substance use resources! \nOur support group goals are the following: \n\nCommunity support: Helping students foster peer support networks; presenting safe and attainable space for students to be honest with themselves and others about struggles and achievements; prioritizing facilitation over leading the group (students become leading participants); reminding students to look for similarities across seemingly different lived experiences. Focus on diversifying and making recovery spaces as inclusive as possible through an intersectional lens.  \nRecovery capital: Acknowledging students’ skills and strengths; discussing and specifying goals and areas of improvement; planning actionable objectives; and recognizing the value of being where our feet are now. Each month\, we will incorporate skills for managing stress and triggers and clarify student values that may positively impact recovery.  \nEmpowerment: Encouraging students to share their experiences and utilize their agency for recovery\, academics\, interpersonal relationships\, and the other eight dimensions of wellness. Prioritizing strategies to build students’ resiliency through topics and themes they can apply throughout adulthood. \n\n**Please note that this space is exclusively for people in or seeking recovery and is NOT open to observers or for educational purposes.  \n\n\n\n\n      From Monday\, May 4\, 2026 5:30 PM\n      to 6:30 PM EDT\n      at Student Wellness.
URL:https://studentaffairs.unc.edu/event/carolina-recovery-weekly-process-group-2/
CATEGORIES:Graduate & Professional Student Program,Self-Awareness, Health & Well-being,Social
ATTACH;FMTTYPE=image/png:https://studentaffairs.unc.edu/wp-content/uploads/2026/04/1988db2a-1568-4952-8e23-2e2268ece36a3a24bfc8-31d1-4be9-8e30-53fb89d04737-1.jpg
END:VEVENT
BEGIN:VEVENT
DTSTART;TZID=America/New_York:20260505T140000
DTEND;TZID=America/New_York:20260505T160000
DTSTAMP:20260419T101958
CREATED:20260417T142351Z
LAST-MODIFIED:20260418T142649Z
UID:7900-1777989600-1777996800@studentaffairs.unc.edu
SUMMARY:Coffee Break at HSL
DESCRIPTION:Coffee Break at HSL\n\nNeed a pick-me-up to prep for finals? Have a cup of coffee on us!  \nWhen: Tuesday\, May 5 from 2m to 4pm \nWhere: Health Sciences Library \n\n\n\n      From Tuesday\, May 5\, 2026 2:00 PM\n      to 4:00 PM EDT\n      at Health Sciences Library.
URL:https://studentaffairs.unc.edu/event/coffee-break-at-hsl-2/
CATEGORIES:Community Building & Social Activities,LDOC,Social
ATTACH;FMTTYPE=image/png:https://studentaffairs.unc.edu/wp-content/uploads/2026/04/8d025419-7ff7-4b23-9212-14533257ce2c54f9af0b-bf7d-49dd-b879-8ef9ae2025fb.jpg
END:VEVENT
BEGIN:VEVENT
DTSTART;TZID=America/New_York:20260506T130000
DTEND;TZID=America/New_York:20260506T150000
DTSTAMP:20260419T101958
CREATED:20260417T142352Z
LAST-MODIFIED:20260418T142650Z
UID:7903-1778072400-1778079600@studentaffairs.unc.edu
SUMMARY:Wednesdays on West: Reading Day Edition
DESCRIPTION:Wednesdays on West: Reading Day Edition\n\nSpend your Reading Day with us! The CWC is holding open hours for our campus community. There will be space for folks to hang out\, study\, connect with peers\, enjoy snacks\, and play games. \nStay awhile or drop by for a quick hello! Bring your friends or meet new ones! The CWC is open to all. \n\n\n\n      From Wednesday\, May 6\, 2026 1:00 PM\n      to 4:00 PM EDT\n      at Carolina Women’s Center.
URL:https://studentaffairs.unc.edu/event/wednesdays-on-west-reading-day-edition/
CATEGORIES:Community Building & Social Activities,Social
ATTACH;FMTTYPE=image/png:https://studentaffairs.unc.edu/wp-content/uploads/2026/04/516b1a82-23bc-4fe0-a8d1-1600d72eb99e13daa9dd-5f9a-44af-95a9-31ebf20fd53a.jpg
END:VEVENT
BEGIN:VEVENT
DTSTART;TZID=America/New_York:20260507T183000
DTEND;TZID=America/New_York:20260507T203000
DTSTAMP:20260419T101958
CREATED:20260417T142353Z
LAST-MODIFIED:20260418T142651Z
UID:7907-1778178600-1778185800@studentaffairs.unc.edu
SUMMARY:Carolina Recovery: Weekly Social
DESCRIPTION:Carolina Recovery: Weekly Social\n\n\nFood and fellowship for people in or seeking recovery from substance use. All pathways of recovery are welcome and supported. \nPlease note that this space is exclusively for people in or seeking recovery and is not open to observers or for educational purposes.  \nContact one of our officers or contact recovery@unc.edu for location and more information. \n\n\n\n\n      From Thursday\, May 7\, 2026 6:30 PM\n      to 7:30 PM EDT\n      at Student Union.
URL:https://studentaffairs.unc.edu/event/carolina-recovery-weekly-social-3/
CATEGORIES:Community Building & Social Activities,Self-Awareness, Health & Well-being,Social
ATTACH;FMTTYPE=image/png:https://studentaffairs.unc.edu/wp-content/uploads/2026/04/b7508ce6-d3be-42d7-8a9b-46ac83e24a865147d8c0-69a8-4552-b9d9-37a7ead0f722-2.jpg
END:VEVENT
END:VCALENDAR