BEGIN:VCALENDAR
VERSION:2.0
PRODID:-//UNC Student Affairs - ECPv6.15.20//NONSGML v1.0//EN
CALSCALE:GREGORIAN
METHOD:PUBLISH
X-WR-CALNAME:UNC Student Affairs
X-ORIGINAL-URL:https://studentaffairs.unc.edu
X-WR-CALDESC:Events for UNC Student Affairs
REFRESH-INTERVAL;VALUE=DURATION:PT1H
X-Robots-Tag:noindex
X-PUBLISHED-TTL:PT1H
BEGIN:VTIMEZONE
TZID:America/New_York
BEGIN:DAYLIGHT
TZOFFSETFROM:-0500
TZOFFSETTO:-0400
TZNAME:EDT
DTSTART:20250309T070000
END:DAYLIGHT
BEGIN:STANDARD
TZOFFSETFROM:-0400
TZOFFSETTO:-0500
TZNAME:EST
DTSTART:20251102T060000
END:STANDARD
BEGIN:DAYLIGHT
TZOFFSETFROM:-0500
TZOFFSETTO:-0400
TZNAME:EDT
DTSTART:20260308T070000
END:DAYLIGHT
BEGIN:STANDARD
TZOFFSETFROM:-0400
TZOFFSETTO:-0500
TZNAME:EST
DTSTART:20261101T060000
END:STANDARD
BEGIN:DAYLIGHT
TZOFFSETFROM:-0500
TZOFFSETTO:-0400
TZNAME:EDT
DTSTART:20270314T070000
END:DAYLIGHT
BEGIN:STANDARD
TZOFFSETFROM:-0400
TZOFFSETTO:-0500
TZNAME:EST
DTSTART:20271107T060000
END:STANDARD
END:VTIMEZONE
BEGIN:VEVENT
DTSTART;TZID=America/New_York:20260424T090000
DTEND;TZID=America/New_York:20260424T110000
DTSTAMP:20260419T084001
CREATED:20260417T142255Z
LAST-MODIFIED:20260418T142515Z
UID:7703-1777021200-1777028400@studentaffairs.unc.edu
SUMMARY:Battle Grove BioBlitz
DESCRIPTION:Battle Grove BioBlitz\n\nJoin us from 9 am – 12 pm for a BioBlitz at Battle Grove\, located between Coker Arboretum and Forest Theatre. We’re teaming up with the UNC Department of Biology to host this citizen science event\, where we’ll observe\, identify\, and record species on an app. Join us for light refreshments and explore one of our favorite hidden gems on campus. \n\n\n\n      From Friday\, April 24\, 2026 9:00 AM\n      to 12:00 PM EDT\n      at Battle Grove Regenerative Stormwater Conveyance Area.
URL:https://studentaffairs.unc.edu/event/battle-grove-bioblitz/
CATEGORIES:Campus Life Experience,Community Building & Social Activities,Science & Nature,ThoughtfulLearning
ATTACH;FMTTYPE=image/png:https://studentaffairs.unc.edu/wp-content/uploads/2026/04/e4f387fe-b526-45b6-b605-fad619ce572b8e28c384-b33a-4510-a915-d32916ff049a.jpg
END:VEVENT
BEGIN:VEVENT
DTSTART;TZID=America/New_York:20260424T100000
DTEND;TZID=America/New_York:20260424T120000
DTSTAMP:20260419T084001
CREATED:20260417T142155Z
LAST-MODIFIED:20260418T142608Z
UID:7478-1777024800-1777032000@studentaffairs.unc.edu
SUMMARY:Data Visualization for Social Science Research
DESCRIPTION:Data Visualization for Social Science Research\n\nThis course introduces modern visual data exploration and communication methods to social scientists with limited prior experience. Students will learn to effectively present data to diverse audiences across multiple formats. The course utilizes the R programming language\, RStudio development environment\, and the tidyverse suite of R packages—with particular emphasis on ggplot2—for data processing and visualization. \nStudents will develop skills to confidently explore data descriptively\, communicate findings to both academic and general audiences\, and refine model results for presentations and publications. The course emphasizes both clarity and aesthetic considerations in data visualization\, while incorporating best practices for practical\, efficient\, and reproducible workflows. Through a unified toolset\, students will learn to display visualizations effectively across web platforms\, academic papers\, reports\, and presentations. \nRegistration and a refundable deposit is required to receive Zoom link. Deposit will be refunded upon attendance of course. \nTo learn more and register\, click HERE. \n\n\n\n      From Friday\, April 24\, 2026 10:00 AM\n      to 4:00 PM EDT\n      at Online.
URL:https://studentaffairs.unc.edu/event/data-visualization-for-social-science-research/
CATEGORIES:Campus Life Experience,Graduate & Professional Student Program,Lecture,Science & Nature,ThoughtfulLearning
ATTACH;FMTTYPE=image/png:https://studentaffairs.unc.edu/wp-content/uploads/2026/04/800141a2-0fff-462a-b65e-43dfdbdc5b62a9ef8d57-e19b-4178-a876-923d8c6ebefb.jpg
END:VEVENT
BEGIN:VEVENT
DTSTART;TZID=America/New_York:20260424T140000
DTEND;TZID=America/New_York:20260424T160000
DTSTAMP:20260419T084001
CREATED:20260417T142257Z
LAST-MODIFIED:20260418T142526Z
UID:7711-1777039200-1777046400@studentaffairs.unc.edu
SUMMARY:Carolina Beekeeping Club Beginner Beekeeping Hive Tour
DESCRIPTION:Carolina Beekeeping Club Beginner Beekeeping Hive Tour \n\nSuit up and join the Carolina Beekeeping Club for a beginner-friendly\, hands-on hive tour with UNC’s honeybees. Step up to the hives and see honeybees in action as they bring in pollen and nectar\, learn how to spot the queen\, and discover the jobs each bee does to keep the colony healthy and thriving. No experience needed\, all are welcome!  \nPlease make sure to wear long pants and closed-toe shoes for the tour. Also\, bring some water too.  \nLimited spots available\, so RSVP below to secure your spot now.  \nNote: Tours are weather dependent and will be rescheduled or canceled if weather isn’t safe for bees or visitors. \n\n\n\n      From Friday\, April 24\, 2026 2:00 PM\n      to 3:00 PM EDT\n      at Battle Grove Regenerative Stormwater Conveyance Area.
URL:https://studentaffairs.unc.edu/event/carolina-beekeeping-club-beginner-beekeeping-hive-tour-2/
CATEGORIES:Campus Life Experience,Career Exploration & Development,Community Building & Social Activities,Science & Nature,Self-Awareness, Health & Well-being,ThoughtfulLearning
ATTACH;FMTTYPE=image/png:https://studentaffairs.unc.edu/wp-content/uploads/2026/04/214e62c6-fc75-4a64-aa49-348c93e1d5ec0ee68863-ce1e-4d64-8627-201b9358ce08-1.jpg
END:VEVENT
BEGIN:VEVENT
DTSTART;TZID=America/New_York:20260424T170000
DTEND;TZID=America/New_York:20260424T190000
DTSTAMP:20260419T084001
CREATED:20260417T142318Z
LAST-MODIFIED:20260418T142547Z
UID:7784-1777050000-1777057200@studentaffairs.unc.edu
SUMMARY:Grayson Highlands Backpacking
DESCRIPTION:Grayson Highlands Backpacking\n\nJoin us for a weekend of backpacking in the mountains of Southwest Virginia! This trip will be a challenging but approachable introduction to backcountry camping and hiking. We’ll hike through temperate rainforest and among high-elevation balds with stunning views and grazing ponies in Grayson Highlands State Park and Mount Rogers State Natural Area. You’ll get to meet new people in an engaged setting\, learn new skills\, and enjoy one of the most spectacular places to go backpacking in the Southeast. \n\n\n\n      From Friday\, April 24\, 2026 5:00 PM\n      to Sunday\, April 26\, 2026 6:00 PM EDT\n      at Grayson Highlands State Park\, near Whitetop\, VA.
URL:https://studentaffairs.unc.edu/event/grayson-highlands-backpacking/
CATEGORIES:Athletic, Intramural, & Outdoor Recreational Events,Campus Life Experience,Community Building & Social Activities,Leadership Development,Science & Nature,Self-Awareness, Health & Well-being,Social
ATTACH;FMTTYPE=image/png:https://studentaffairs.unc.edu/wp-content/uploads/2026/04/25847412-8fb8-446a-938d-fe6ed40e422d9523a0a5-190d-400f-b68f-aa81400dc206.jpg
END:VEVENT
END:VCALENDAR