BEGIN:VCALENDAR
VERSION:2.0
PRODID:-//UNC Student Affairs - ECPv6.15.20//NONSGML v1.0//EN
CALSCALE:GREGORIAN
METHOD:PUBLISH
X-WR-CALNAME:UNC Student Affairs
X-ORIGINAL-URL:https://studentaffairs.unc.edu
X-WR-CALDESC:Events for UNC Student Affairs
REFRESH-INTERVAL;VALUE=DURATION:PT1H
X-Robots-Tag:noindex
X-PUBLISHED-TTL:PT1H
BEGIN:VTIMEZONE
TZID:America/New_York
BEGIN:DAYLIGHT
TZOFFSETFROM:-0500
TZOFFSETTO:-0400
TZNAME:EDT
DTSTART:20250309T070000
END:DAYLIGHT
BEGIN:STANDARD
TZOFFSETFROM:-0400
TZOFFSETTO:-0500
TZNAME:EST
DTSTART:20251102T060000
END:STANDARD
BEGIN:DAYLIGHT
TZOFFSETFROM:-0500
TZOFFSETTO:-0400
TZNAME:EDT
DTSTART:20260308T070000
END:DAYLIGHT
BEGIN:STANDARD
TZOFFSETFROM:-0400
TZOFFSETTO:-0500
TZNAME:EST
DTSTART:20261101T060000
END:STANDARD
BEGIN:DAYLIGHT
TZOFFSETFROM:-0500
TZOFFSETTO:-0400
TZNAME:EDT
DTSTART:20270314T070000
END:DAYLIGHT
BEGIN:STANDARD
TZOFFSETFROM:-0400
TZOFFSETTO:-0500
TZNAME:EST
DTSTART:20271107T060000
END:STANDARD
END:VTIMEZONE
BEGIN:VEVENT
DTSTART;TZID=America/New_York:20260423T120000
DTEND;TZID=America/New_York:20260423T140000
DTSTAMP:20260419T084000
CREATED:20260417T142356Z
LAST-MODIFIED:20260418T142641Z
UID:7917-1776945600-1776952800@studentaffairs.unc.edu
SUMMARY:Hybrid Lunchbox Talk: Bridging the Knowledge-to-Practice Gap: Hemiparasitic Plants in Grassland Restoration
DESCRIPTION:Hybrid Lunchbox Talk: Bridging the Knowledge-to-Practice Gap: Hemiparasitic Plants in Grassland Restoration\n\nwith Jordan Argrett\, University of Georgia Odum School of Ecology PhD Candidate \nGrasslands across North America\, including the remnant prairies\, glades\, and savannas of the Southeast\, are some of the most diverse and threatened ecosystems on Earth. Urban growth\, habitat fragmentation\, and changes in natural disturbances like fire and grazing have made it harder to restore native plant diversity at scale. In this Lunchbox Talk\, learn about Jordan Argrett’s research on an underused restoration tool: native root hemiparasitic plants. These plants form symbiosis by tapping into the roots of their neighbors for nutrients. Acting as “pseudo-grazers\,” they can make big impacts on plant communities by curbing dominant species\, rebalancing the competitive landscape\, and creating space for native wildflowers to thrive. Drawing on experimental ecology\, conservation horticulture\, and restoration strategies\, Jordan’s work aims to provide southeastern conservation practitioners with practical\, scalable tools to help bring back biodiversity. \n  \nIn person and virtual registration options are available. Register here! \n\n\n\n      From Thursday\, April 23\, 2026 12:00 PM\n      to 1:00 PM EDT\n      at Reeves Auditorium – NC Botanical Garden.
URL:https://studentaffairs.unc.edu/event/hybrid-lunchbox-talk-bridging-the-knowledge-to-practice-gap-hemiparasitic-plants-in-grassland-restoration/
CATEGORIES:Campus Life Experience,Lecture,Science & Nature,ThoughtfulLearning
ATTACH;FMTTYPE=image/png:https://studentaffairs.unc.edu/wp-content/uploads/2026/04/07084be2-63f3-4947-b3d6-3a24d467ae5ddc39411f-e9ef-40e9-9080-70fe5184b6be.jpg
END:VEVENT
BEGIN:VEVENT
DTSTART;TZID=America/New_York:20260423T170000
DTEND;TZID=America/New_York:20260423T190000
DTSTAMP:20260419T084000
CREATED:20260418T142646Z
LAST-MODIFIED:20260418T142646Z
UID:8286-1776963600-1776970800@studentaffairs.unc.edu
SUMMARY:Native Foraging Tour
DESCRIPTION:Native Foraging Tour\n\nThis April 23rd\, learn the edible and medicinal biodiversity of our very own UNC campus with Compostmates on our Native Foraging Tour. Join us at 5pm by the Oak Tree in the Pit for a physical and intellectual tour of the grounds\, learning plant identification and easy medicinal recipes\, reading passages from Braiding Sweetgrass and Serviceberry by renowned indigenous ecologist Robin Wall Kimmerer\, and including a demonstration of healthy foraging practices by Edible Campus! Follow @unccompostmates on Instagram for more! \n\n\n\n      From Thursday\, April 23\, 2026 5:00 PM\n      to 6:00 PM EDT\n      at The Pit.
URL:https://studentaffairs.unc.edu/event/native-foraging-tour/
CATEGORIES:Community Building & Social Activities,Culture & Identity,Justice, Equity, & Inclusion,Religious & Spiritual,Science & Nature,Self-Awareness, Health & Well-being,ThoughtfulLearning
ATTACH;FMTTYPE=image/png:https://studentaffairs.unc.edu/wp-content/uploads/2026/04/0db3cf1b-0449-445d-8bad-47cd59e06963e487425b-fa79-4149-acbe-f5fb8bb95a3d.jpg
END:VEVENT
BEGIN:VEVENT
DTSTART;TZID=America/New_York:20260423T190000
DTEND;TZID=America/New_York:20260423T210000
DTSTAMP:20260419T084000
CREATED:20260418T142603Z
LAST-MODIFIED:20260418T142603Z
UID:8265-1776970800-1776978000@studentaffairs.unc.edu
SUMMARY:Research in Exercise and Sport Science
DESCRIPTION:Research in Exercise and Sport Science\n\nMany students who are majoring within Exercise and Sport Science at UNC-CH are passionate individuals with goals to serve the population through medicine\, personal training\, physical therapy\, and occupational therapy. The field of medicine\, therapy\, and sports psychology is constantly progressing due to research that is conducted from teams of professionals like the ones who make up UNC-CH’s Exercise and Sport Science Department. Moreover\, with many students wishing to serve populations through the research that is gained through exercise and sport science\, it is important that they know how this research is conducted and where they can go to help contribute to this research. Many students within the Pre-Physical-Occupational Therapy club also have a desire to go and meet new people. This event being held in person would be an opportunity for any science-majoring student to go and learn about rigorous\, academic research while making new connections with other students and faculty. \nThe premise of this event would be to shed light upon the collaboration within the field of exercise and sport science and how the research conducted by faculty at UNC-CH translates into practical knowledge used to advance the fields of physical and occupational therapy. \n\n\n\n      From Thursday\, April 23\, 2026 7:00 PM\n      to 8:30 PM EDT\n      at Woollen Gym Room 301.
URL:https://studentaffairs.unc.edu/event/research-in-exercise-and-sport-science/
CATEGORIES:Campus Life Experience,Career Exploration & Development,Culture & Identity,Science & Nature,ThoughtfulLearning
END:VEVENT
END:VCALENDAR