BEGIN:VCALENDAR
VERSION:2.0
PRODID:-//UNC Student Affairs - ECPv6.15.20//NONSGML v1.0//EN
CALSCALE:GREGORIAN
METHOD:PUBLISH
X-ORIGINAL-URL:https://studentaffairs.unc.edu
X-WR-CALDESC:Events for UNC Student Affairs
REFRESH-INTERVAL;VALUE=DURATION:PT1H
X-Robots-Tag:noindex
X-PUBLISHED-TTL:PT1H
BEGIN:VTIMEZONE
TZID:America/New_York
BEGIN:DAYLIGHT
TZOFFSETFROM:-0500
TZOFFSETTO:-0400
TZNAME:EDT
DTSTART:20250309T070000
END:DAYLIGHT
BEGIN:STANDARD
TZOFFSETFROM:-0400
TZOFFSETTO:-0500
TZNAME:EST
DTSTART:20251102T060000
END:STANDARD
BEGIN:DAYLIGHT
TZOFFSETFROM:-0500
TZOFFSETTO:-0400
TZNAME:EDT
DTSTART:20260308T070000
END:DAYLIGHT
BEGIN:STANDARD
TZOFFSETFROM:-0400
TZOFFSETTO:-0500
TZNAME:EST
DTSTART:20261101T060000
END:STANDARD
BEGIN:DAYLIGHT
TZOFFSETFROM:-0500
TZOFFSETTO:-0400
TZNAME:EDT
DTSTART:20270314T070000
END:DAYLIGHT
BEGIN:STANDARD
TZOFFSETFROM:-0400
TZOFFSETTO:-0500
TZNAME:EST
DTSTART:20271107T060000
END:STANDARD
END:VTIMEZONE
BEGIN:VEVENT
DTSTART;TZID=America/New_York:20260422T121500
DTEND;TZID=America/New_York:20260422T141500
DTSTAMP:20260419T084304
CREATED:20260417T142331Z
LAST-MODIFIED:20260418T142623Z
UID:7831-1776860100-1776867300@studentaffairs.unc.edu
SUMMARY:Celebration of Undergraduate Research 2026
DESCRIPTION:Celebration of Undergraduate Research 2026\n\nThe 27th Annual Celebration of Undergraduate Research will be held on Wednesday\, April 22\, 2026\, from 12:15-5:30 pm in Alumni Hall at the George Watts Hill Alumni Center (106 Stadium Drive\, Chapel Hill\, NC 27514). The Celebration is a special opportunity for Carolina undergraduates of all majors to showcase their research projects through poster presentations. There will be five (5) sequential 50-minute poster sessions\, starting at 12:20pm\, 1:25 pm\, 2:30 pm\, 3:35 pm\, and 4:40 pm. This event is free and open to the public\, and all UNC students\, faculty\, and staff are encouraged to attend to learn about the great research that Carolina undergraduate researchers are conducting. Click here to learn more!  \nThis event qualifies for CLE credit.   \n\n\n\n      From Wednesday\, April 22\, 2026 12:15 PM\n      to 5:30 PM EDT\n      at Alumni Hall at the George Watts Hill Alumni Center (106 Stadium Drive\, Chapel Hill\, NC 27514).
URL:https://studentaffairs.unc.edu/event/celebration-of-undergraduate-research-2026/
CATEGORIES:Campus Life Experience,Career Exploration & Development,Science & Nature,ThoughtfulLearning
ATTACH;FMTTYPE=image/png:https://studentaffairs.unc.edu/wp-content/uploads/2026/04/0ef0a316-03ee-43ec-a65c-ecd27246f0db306862a7-7330-4e5b-bdb1-eb2ae8756509.jpg
END:VEVENT
END:VCALENDAR