BEGIN:VCALENDAR
VERSION:2.0
PRODID:-//UNC Student Affairs - ECPv6.15.20//NONSGML v1.0//EN
CALSCALE:GREGORIAN
METHOD:PUBLISH
X-WR-CALNAME:UNC Student Affairs
X-ORIGINAL-URL:https://studentaffairs.unc.edu
X-WR-CALDESC:Events for UNC Student Affairs
REFRESH-INTERVAL;VALUE=DURATION:PT1H
X-Robots-Tag:noindex
X-PUBLISHED-TTL:PT1H
BEGIN:VTIMEZONE
TZID:America/New_York
BEGIN:DAYLIGHT
TZOFFSETFROM:-0500
TZOFFSETTO:-0400
TZNAME:EDT
DTSTART:20250309T070000
END:DAYLIGHT
BEGIN:STANDARD
TZOFFSETFROM:-0400
TZOFFSETTO:-0500
TZNAME:EST
DTSTART:20251102T060000
END:STANDARD
BEGIN:DAYLIGHT
TZOFFSETFROM:-0500
TZOFFSETTO:-0400
TZNAME:EDT
DTSTART:20260308T070000
END:DAYLIGHT
BEGIN:STANDARD
TZOFFSETFROM:-0400
TZOFFSETTO:-0500
TZNAME:EST
DTSTART:20261101T060000
END:STANDARD
BEGIN:DAYLIGHT
TZOFFSETFROM:-0500
TZOFFSETTO:-0400
TZNAME:EDT
DTSTART:20270314T070000
END:DAYLIGHT
BEGIN:STANDARD
TZOFFSETFROM:-0400
TZOFFSETTO:-0500
TZNAME:EST
DTSTART:20271107T060000
END:STANDARD
END:VTIMEZONE
BEGIN:VEVENT
DTSTART;TZID=America/New_York:20260420T100000
DTEND;TZID=America/New_York:20260420T120000
DTSTAMP:20260419T084009
CREATED:20260417T142235Z
LAST-MODIFIED:20260418T142539Z
UID:7630-1776679200-1776686400@studentaffairs.unc.edu
SUMMARY:Gettin’ daggity with it: Using DAGs as Tools for Variable Selection
DESCRIPTION:Gettin’ daggity with it: Using DAGs as Tools for Variable Selection\n\nEver pondered whether to include a variable in an analysis – is the variable necessary\, will its inclusion/exclusion introduce bias in the analysis?  Why is the variable important anyways – is it a mediator\, a moderator\, a confounder some combination of these??? \nThis course introduces how to incorporate DAGs (Directed Acyclic Graphs) in analysis planning to help think through what variables to collect and use (or refrain from using) in an analysis. \nTopics include: \n\nIntroducing the structure of DAGs and the rules for using them to guide variable selection\nA deep dive into the types of variable relations captured in DAGs with emphasis on mediation\, moderation\, effect modification\, confounding and colliders and their potential to introduce bias in analysis\nHands on example of how to create and evaluate DAGs in R using the package daggity\n\nUse of DAGs may help inform data collection and analytical plans in ways that enhance reproducibility. \nCourse prerequisites: None. Knowledge of regression analysis and R is helpful but not required. \nRegistration and a refundable deposit is required to receive Zoom link. Deposit will be refunded upon attendance of course. \nTo learn more and register\, click HERE. \n\n\n\n      From Monday\, April 20\, 2026 10:00 AM\n      to 3:00 PM EDT\n      at Online.
URL:https://studentaffairs.unc.edu/event/gettin-daggity-with-it-using-dags-as-tools-for-variable-selection/
CATEGORIES:Campus Life Experience,Graduate & Professional Student Program,Lecture,Science & Nature,ThoughtfulLearning
ATTACH;FMTTYPE=image/png:https://studentaffairs.unc.edu/wp-content/uploads/2026/04/94f32c7a-b0e0-4458-82b2-b91d77d0a86a76b3afa0-a1a2-409b-9d22-c2f147b05aed.jpg
END:VEVENT
BEGIN:VEVENT
DTSTART;TZID=America/New_York:20260420T150000
DTEND;TZID=America/New_York:20260420T170000
DTSTAMP:20260419T084009
CREATED:20260417T142239Z
LAST-MODIFIED:20260418T142542Z
UID:7644-1776697200-1776704400@studentaffairs.unc.edu
SUMMARY:Sustainable Carolina's Festival on the Green Roof
DESCRIPTION:Sustainable Carolina’s Festival on the Green Roof\n\nJoin us on the Rams Head Green Roof\, where Chase Dining Hall and Rams Head Recreation Center are located. Celebrate Carolina’s new AASHE STARS Gold Rating with ice cream\, games and activities offered by various University departments! Visit these University department tables\, fill out your Festival on the Green Roof “passport\,” a receive the 2026 student-designed Earth Day t-shirt. \n\n\n\n      From Monday\, April 20\, 2026 3:00 PM\n      to 6:00 PM EDT\n      at Chase Plaza.
URL:https://studentaffairs.unc.edu/event/sustainable-carolinas-festival-on-the-green-roof/
CATEGORIES:Civic Engagement, Public Service, & Philanthropy,Community Building & Social Activities,Science & Nature,Social
ATTACH;FMTTYPE=image/png:https://studentaffairs.unc.edu/wp-content/uploads/2026/04/4755d517-f80d-440e-8fc6-45e90a3d240aaec6f326-4432-409a-ae57-13ba3c71ef15.jpg
END:VEVENT
BEGIN:VEVENT
DTSTART;TZID=America/New_York:20260420T153000
DTEND;TZID=America/New_York:20260420T173000
DTSTAMP:20260419T084009
CREATED:20260417T142238Z
LAST-MODIFIED:20260418T142540Z
UID:7638-1776699000-1776706200@studentaffairs.unc.edu
SUMMARY:Colloquium Series: The Triple Connection: Black Hole Mergers\, Electromagnetic Counterparts\, and Galactic Black Holes
DESCRIPTION:Colloquium Series: The Triple Connection: Black Hole Mergers\, Electromagnetic Counterparts\, and Galactic Black Holes\n\nSpeaker: Smadar Naoz\, UCLA \nTitle: The Triple Connection: Black Hole Mergers\, Electromagnetic Counterparts\, and Galactic Black Holes \nAbstract: Black holes are detected through a variety of methods\, each revealing a different part of their nature. These include gravitational-wave emissions that detect the mergers of compact binaries\, X-ray radiation that captures the dramatic accretion episodes of black hole binaries\, and astrometry\, which measures the dance of a star around an unseen companion. Despite significant progress over the past decade\, we still lack a unified framework that connects these seemingly disparate populations. In this talk\, I will explore how stellar triples may provide such a connection. I will discuss the role of tertiary companions in driving black hole mergers detectable by LIGO–Virgo–KAGRA\, in shaping the formation of accreting X-ray binaries\, and in leaving behind wide black hole–stellar systems like those now revealed by Gaia. I will show how the aftermath of a black hole merger in the presence of a tertiary companion can produce rare but detectable electromagnetic counterparts\, and how this channel may account for a significant fraction of observed black hole binaries. In short\, triples may open the door to linking gravitational-wave events with electromagnetic counterparts and galactic black holes\, offering a new way to piece together the life stories of black holes.  \n\n\n\n      From Monday\, April 20\, 2026 3:30 PM\n      to 4:30 PM EDT\n      at 207 Phillips Hall.
URL:https://studentaffairs.unc.edu/event/colloquium-series-the-triple-connection-black-hole-mergers-electromagnetic-counterparts-and-galactic-black-holes/
CATEGORIES:Campus Life Experience,Science & Nature,ThoughtfulLearning
END:VEVENT
BEGIN:VEVENT
DTSTART;TZID=America/New_York:20260420T153000
DTEND;TZID=America/New_York:20260420T173000
DTSTAMP:20260419T084009
CREATED:20260417T142238Z
LAST-MODIFIED:20260418T142541Z
UID:7641-1776699000-1776706200@studentaffairs.unc.edu
SUMMARY:Colloquium Series: The Triple Connection: Black Hole Mergers\, Electromagnetic Counterparts\, and Galactic Black Holes
DESCRIPTION:Colloquium Series: The Triple Connection: Black Hole Mergers\, Electromagnetic Counterparts\, and Galactic Black Holes\n\nSpeaker: Smadar Naoz\, UCLA \nTitle: The Triple Connection: Black Hole Mergers\, Electromagnetic Counterparts\, and Galactic Black Holes \nAbstract: Black holes are detected through a variety of methods\, each revealing a different part of their nature. These include gravitational-wave emissions that detect the mergers of compact binaries\, X-ray radiation that captures the dramatic accretion episodes of black hole binaries\, and astrometry\, which measures the dance of a star around an unseen companion. Despite significant progress over the past decade\, we still lack a unified framework that connects these seemingly disparate populations. In this talk\, I will explore how stellar triples may provide such a connection. I will discuss the role of tertiary companions in driving black hole mergers detectable by LIGO–Virgo–KAGRA\, in shaping the formation of accreting X-ray binaries\, and in leaving behind wide black hole–stellar systems like those now revealed by Gaia. I will show how the aftermath of a black hole merger in the presence of a tertiary companion can produce rare but detectable electromagnetic counterparts\, and how this channel may account for a significant fraction of observed black hole binaries. In short\, triples may open the door to linking gravitational-wave events with electromagnetic counterparts and galactic black holes\, offering a new way to piece together the life stories of black holes.  \n\n\n\n      From Monday\, April 20\, 2026 3:30 PM\n      to 4:30 PM EDT\n      at 207 Phillips Hall.
URL:https://studentaffairs.unc.edu/event/colloquium-series-the-triple-connection-black-hole-mergers-electromagnetic-counterparts-and-galactic-black-holes-2/
CATEGORIES:Campus Life Experience,Science & Nature,ThoughtfulLearning
END:VEVENT
BEGIN:VEVENT
DTSTART;TZID=America/New_York:20260420T170000
DTEND;TZID=America/New_York:20260420T190000
DTSTAMP:20260419T084009
CREATED:20260417T142241Z
LAST-MODIFIED:20260418T142543Z
UID:7652-1776704400-1776711600@studentaffairs.unc.edu
SUMMARY:Carolina Beekeeping Club Beginner Beekeeping Hive Tour
DESCRIPTION:Carolina Beekeeping Club Beginner Beekeeping Hive Tour \n\nSuit up and join the Carolina Beekeeping Club for a beginner-friendly\, hands-on hive tour with UNC’s honeybees. Step up to the hives and see honeybees in action as they bring in pollen and nectar\, learn how to spot the queen\, and discover the jobs each bee does to keep the colony healthy and thriving. No experience needed\, all are welcome!  \nPlease make sure to wear long pants and closed-toe shoes for the tour. Also\, bring some water too.  \nLimited spots available\, so RSVP below to secure your spot now.  \nNote: Tours are weather dependent and will be rescheduled or canceled if weather isn’t safe for bees or visitors. \n\n\n\n      From Monday\, April 20\, 2026 5:00 PM\n      to 6:00 PM EDT\n      at Battle Grove Regenerative Stormwater Conveyance Area.
URL:https://studentaffairs.unc.edu/event/carolina-beekeeping-club-beginner-beekeeping-hive-tour/
CATEGORIES:Campus Life Experience,Community Building & Social Activities,Science & Nature,Self-Awareness, Health & Well-being,ThoughtfulLearning
ATTACH;FMTTYPE=image/png:https://studentaffairs.unc.edu/wp-content/uploads/2026/04/15c0e952-d9da-495f-9ec5-a6cde8ef32752c32c731-b659-48ab-81d0-07ecefeb1357.jpg
END:VEVENT
BEGIN:VEVENT
DTSTART;TZID=America/New_York:20260420T170000
DTEND;TZID=America/New_York:20260420T190000
DTSTAMP:20260419T084009
CREATED:20260417T142245Z
LAST-MODIFIED:20260418T142546Z
UID:7667-1776704400-1776711600@studentaffairs.unc.edu
SUMMARY:Integration Bee V: Final Round
DESCRIPTION:Integration Bee V: Final Round\n\nAre you a master of integrals? Come compete in the Integration Bee and prove that the scary snake ∫ has nothing on you!!\nThe III Carolina Integration Bee will be held by parts: preliminaries and finals. Anyone is welcome to take part in the preliminaries\, and no sign-up is required. The 8 best participants will then move on to finals\, a week after\, and compete to be the V Tar Heel Grand Integrator and win an adorable pi plushie and other prizes!!\n– Prelims:  Monday April 13th @ 5:00 in Phillips 215 (CLE!)\n– Finals:    Monday April 20th @ 5:00 in Phillips 215\nThe only required knowledge is integrals\, so if you have already taken 232 (AP Calc BC)\, or even if you are taking it right now\, you are welcome to come!! You can see a set of other Integration Bees at our website\, for reference and practice. In the qualifying round\, you’ll be given a number of written integrals to solve in 30 minutes\, and the 8 people who guess the most will move to the final round\, where we will play with a bracket and compete to become the Grand Integrator.\nIf you have any further doubts\, check at https://sites.google.com/view/carolinamathclub/integration-bee or reach out to carolinamathclub@gmail.com.\n \nSPECTATORS ARE WELCOME\n\n\n\n      From Monday\, April 20\, 2026 5:00 PM\n      to 7:00 PM EDT\n      at Phillips 215.
URL:https://studentaffairs.unc.edu/event/integration-bee-v-final-round/
CATEGORIES:Applications, Auditions, & Tryouts,LDOC,Science & Nature,Social
ATTACH;FMTTYPE=image/png:https://studentaffairs.unc.edu/wp-content/uploads/2026/04/6d5fd98d-7dc8-4f45-bc92-3749e6096c0ed69d996d-6af8-429d-8dd5-1c28c2447c02.jpg
END:VEVENT
BEGIN:VEVENT
DTSTART;TZID=America/New_York:20260420T180000
DTEND;TZID=America/New_York:20260420T200000
DTSTAMP:20260419T084009
CREATED:20260417T142246Z
LAST-MODIFIED:20260418T142547Z
UID:7671-1776708000-1776715200@studentaffairs.unc.edu
SUMMARY:Climate Colonialism and a Global Just Transition
DESCRIPTION:Climate Colonialism and a Global Just Transition\n\nExplore the connections between colonialism and fossil fuels with historian Aviva Chomsky. This talk examines how European colonization fueled the Industrial Revolution and how extractive patterns have persisted ever since\, disproportionately impacting Indigenous and Afro-descended communities across the Global South\, while highlighting specific frameworks as new visions for a just transition. \n\n\n\n      From Monday\, April 20\, 2026 6:00 PM\n      to 7:00 PM EDT\n      at Room 1005\, Global Education Center.
URL:https://studentaffairs.unc.edu/event/climate-colonialism-and-a-global-just-transition/
CATEGORIES:Campus Life Experience,Cultural,Culture & Identity,Justice, Equity, & Inclusion,Latinx,Lecture,Science & Nature
ATTACH;FMTTYPE=image/png:https://studentaffairs.unc.edu/wp-content/uploads/2026/04/623e2ee5-6b72-445f-b4fa-a9c2974680d9c0ed4a58-adcd-436f-a960-0a2949b188d2.jpg
END:VEVENT
BEGIN:VEVENT
DTSTART;TZID=America/New_York:20260420T190000
DTEND;TZID=America/New_York:20260420T210000
DTSTAMP:20260419T084009
CREATED:20260417T142251Z
LAST-MODIFIED:20260418T142551Z
UID:7689-1776711600-1776718800@studentaffairs.unc.edu
SUMMARY:Mindful Meditation by Bhakti Yoga Club of UNC Chapel Hill
DESCRIPTION:Mindful Meditation by Bhakti Yoga Club of UNC Chapel Hill\n\nMindful meditation is a key practice of Bhakti Yoga. Original Yoga practices were made to help one control their thoughts and actions through raising awareness and self-regulation. Yoga from ancient India was originally meant for the mind before it was popularized as a physical activity. The UNC Bhakti Yoga club is working to help students experience these same fulfilling feelings through mindful meditation. \nThe Bhakti Yoga Club is committed to creating a stress-relieving and welcoming environment. Free vegan treats will be provided to session participants. All are welcome! \nThe main session runs from 7-8 P.M. Participants are welcome to stay (from 8-8:30 P.M.) after the main session\, to enjoy some snacks and interact with other participants. \nNotes: \nYou do not need to RSVP to attend! We only use the RSVP headcount as an estimate so we know how much food to bring (+ so we can have extras for everyone). \nYou do not need a yoga mat (this is not physical exercise). You are welcome to stay as long as you like during the sessions. You also do not need to have attended previous sessions to show up to an upcoming one. Feel free to come and see how you feel. \n\n\n\n      From Monday\, April 20\, 2026 7:00 PM\n      to 8:00 PM EDT\n      at Student Union #2424.
URL:https://studentaffairs.unc.edu/event/mindful-meditation-by-bhakti-yoga-club-of-unc-chapel-hill-2/
CATEGORIES:Religious & Spiritual,Science & Nature,Self-Awareness, Health & Well-being,Spirituality
ATTACH;FMTTYPE=image/png:https://studentaffairs.unc.edu/wp-content/uploads/2026/04/0d920090-905f-411b-85dd-d719ec7c5be4b83e17be-f84e-4621-a29e-220e4d6419c3-1.jpg
END:VEVENT
END:VCALENDAR