BEGIN:VCALENDAR
VERSION:2.0
PRODID:-//UNC Student Affairs - ECPv6.15.20//NONSGML v1.0//EN
CALSCALE:GREGORIAN
METHOD:PUBLISH
X-WR-CALNAME:UNC Student Affairs
X-ORIGINAL-URL:https://studentaffairs.unc.edu
X-WR-CALDESC:Events for UNC Student Affairs
REFRESH-INTERVAL;VALUE=DURATION:PT1H
X-Robots-Tag:noindex
X-PUBLISHED-TTL:PT1H
BEGIN:VTIMEZONE
TZID:America/New_York
BEGIN:DAYLIGHT
TZOFFSETFROM:-0500
TZOFFSETTO:-0400
TZNAME:EDT
DTSTART:20250309T070000
END:DAYLIGHT
BEGIN:STANDARD
TZOFFSETFROM:-0400
TZOFFSETTO:-0500
TZNAME:EST
DTSTART:20251102T060000
END:STANDARD
BEGIN:DAYLIGHT
TZOFFSETFROM:-0500
TZOFFSETTO:-0400
TZNAME:EDT
DTSTART:20260308T070000
END:DAYLIGHT
BEGIN:STANDARD
TZOFFSETFROM:-0400
TZOFFSETTO:-0500
TZNAME:EST
DTSTART:20261101T060000
END:STANDARD
BEGIN:DAYLIGHT
TZOFFSETFROM:-0500
TZOFFSETTO:-0400
TZNAME:EDT
DTSTART:20270314T070000
END:DAYLIGHT
BEGIN:STANDARD
TZOFFSETFROM:-0400
TZOFFSETTO:-0500
TZNAME:EST
DTSTART:20271107T060000
END:STANDARD
END:VTIMEZONE
BEGIN:VEVENT
DTSTART;TZID=America/New_York:20260504T140000
DTEND;TZID=America/New_York:20260504T160000
DTSTAMP:20260419T083644
CREATED:20260417T142207Z
LAST-MODIFIED:20260418T142558Z
UID:7524-1777903200-1777910400@studentaffairs.unc.edu
SUMMARY:GRAYSON the Therapy Dog at HSL
DESCRIPTION:GRAYSON the Therapy Dog at HSL\n\nGRAYSON\, the School of Dentistry’s rehabilitative facility dog\, will be making an extra-special appearance in the Health Sciences Library during Week of Balance.   \n\n\n\n      From Monday\, May 4\, 2026 2:00 PM\n      to 4:00 PM EDT\n      at Health Sciences Library.
URL:https://studentaffairs.unc.edu/event/grayson-the-therapy-dog-at-hsl/
CATEGORIES:Community Building & Social Activities,LDOC,Social
ATTACH;FMTTYPE=image/png:https://studentaffairs.unc.edu/wp-content/uploads/2026/04/e46b0d9f-badf-442f-b7e2-8cbda21baeb20d798d82-386c-491e-9e18-de966c3ee775.jpg
END:VEVENT
END:VCALENDAR