BEGIN:VCALENDAR
VERSION:2.0
PRODID:-//UNC Student Affairs - ECPv6.15.20//NONSGML v1.0//EN
CALSCALE:GREGORIAN
METHOD:PUBLISH
X-WR-CALNAME:UNC Student Affairs
X-ORIGINAL-URL:https://studentaffairs.unc.edu
X-WR-CALDESC:Events for UNC Student Affairs
REFRESH-INTERVAL;VALUE=DURATION:PT1H
X-Robots-Tag:noindex
X-PUBLISHED-TTL:PT1H
BEGIN:VTIMEZONE
TZID:America/New_York
BEGIN:DAYLIGHT
TZOFFSETFROM:-0500
TZOFFSETTO:-0400
TZNAME:EDT
DTSTART:20250309T070000
END:DAYLIGHT
BEGIN:STANDARD
TZOFFSETFROM:-0400
TZOFFSETTO:-0500
TZNAME:EST
DTSTART:20251102T060000
END:STANDARD
BEGIN:DAYLIGHT
TZOFFSETFROM:-0500
TZOFFSETTO:-0400
TZNAME:EDT
DTSTART:20260308T070000
END:DAYLIGHT
BEGIN:STANDARD
TZOFFSETFROM:-0400
TZOFFSETTO:-0500
TZNAME:EST
DTSTART:20261101T060000
END:STANDARD
BEGIN:DAYLIGHT
TZOFFSETFROM:-0500
TZOFFSETTO:-0400
TZNAME:EDT
DTSTART:20270314T070000
END:DAYLIGHT
BEGIN:STANDARD
TZOFFSETFROM:-0400
TZOFFSETTO:-0500
TZNAME:EST
DTSTART:20271107T060000
END:STANDARD
END:VTIMEZONE
BEGIN:VEVENT
DTSTART;TZID=America/New_York:20260421T090000
DTEND;TZID=America/New_York:20260421T110000
DTSTAMP:20260419T083916
CREATED:20260417T142301Z
LAST-MODIFIED:20260418T142558Z
UID:7724-1776762000-1776769200@studentaffairs.unc.edu
SUMMARY:Coffee on CUAB
DESCRIPTION:Coffee on CUAB\n\nGRAD EVENT \nCUAB is giving out Brandwein’s bagels and coffee! \nStick around to enter three raffle giveaways and win some goodies! \n\n\n\n      From Tuesday\, April 21\, 2026 9:00 AM\n      to 11:00 AM EDT\n      at Gillings Atrium.
URL:https://studentaffairs.unc.edu/event/coffee-on-cuab/
CATEGORIES:Community Building & Social Activities,CUAB,Graduate & Professional Student Program,Social
ATTACH;FMTTYPE=image/png:https://studentaffairs.unc.edu/wp-content/uploads/2026/04/532c7707-9719-41d5-9f4e-8a9438dc4b087403bece-ae38-448e-a514-3965d2259fcd.jpg
END:VEVENT
BEGIN:VEVENT
DTSTART;TZID=America/New_York:20260421T090000
DTEND;TZID=America/New_York:20260421T110000
DTSTAMP:20260419T083916
CREATED:20260418T142600Z
LAST-MODIFIED:20260418T142600Z
UID:8263-1776762000-1776769200@studentaffairs.unc.edu
SUMMARY:2026 Climate Change Symposium
DESCRIPTION:2026 Climate Change Symposium\n\nJoin us for CLE credit and an exciting series of conversations about one of the world’s most pressing issues! You have a stake in the health of the environment\, and in the midst of a rapidly changing climate\, it is critical that we share our most current understanding in order to coordinate the fight against climate change. \nHosted by SEEDS at UNC-CH\, this year’s Annual Climate Change Symposium will be held throughout the day next week on April 21st in Wilson Library’s Pleasants Family Assembly Room. Put on almost every year since 2010\, this event brings together students\, faculty\, and professionals to discuss climate change and think about pathways to solutions\, from policy to technology. Anyone interested is welcome to attend any part of the event which will last from 9 a.m. to 2:30 p.m. See more details below. \nAbout the event:The day will start with bagels\, an intro\, and speaker sessions\, featuring presentations by UNC Professor Nancy Guo on Carbon Capture\, Dr. Melissa Malkin-Weber on Clean Energy\, and SELC’s Ramona McGee on Wildlife Conservation Policy. A panel will follow\, with panelists bringing perspectives from local\, organizational\, and international levels of climate and environmental management\, then a bring-your-own-lunch break during which you can join one of the breakout workshops\, one by Climate Journalist Justin Cook on Climate Communication\, and one by Sunrise on Student Activism. After lunch\, we will have a networking session during which you can hear from students giving poster presentations and tabling student organizations\, before closing with Climate Hero awards. If any of these sound interesting\, we’d love for you to RSVP to participate! There is no obligation to stay for the entire duration. \nPlease feel free to contact zikbaj@unc.edu if you have any questions or need more information\, and we hope to see you there! \nRSVP: https://forms.gle/TG6SQ4kxNDZ2f52T7 \n\n\n\n      From Tuesday\, April 21\, 2026 9:00 AM\n      to 2:30 PM EDT\n      at Pleasants Family Assembly Room\, Wilson Library.
URL:https://studentaffairs.unc.edu/event/2026-climate-change-symposium/
CATEGORIES:Civic Engagement, Public Service, & Philanthropy,Graduate & Professional Student Program,Science & Nature,ThoughtfulLearning
ATTACH;FMTTYPE=image/png:https://studentaffairs.unc.edu/wp-content/uploads/2026/04/2a099db8-9391-4b11-9e3b-f0c7dc357238a99fd868-f469-43ab-813c-520eed39623c.jpg
END:VEVENT
BEGIN:VEVENT
DTSTART;TZID=America/New_York:20260421T100000
DTEND;TZID=America/New_York:20260421T120000
DTSTAMP:20260419T083916
CREATED:20260417T142325Z
LAST-MODIFIED:20260418T142617Z
UID:7809-1776765600-1776772800@studentaffairs.unc.edu
SUMMARY:"Human-in-the-Loop” Thematic Analysis: Using R to Apply Current Recommendations for Incorporating LLMs into Qualitative Research (online)
DESCRIPTION:“Human-in-the-Loop” Thematic Analysis: Using R to Apply Current Recommendations for Incorporating LLMs into Qualitative Research (online)\n\nDo you want to explore current research recommendations in the literature on incorporating LLMs into qualitative/mixed methods data analysis\, or are you interested in implementing LLMs into your qualitative/mixed methods workflow?  If so\, this short course is designed for you! \nIn this course we will examine current recommendations from the literature regarding integrating AI (specifically LLMs) into the process of qualitative coding.  Acknowledging that a wide range of qualitative approaches exist\, all examples and recommendations in this course will be based on the 6 Phase Thematic Analysis Framework proposed by Braun & Clarke 2006 to simplify the course scope. \nNo perquisites in qualitative methods or coding are required for this course – just bring your computer & your curiosity! \nIn the course we will: \n1)        Review the qualitative approach of Thematic Analysis using the Braun & Clarke Framework \n2)        Get a high-level\, very big picture understanding of LLMs\, what they are & how they generate “natural language” \n3)        Examine current recommendations in the literature on incorporating LLMs in Thematic Analysis \n4)        Do hands-on activities in R that implement some of the current recommendations using the Braun & Clarke Framework.  We will compare our results to published results generated by all human coders using the same data \nMinimum computer requirements for full participation are as follows: \n– RAM: At least 16 GB of random access memory \n– GPU: A graphics card with at least 16 GB of VRAM (video memory) \n– Disk Space: About 16 GB of free space on your hard drive or SSD \nPlease install the most recent version of the following software prior to class.  Be sure to install the version for your operating system and please install R prior to installing R Studio. \n–            R: https://cran.r-project.org/ \n–            R Studio: https://posit.co/download/rstudio-desktop/ \n–            Ollama: https://ollama.com/ \nRegistration and a refundable deposit is required to receive Zoom link. Deposit will be refunded upon attendance of course. \nTo learn more and register\, click HERE. \n\n\n\n      From Tuesday\, April 21\, 2026 10:00 AM\n      to Wednesday\, April 22\, 2026 2:00 PM EDT\n      at Online.
URL:https://studentaffairs.unc.edu/event/human-in-the-loop-thematic-analysis-using-r-to-apply-current-recommendations-for-incorporating-llms-into-qualitative-research-online/
CATEGORIES:Campus Life Experience,Graduate & Professional Student Program,Lecture,Science & Nature,ThoughtfulLearning
ATTACH;FMTTYPE=image/png:https://studentaffairs.unc.edu/wp-content/uploads/2026/04/14173e29-17ef-42bf-859b-674ef6f0872d56663db2-1145-4b00-a96c-080d57702e8b.jpg
END:VEVENT
BEGIN:VEVENT
DTSTART;TZID=America/New_York:20260421T110000
DTEND;TZID=America/New_York:20260421T130000
DTSTAMP:20260419T083916
CREATED:20260417T142301Z
LAST-MODIFIED:20260418T142559Z
UID:7727-1776769200-1776776400@studentaffairs.unc.edu
SUMMARY:Resume 201: Advanced Resume Writing
DESCRIPTION:Resume 201: Advanced Resume Writing\n\nTake your resume to the next level in Resume 201! Learn advanced techniques for crafting targeted resumes and showcasing achievements that set you apart in competitive industries. \n\n\n\n      From Tuesday\, April 21\, 2026 11:00 AM\n      to 12:00 PM EDT\n      at Hanes 239.
URL:https://studentaffairs.unc.edu/event/resume-201-advanced-resume-writing/
CATEGORIES:Campus Life Experience,Career Exploration & Development,Civic Engagement, Public Service, & Philanthropy,Community Building & Social Activities,Graduate & Professional Student Program,Leadership Development,Social
ATTACH;FMTTYPE=image/png:https://studentaffairs.unc.edu/wp-content/uploads/2026/04/bbc84eeb-32cc-423a-8c59-131aed9867d792b718cc-5697-4234-b168-b53095177fe8.jpg
END:VEVENT
BEGIN:VEVENT
DTSTART;TZID=America/New_York:20260421T120000
DTEND;TZID=America/New_York:20260421T140000
DTSTAMP:20260419T083916
CREATED:20260417T142302Z
LAST-MODIFIED:20260418T142559Z
UID:7731-1776772800-1776780000@studentaffairs.unc.edu
SUMMARY:Asian American Center Council of Student Orgs
DESCRIPTION:Asian American Center Council of Student Orgs\n\n\nCurrent and next year’s exec team members from all Asian and Asian American interest student groups are invited to the Council of Student Organizations meeting on Tuesday\, April 21st from 12-1pm in the Graduate Student Center (211a West Cameron Avenue).\n \n\n\nThis is an opportunity for everyone to share what they have planned for the rest of this academic year and next. There will also be an open discussion on future collaborations with each other and the AAC.\n \n\n\nWe will also be sharing details about our first ever Council of Student Orgs Finals Study Hall so this is a meeting you will not want to miss!\n \n\n\nLunch will be provided to those that register by Monday\, April 20th at 8am: go.unc.edu/AACcouncil  (if this link does not work\, please copy & paste into your browser)\n\n\n\n\n      From Tuesday\, April 21\, 2026 12:00 PM\n      to 1:00 PM EDT\n      at Graduate Student Center.
URL:https://studentaffairs.unc.edu/event/asian-american-center-council-of-student-orgs/
CATEGORIES:Campus Life Experience,Civic Engagement, Public Service, & Philanthropy,Community Building & Social Activities,Cultural,Culture & Identity,Graduate & Professional Student Program,Leadership Development
ATTACH;FMTTYPE=image/png:https://studentaffairs.unc.edu/wp-content/uploads/2026/04/95ae5db5-c759-4a19-9262-1be2a1f69af1b93a7e79-b48a-436f-8fcf-6cec21e9f080.jpg
END:VEVENT
BEGIN:VEVENT
DTSTART;TZID=America/New_York:20260421T123000
DTEND;TZID=America/New_York:20260421T143000
DTSTAMP:20260419T083916
CREATED:20260417T142304Z
LAST-MODIFIED:20260418T142601Z
UID:7735-1776774600-1776781800@studentaffairs.unc.edu
SUMMARY:“Singing of Troy: Imagining an Heroic Age from the Iliad to the Aeneid” -- David Stuttard
DESCRIPTION:“Singing of Troy: Imagining an Heroic Age from the Iliad to the Aeneid” — David Stuttard\n\n     —     \n  “   ”—       \, the University of North Carolina at Chapel Hill is delighted to welcome back  —distinguished classicist\, writer\, lecturer\, dramaturge\, and Fellow of Goodenough College\, London—for a live webinar with students in Epic\, Empire\, and Diplomacy (PWAD/CMPL 489). \n \,   :–:   (:–:  )    —     \nDavid will speak on themes drawn from ’  and ’ \, bringing his characteristic clarity and narrative brilliance to questions of epic\, leadership\, diplomacy\, and the enduring structures of power. \nThis year’s visit comes amid an extraordinary period of activity. David has recently led study tours to      and  with the Oxford Arts Society and Goodenough College\, and is currently delivering a lecture series at 92NY in New York City. At the same time\, he has just published his latest book with Harvard University Press—Hubris: Pericles’ Parthenon Project and the Invention of Athens—a remarkable achievement in an already distinguished career. \nDavid’s work continues to exemplify what the study of antiquity can be at its best: rigorous\, humane\, and vividly alive to the present. Whether in the lecture hall\, on stage\, or guiding students through the landscapes of the ancient Mediterranean\, he brings the classical world into immediate and compelling focus. \nThis conversation offers a fitting culmination to the semester—and no prior background in Greek or Roman literature is required. All who are interested in epic\, history\, leadership\, or the long arc of cultural memory are most welcome to join. \n  :https://unc.zoom.us/webinar/register/WN_ftYbZ2ZtTF2F-hyCvE1wkA \nHosted by the Transatlantic Forum for Education and Diplomacy (TFED) in partnership \n\n\n\n      From Tuesday\, April 21\, 2026 12:30 PM\n      to 3:15 PM EDT\n      at FedEx Global Education Center — Room 1009.
URL:https://studentaffairs.unc.edu/event/singing-of-troy-imagining-an-heroic-age-from-the-iliad-to-the-aeneid-david-stuttard/
CATEGORIES:Campus Life Experience,Career Exploration & Development,Culture & Identity,Graduate & Professional Student Program,Lecture,ThoughtfulLearning
ATTACH;FMTTYPE=image/png:https://studentaffairs.unc.edu/wp-content/uploads/2026/04/e7b4816b-bbd0-4444-855a-e6d0e1e06705f217bfe9-18d8-4049-964c-fd6e16706aa3.jpg
END:VEVENT
BEGIN:VEVENT
DTSTART;TZID=America/New_York:20260421T171500
DTEND;TZID=America/New_York:20260421T191500
DTSTAMP:20260419T083916
CREATED:20260418T142605Z
LAST-MODIFIED:20260418T142605Z
UID:8266-1776791700-1776798900@studentaffairs.unc.edu
SUMMARY:“American Diplomacy and Global Disorder: The Middle East\, Europe\, and What Comes Next” -- Ambassador Robert Pearson
DESCRIPTION:“American Diplomacy and Global Disorder: The Middle East\, Europe\, and What Comes Next” — Ambassador Robert Pearson\n\n—      “”  (   ) \nThe Transatlantic Forum for Education and Diplomacy (TFED)\, in partnership with the Carolina Forum for Education and Diplomacy (CFED) and UNC Global Affairs\, is delighted to welcome back Ambassador Robert “Bob” Pearson for a special on-campus address at the University of North Carolina at Chapel Hill. \nAs we bring the semester to a close\, Ambassador Pearson will offer a timely and wide-ranging perspective on one of the central questions of our moment: \nDrawing on a distinguished career that includes service as:• U.S. Ambassador to Turkey• Director General of the U.S. Foreign Service• Deputy Chief of Mission in Paris• Senior roles at NATO and across Europe\, Asia\, and Washington \nAmbassador Pearson will reflect on: U.S. diplomacy and strategic challenges in the Middle East (including Iran) The future of Europe and the transatlantic partnership️ NATO\, alliance cohesion\, and shifting security commitments⚖️ The erosion—and possible renewal—of global norms and institutions What comes next for American leadership in a changing world \n Date: Tuesday\, April 21\, 2026 Time: 5:15–6:00 PM ET Location: FedEx Global Education Center (Second-Floor Conference Room\, UNC Chapel Hill) UNC Students: CLE credit available Pizza and informal conversation to follow \nThis event serves as a fitting close to the semester in PWAD/CMPL 489: Epic\, Empire\, and Diplomacy—a course that brings students into conversation not only with foundational texts and ancient empires\, but also with practitioners of diplomacy whose experience helps illuminate how the past continues to shape the present. \nEarlier the same day\, we will hear from classicist David Stuttard on Homeric epic—making for a rare and rewarding “double header” that bridges the ancient and the contemporary\, the literary and the geopolitical. \n Learn more: https://tfed.ngo \n#Diplomacy #ForeignPolicy #GlobalAffairs #NATO #TransatlanticRelations #UNC #TFED #CFED \n\n\n\n      From Tuesday\, April 21\, 2026 5:15 PM\n      to 6:00 PM EDT\n      at FedEx Global Education Center.
URL:https://studentaffairs.unc.edu/event/american-diplomacy-and-global-disorder-the-middle-east-europe-and-what-comes-next-ambassador-robert-pearson/
LOCATION:FedEx Global Education Center (Second-Floor Conference Room\, UNC Chapel Hill) UNC Students: CLE credit available Pizza and informal conversation to follow
CATEGORIES:Campus Life Experience,Career Exploration & Development,Civic Engagement, Public Service, & Philanthropy,Graduate & Professional Student Program,Leadership Development,Lecture,ThoughtfulLearning
ATTACH;FMTTYPE=image/png:https://studentaffairs.unc.edu/wp-content/uploads/2026/04/c50712dc-c150-4fbf-ba4b-577b0862b0f1cf6a0d01-0d80-438d-9fe7-0500049e4e7c.jpg
END:VEVENT
BEGIN:VEVENT
DTSTART;TZID=America/New_York:20260421T180000
DTEND;TZID=America/New_York:20260421T200000
DTSTAMP:20260419T083916
CREATED:20260417T142309Z
LAST-MODIFIED:20260418T142606Z
UID:7754-1776794400-1776801600@studentaffairs.unc.edu
SUMMARY:Explore @ Berkshire Partners (Cancelled)
DESCRIPTION:Explore @ Berkshire Partners\n\n\n\nInfo Session\nWe are thrilled to announce our programming for Explore @ Berkshire Partners\, an educational initiative aimed at undergraduates interested in the world of investing. This program is focused on bringing fresh perspectives and we invite students from a broad array of backgrounds and experiences who bring unique voices to apply. \nAs part of this educational and interactive experience\, participants will learn about private and public equity through the lens of Berkshire’s core values:  \nBuild relationships through mentorship and receive advice from investment professionals on everything from breaking into the industry to a day in the life of an investor.  \n  \n\n\n\n\n\n      From Tuesday\, April 21\, 2026 6:00 PM\n      to 7:00 PM EDT\n      at Online.
URL:https://studentaffairs.unc.edu/event/explore-berkshire-partners-cancelled/
CATEGORIES:Career Exploration & Development,Community Building & Social Activities,Graduate & Professional Student Program,Leadership Development,Social
ATTACH;FMTTYPE=image/png:https://studentaffairs.unc.edu/wp-content/uploads/2026/04/3bd40b27-c475-4845-bc3b-a797ad5bec9216f05604-4a94-4b9b-80db-09772d7283d4.jpg
END:VEVENT
BEGIN:VEVENT
DTSTART;TZID=America/New_York:20260421T180000
DTEND;TZID=America/New_York:20260421T200000
DTSTAMP:20260419T083916
CREATED:20260417T142311Z
LAST-MODIFIED:20260418T142607Z
UID:7758-1776794400-1776801600@studentaffairs.unc.edu
SUMMARY:Explore @ Berkshire Partners
DESCRIPTION:Explore @ Berkshire Partners\n\n\n\nInfo Session\nWe are thrilled to announce our programming for Explore @ Berkshire Partners\, an educational initiative aimed at undergraduates interested in the world of investing. This program is focused on bringing fresh perspectives and we invite students from a broad array of backgrounds and experiences who bring unique voices to apply. \nAs part of this educational and interactive experience\, participants will learn about private and public equity through the lens of Berkshire’s core values:  \nBuild relationships through mentorship and receive advice from investment professionals on everything from breaking into the industry to a day in the life of an investor.  \n  \n\n\n\n\n\n      From Tuesday\, April 21\, 2026 6:00 PM\n      to 7:00 PM EDT\n      at Online.
URL:https://studentaffairs.unc.edu/event/explore-berkshire-partners/
CATEGORIES:Career Exploration & Development,Community Building & Social Activities,Graduate & Professional Student Program,Leadership Development,Social
ATTACH;FMTTYPE=image/png:https://studentaffairs.unc.edu/wp-content/uploads/2026/04/3bd40b27-c475-4845-bc3b-a797ad5bec9216f05604-4a94-4b9b-80db-09772d7283d4-1.jpg
END:VEVENT
BEGIN:VEVENT
DTSTART;TZID=America/New_York:20260421T201500
DTEND;TZID=America/New_York:20260421T221500
DTSTAMP:20260419T083916
CREATED:20260417T142320Z
LAST-MODIFIED:20260418T142613Z
UID:7789-1776802500-1776809700@studentaffairs.unc.edu
SUMMARY:Warburg Pincus Analyst Information Session Webinar | UNC Chapel Hill (Cancelled)
DESCRIPTION:Warburg Pincus Analyst Information Session Webinar | UNC Chapel Hill\n\nInfo Session\nInterested in a career in private equity? Join us for an exclusive webinar to learn about full-time Analyst opportunities at Warburg Pincus. \nHear directly from our team across Human Capital\, Industrials\, and Technology as they share insights on the firm\, the Analyst role\, and what it’s like to work at one of the world’s leading private equity firms. \n Tuesday\, April 21\, 2026  8:15–9:30 p.m. ET  Virtual \nRegister via the Warburg Pincus registration website to secure your spot. \n\n\n\n      From Tuesday\, April 21\, 2026 8:15 PM\n      to 9:30 PM EDT\n      at Online.
URL:https://studentaffairs.unc.edu/event/warburg-pincus-analyst-information-session-webinar-unc-chapel-hill-cancelled/
CATEGORIES:Career Exploration & Development,Community Building & Social Activities,Graduate & Professional Student Program,Leadership Development,Social
ATTACH;FMTTYPE=image/png:https://studentaffairs.unc.edu/wp-content/uploads/2026/04/ffd51262-de87-4f5c-a0da-398eda124168b8c8b963-7d09-400f-82bb-e6ccb6df32f7.jpg
END:VEVENT
BEGIN:VEVENT
DTSTART;TZID=America/New_York:20260421T201500
DTEND;TZID=America/New_York:20260421T221500
DTSTAMP:20260419T083916
CREATED:20260417T142321Z
LAST-MODIFIED:20260418T142614Z
UID:7793-1776802500-1776809700@studentaffairs.unc.edu
SUMMARY:Warburg Pincus Analyst Information Session Webinar | UNC Chapel Hill
DESCRIPTION:Warburg Pincus Analyst Information Session Webinar | UNC Chapel Hill\n\nInfo Session\nInterested in a career in private equity? Join us for an exclusive webinar to learn about full-time Analyst opportunities at Warburg Pincus. \nHear directly from our team across Human Capital\, Industrials\, and Technology as they share insights on the firm\, the Analyst role\, and what it’s like to work at one of the world’s leading private equity firms. \n Tuesday\, April 21\, 2026  8:15–9:30 p.m. ET  Virtual \nRegister via the Warburg Pincus registration website to secure your spot. \n\n\n\n      From Tuesday\, April 21\, 2026 8:15 PM\n      to 9:30 PM EDT\n      at Online.
URL:https://studentaffairs.unc.edu/event/warburg-pincus-analyst-information-session-webinar-unc-chapel-hill/
CATEGORIES:Career Exploration & Development,Community Building & Social Activities,Graduate & Professional Student Program,Leadership Development,Social
ATTACH;FMTTYPE=image/png:https://studentaffairs.unc.edu/wp-content/uploads/2026/04/ffd51262-de87-4f5c-a0da-398eda124168b8c8b963-7d09-400f-82bb-e6ccb6df32f7-1.jpg
END:VEVENT
END:VCALENDAR