BEGIN:VCALENDAR
VERSION:2.0
PRODID:-//UNC Student Affairs - ECPv6.15.20//NONSGML v1.0//EN
CALSCALE:GREGORIAN
METHOD:PUBLISH
X-ORIGINAL-URL:https://studentaffairs.unc.edu
X-WR-CALDESC:Events for UNC Student Affairs
REFRESH-INTERVAL;VALUE=DURATION:PT1H
X-Robots-Tag:noindex
X-PUBLISHED-TTL:PT1H
BEGIN:VTIMEZONE
TZID:America/New_York
BEGIN:DAYLIGHT
TZOFFSETFROM:-0500
TZOFFSETTO:-0400
TZNAME:EDT
DTSTART:20250309T070000
END:DAYLIGHT
BEGIN:STANDARD
TZOFFSETFROM:-0400
TZOFFSETTO:-0500
TZNAME:EST
DTSTART:20251102T060000
END:STANDARD
BEGIN:DAYLIGHT
TZOFFSETFROM:-0500
TZOFFSETTO:-0400
TZNAME:EDT
DTSTART:20260308T070000
END:DAYLIGHT
BEGIN:STANDARD
TZOFFSETFROM:-0400
TZOFFSETTO:-0500
TZNAME:EST
DTSTART:20261101T060000
END:STANDARD
BEGIN:DAYLIGHT
TZOFFSETFROM:-0500
TZOFFSETTO:-0400
TZNAME:EDT
DTSTART:20270314T070000
END:DAYLIGHT
BEGIN:STANDARD
TZOFFSETFROM:-0400
TZOFFSETTO:-0500
TZNAME:EST
DTSTART:20271107T060000
END:STANDARD
END:VTIMEZONE
BEGIN:VEVENT
DTSTART;TZID=America/New_York:20260425T164500
DTEND;TZID=America/New_York:20260425T184500
DTSTAMP:20260419T075859
CREATED:20260418T142620Z
LAST-MODIFIED:20260418T142620Z
UID:8275-1777135500-1777142700@studentaffairs.unc.edu
SUMMARY:Steel Magnolias: Interactive Workshop
DESCRIPTION:Steel Magnolias: Interactive Workshop\n\nJoin Assistant Director\, Talitha Morena Moniz MicMillion\, after this Saturday’s matinee or before the evening performance to explore and interact with themes of Steel Magnolias. Robert Harling’s 1971 play constructs a sacred space\, a haven for women of a community\, where they can be themselves and more. Explore three activity-based stations and reflect or anticipate your experience with the show!\n \nPlease note that this free workshop is intended for those also attending a performance of Steel Magnolias at PlayMakers. UNC Student tickets for the performance are just $10 and must be purchased ahead. Both this workshop and the performance itself are each available for CLE credits.\n\n\n\n      From Saturday\, April 25\, 2026 4:45 PM\n      to 5:30 PM EDT\n      at Joan H. Gillings Center for Dramatic Art\, Room 101.
URL:https://studentaffairs.unc.edu/event/steel-magnolias-interactive-workshop/
CATEGORIES:Arts,Campus Life Experience,Films, Music, & Performing Arts
ATTACH;FMTTYPE=image/png:https://studentaffairs.unc.edu/wp-content/uploads/2026/04/1b0b83f0-a288-402b-b597-49912c12b091a0d7eb41-321e-42de-abc7-c42e5d093011.jpg
END:VEVENT
BEGIN:VEVENT
DTSTART;TZID=America/New_York:20260425T170000
DTEND;TZID=America/New_York:20260425T190000
DTSTAMP:20260419T075859
CREATED:20260417T142223Z
LAST-MODIFIED:20260418T142622Z
UID:7585-1777136400-1777143600@studentaffairs.unc.edu
SUMMARY:Spring Charity Concert
DESCRIPTION:Spring Charity Concert\n\nJoin us April 25 at Little Frat Court for a charity concert featuring Stop Light Observations with student bands TBD\, Out of Gas\, and Lily Room opening the show. Music starts at 5 PM\, with three opening sets leading up to Stop Light Observations headlining from 8–9:30 PM. The night will also feature food trucks\, photography\, merch\, and more\, bringing the student body together for an unforgettable night while raising money for charity. Ticket proceeds support the student-led organizations Stomp Out Hunger and the UNC Center of Excellence for Eating Disorders. Sponsored by UNC Student Government\, the Interfraternity Council (IFC)\, Panhellenic Association (PHA)\, and the National Pan-Hellenic Council (NPHC). \nTickets must be purchased in advance of attendance at https://doorlist.app/e/Lno0aP3?s=3Z2moxYdSt \n\n\n\n      From Saturday\, April 25\, 2026 5:00 PM\n      to 9:30 PM EDT\n      at Little Frat Court.
URL:https://studentaffairs.unc.edu/event/spring-charity-concert/
CATEGORIES:Arts,Campus Life Experience,Carolina After Dark,Films, Music, & Performing Arts
ATTACH;FMTTYPE=image/png:https://studentaffairs.unc.edu/wp-content/uploads/2026/04/25f01703-eec4-4800-bd27-7aa1789358b8570749a3-dcd3-46c4-b7a5-9290daeb239c.jpg
END:VEVENT
BEGIN:VEVENT
DTSTART;TZID=America/New_York:20260425T170000
DTEND;TZID=America/New_York:20260425T190000
DTSTAMP:20260419T075859
CREATED:20260417T142314Z
LAST-MODIFIED:20260418T142546Z
UID:7768-1777136400-1777143600@studentaffairs.unc.edu
SUMMARY:Spring Charity Concert with Stop Light Observations (Cancelled)
DESCRIPTION:Spring Charity Concert with Stop Light Observations\n\n  \nJoin us on April 25 at LFC for a charity concert featuring Stop Light Observations with student bands TBD\, Out of Gas\, and Lily Room opening the show. Music starts at 5 PM\, with three opening sets leading up to Stop Light Observations headlining from 8–9:30 PM. The night will also feature food trucks\, photography\, merch\, and more\, bringing the student body together for an unforgettable night while raising money for charity. Ticket proceeds support the student-led organizations Stop Out Hunger and the UNC Center of Excellence for Eating Disorders. Sponsored by UNC Student Government\, IFC\, and Panhellenic. \n\n\n\n      From Saturday\, April 25\, 2026 5:00 PM\n      to 9:30 PM EDT\n      at Little Frat Court.
URL:https://studentaffairs.unc.edu/event/spring-charity-concert-with-stop-light-observations-cancelled/
CATEGORIES:Arts,Carolina After Dark,Community Building & Social Activities,Films, Music, & Performing Arts
ATTACH;FMTTYPE=image/png:https://studentaffairs.unc.edu/wp-content/uploads/2026/04/93538413-47a7-48a3-a291-f71994fd618f256df2ca-2702-492b-90db-9d014bb8e71a.jpg
END:VEVENT
BEGIN:VEVENT
DTSTART;TZID=America/New_York:20260425T193000
DTEND;TZID=America/New_York:20260425T213000
DTSTAMP:20260419T075859
CREATED:20260417T142137Z
LAST-MODIFIED:20260418T142621Z
UID:7407-1777145400-1777152600@studentaffairs.unc.edu
SUMMARY:Charanga Carolina Spring Concert
DESCRIPTION:Charanga Carolina Spring Concert\n\nCharanga Carolina\, directed by Rebecca Kleinmann \n  \nTBA \n  \nPlease plan to arrive early as parking on campus can be tricky. Learn more about parking and directions to UNC-Chapel Hill’s campus. \n\n\n\n      From Saturday\, April 25\, 2026 7:30 PM\n      to 9:00 PM EDT\n      at Moeser Auditorium\, Hill Hall.
URL:https://studentaffairs.unc.edu/event/charanga-carolina-spring-concert/
CATEGORIES:Arts,Campus Life Experience,Films, Music, & Performing Arts
ATTACH;FMTTYPE=image/png:https://studentaffairs.unc.edu/wp-content/uploads/2026/04/71e3f4e0-5575-419d-87da-d5fb017d91a5adc45c20-1652-4b9a-9393-4240094ab191.jpg
END:VEVENT
END:VCALENDAR