BEGIN:VCALENDAR
VERSION:2.0
PRODID:-//UNC Student Affairs - ECPv6.15.20//NONSGML v1.0//EN
CALSCALE:GREGORIAN
METHOD:PUBLISH
X-ORIGINAL-URL:https://studentaffairs.unc.edu
X-WR-CALDESC:Events for UNC Student Affairs
REFRESH-INTERVAL;VALUE=DURATION:PT1H
X-Robots-Tag:noindex
X-PUBLISHED-TTL:PT1H
BEGIN:VTIMEZONE
TZID:America/New_York
BEGIN:DAYLIGHT
TZOFFSETFROM:-0500
TZOFFSETTO:-0400
TZNAME:EDT
DTSTART:20250309T070000
END:DAYLIGHT
BEGIN:STANDARD
TZOFFSETFROM:-0400
TZOFFSETTO:-0500
TZNAME:EST
DTSTART:20251102T060000
END:STANDARD
BEGIN:DAYLIGHT
TZOFFSETFROM:-0500
TZOFFSETTO:-0400
TZNAME:EDT
DTSTART:20260308T070000
END:DAYLIGHT
BEGIN:STANDARD
TZOFFSETFROM:-0400
TZOFFSETTO:-0500
TZNAME:EST
DTSTART:20261101T060000
END:STANDARD
BEGIN:DAYLIGHT
TZOFFSETFROM:-0500
TZOFFSETTO:-0400
TZNAME:EDT
DTSTART:20270314T070000
END:DAYLIGHT
BEGIN:STANDARD
TZOFFSETFROM:-0400
TZOFFSETTO:-0500
TZNAME:EST
DTSTART:20271107T060000
END:STANDARD
END:VTIMEZONE
BEGIN:VEVENT
DTSTART;TZID=America/New_York:20260501T130000
DTEND;TZID=America/New_York:20260501T150000
DTSTAMP:20260419T090301
CREATED:20260418T142523Z
LAST-MODIFIED:20260418T142523Z
UID:8250-1777640400-1777647600@studentaffairs.unc.edu
SUMMARY:Tour: A Closer Look at "Color Concentrated"
DESCRIPTION:Tour: A Closer Look at “Color Concentrated”\n\n\nJoin Ackland educators for a lively half-hour look at a small handful of artworks. These engaging conversational tours offer a closer look at and new perspectives on works on view at the Museum. Today’s tour looks at Color Concentrated: A Salon-Style Show from the Robertson Collection. \nThis is a free\, walk-in event – no RSVP required. Visit the Ackland’s Events Calendar to learn more about upcoming public programming.  \nThis event is part of UNC–Chapel Hill’s Campus Life Experience (CLE) program. Students who attend can scan the QR code provided at the event to receive CLE credit. \n  \nImage credit: Vassily Kandinsky\, Russian\, 1866-1944\, Study for Autumn Landscape with Boats (detail)\, 1908\, oil on board\, 12 ×15 3/8 inches (30.5 ×40 cm). Lent by the Robertson Foundation\, in honor of Julian and Josie Robertson. \n\n\n\n\n      From Friday\, May 1\, 2026 1:00 PM\n      to 1:30 PM EDT\n      at Ackland Art Museum.
URL:https://studentaffairs.unc.edu/event/tour-a-closer-look-at-color-concentrated-6/
CATEGORIES:Arts,Campus Life Experience,Culture & Identity
ATTACH;FMTTYPE=image/png:https://studentaffairs.unc.edu/wp-content/uploads/2026/04/ae04fee5-8cd3-4ff8-9b80-c55be318e3f4734f24f4-f7db-4a8c-b93c-804475cfca9b.jpg
END:VEVENT
BEGIN:VEVENT
DTSTART;TZID=America/New_York:20260501T140000
DTEND;TZID=America/New_York:20260501T160000
DTSTAMP:20260419T090301
CREATED:20260417T142341Z
LAST-MODIFIED:20260418T142642Z
UID:7866-1777644000-1777651200@studentaffairs.unc.edu
SUMMARY:Semester Revue: Student Research & Responses to the Collection
DESCRIPTION:Semester Revue: Student Research & Responses to the Collection\n\nEach semester\, the Ackland Art Museum works with thousands of UNC-Chapel Hill students through courses and internships. The Semester Revue offers a glimpse into the quality and variety of the students’ research\, projects\, and performances. Come learn about the collection and see it anew through their short\, dynamic presentations. \nThe Ackland Semester Revue is part of UNC-Chapel Hill’s Campus Life Experience program. Scan the QR code at the event for CLE credit. \n\n\n\n      From Friday\, May 1\, 2026 2:00 PM\n      to 4:00 PM EDT\n      at Ackland Art Museum.
URL:https://studentaffairs.unc.edu/event/semester-revue-student-research-responses-to-the-collection/
CATEGORIES:Arts,Campus Life Experience,Culture & Identity
ATTACH;FMTTYPE=image/png:https://studentaffairs.unc.edu/wp-content/uploads/2026/04/094e239d-d1d9-48b6-a7ab-24991e4b4782f75795f3-b869-43b4-85f0-293a3acec17c.jpg
END:VEVENT
BEGIN:VEVENT
DTSTART;TZID=America/New_York:20260501T180000
DTEND;TZID=America/New_York:20260501T200000
DTSTAMP:20260419T090301
CREATED:20260417T142343Z
LAST-MODIFIED:20260418T142642Z
UID:7870-1777658400-1777665600@studentaffairs.unc.edu
SUMMARY:Arab American Heritage Festival
DESCRIPTION:Arab American Heritage Festival\n\nIn cooperation with the National Humanities Center\, CMEIS is proud to present our 2026 Arab American Heritage Festival on May 1st at 6PM. Please join us in the Nelson Mandela Auditorium of the FedEx Global Education Center to see performances by: \n\n\n\n \n \n\n\n\n      From Friday\, May 1\, 2026 6:00 PM\n      to 8:00 PM EDT\n      at FedEx Global Education Center.
URL:https://studentaffairs.unc.edu/event/arab-american-heritage-festival/
CATEGORIES:Campus Life Experience,Cultural,Culture & Identity
ATTACH;FMTTYPE=image/png:https://studentaffairs.unc.edu/wp-content/uploads/2026/04/e30716c5-0d53-40e9-b875-baaf41485e303579e416-f497-4ca9-8bf9-c2e8c3eeeeb3.jpg
END:VEVENT
BEGIN:VEVENT
DTSTART;TZID=America/New_York:20260502T100000
DTEND;TZID=America/New_York:20260502T120000
DTSTAMP:20260419T090301
CREATED:20260417T142344Z
LAST-MODIFIED:20260418T142644Z
UID:7874-1777716000-1777723200@studentaffairs.unc.edu
SUMMARY:Drawing in the Galleries
DESCRIPTION:Drawing in the Galleries\n\nJoin the Ackland Art Museum for our popular Drawing in the Galleries program this month during Studio Saturday! Amanda Hughes leads participants in a creative exploration of a particular object in the Ackland’s collection. \nParticipants all draw from one object using their own gallery-safe materials (paper/notebooks and dry media like crayons and pencils)\, then discuss what they’ve noticed through the process of drawing. \nThis is a free public program. No registration required; all skill levels are welcome. \n\n\n\n      From Saturday\, May 2\, 2026 10:00 AM\n      to 12:00 PM EDT\n      at Ackland Art Museum.
URL:https://studentaffairs.unc.edu/event/drawing-in-the-galleries/
CATEGORIES:Arts,Community Building & Social Activities,Culture & Identity
ATTACH;FMTTYPE=image/png:https://studentaffairs.unc.edu/wp-content/uploads/2026/04/52059a2f-545c-451c-96b0-46b8a15fafa07bae9d5e-0631-45dc-bfa9-e3dde63016e3.jpg
END:VEVENT
BEGIN:VEVENT
DTSTART;TZID=America/New_York:20260502T120000
DTEND;TZID=America/New_York:20260502T140000
DTSTAMP:20260419T090301
CREATED:20260417T142206Z
LAST-MODIFIED:20260418T142556Z
UID:7520-1777723200-1777730400@studentaffairs.unc.edu
SUMMARY:Admitted Students Day @ MVSS
DESCRIPTION:Admitted Students Day @ MVSS\n\nCome visit the Military & Veteran Student Success Center open house on Admitted Students Day May 2nd! We’re located on the first floor of Student Academic Services Building (SASB) South and will be open from 12:00 to 4:00. \nAlso check out our table at the Student Union and meet a few of our MVSS staff! \n\n\n\n      From Saturday\, May 2\, 2026 12:00 PM\n      to 4:00 PM EDT\n      at Military & Veteran Student Success.
URL:https://studentaffairs.unc.edu/event/admitted-students-day-mvss-2/
CATEGORIES:Campus Life Experience,Culture & Identity,Justice, Equity, & Inclusion,Leadership Development,ThoughtfulLearning
ATTACH;FMTTYPE=image/png:https://studentaffairs.unc.edu/wp-content/uploads/2026/04/c27a0601-fb1c-4ef1-bc8a-c8b45e7ec8de13542895-486a-49f8-b671-8023853152e9.jpg
END:VEVENT
BEGIN:VEVENT
DTSTART;TZID=America/New_York:20260502T130000
DTEND;TZID=America/New_York:20260502T150000
DTSTAMP:20260419T090301
CREATED:20260417T142238Z
LAST-MODIFIED:20260418T142513Z
UID:7639-1777726800-1777734000@studentaffairs.unc.edu
SUMMARY:Tour: A Closer Look at the Collection
DESCRIPTION:Tour: A Closer Look at the Collection\n\nJoin Ackland educators for a lively half-hour look at a small handful of artworks. These engaging conversational tours offer a closer look at and new perspectives on works on view at the Museum. \nThis is a free\, walk-in event – no RSVP required. \nThis event is part of UNC–Chapel Hill’s Campus Life Experience (CLE) program. Students who attend can scan the QR code provided at the event to receive CLE credit. Check out the Ackland’s Events Calendar for other CLE offerings.  \n  \nPhoto by Cammel’s Photography \n\n\n\n      From Saturday\, May 2\, 2026 1:00 PM\n      to 1:30 PM EDT\n      at Ackland Art Museum.
URL:https://studentaffairs.unc.edu/event/tour-a-closer-look-at-the-collection-6/
CATEGORIES:Arts,Campus Life Experience,Culture & Identity
ATTACH;FMTTYPE=image/png:https://studentaffairs.unc.edu/wp-content/uploads/2026/04/d2beeb05-14d5-4ff0-aac5-fad5de17c863cecb6403-6998-41ba-9539-eae6f86290ee-5.jpg
END:VEVENT
BEGIN:VEVENT
DTSTART;TZID=America/New_York:20260502T200000
DTEND;TZID=America/New_York:20260502T220000
DTSTAMP:20260419T090301
CREATED:20260417T142239Z
LAST-MODIFIED:20260418T142536Z
UID:7642-1777752000-1777759200@studentaffairs.unc.edu
SUMMARY:Mahler Chamber Orchestra with Yuja Wang\, piano and director
DESCRIPTION:Mahler Chamber Orchestra with Yuja Wang\, piano and director\n\n\n\n      From Saturday\, May 2\, 2026 8:00 PM\n      to 9:45 PM EDT\n      at Memorial Hall.
URL:https://studentaffairs.unc.edu/event/mahler-chamber-orchestra-with-yuja-wang-piano-and-director/
CATEGORIES:Arts,Campus Life Experience,Culture & Identity,Films, Music, & Performing Arts
ATTACH;FMTTYPE=image/png:https://studentaffairs.unc.edu/wp-content/uploads/2026/04/77ce5980-b57e-402f-bcd8-bef66921c27d807db0f6-c718-44eb-9aa3-d873bc63ec03.jpg
END:VEVENT
BEGIN:VEVENT
DTSTART;TZID=America/New_York:20260503T130000
DTEND;TZID=America/New_York:20260503T150000
DTSTAMP:20260419T090301
CREATED:20260417T142348Z
LAST-MODIFIED:20260418T142647Z
UID:7889-1777813200-1777820400@studentaffairs.unc.edu
SUMMARY:Tour: A Closer Look at the Collection
DESCRIPTION:Tour: A Closer Look at the Collection\n\nJoin Ackland educators for a lively half-hour look at a small handful of artworks. These engaging conversational tours offer a closer look at and new perspectives on works on view at the Museum. \nThis is a free\, walk-in event – no RSVP required. \nThis event is part of UNC–Chapel Hill’s Campus Life Experience (CLE) program. Students who attend can scan the QR code provided at the event to receive CLE credit. Check out the Ackland’s Events Calendar for other CLE offerings.  \n  \nPhoto by Cammel’s Photography \n\n\n\n      From Sunday\, May 3\, 2026 1:00 PM\n      to 1:30 PM EDT\n      at Ackland Art Museum.
URL:https://studentaffairs.unc.edu/event/tour-a-closer-look-at-the-collection-9/
CATEGORIES:Arts,Campus Life Experience,Culture & Identity
ATTACH;FMTTYPE=image/png:https://studentaffairs.unc.edu/wp-content/uploads/2026/04/d2beeb05-14d5-4ff0-aac5-fad5de17c863cecb6403-6998-41ba-9539-eae6f86290ee-8.jpg
END:VEVENT
BEGIN:VEVENT
DTSTART;TZID=America/New_York:20260509T130000
DTEND;TZID=America/New_York:20260509T150000
DTSTAMP:20260419T090301
CREATED:20260417T142354Z
LAST-MODIFIED:20260418T142651Z
UID:7911-1778331600-1778338800@studentaffairs.unc.edu
SUMMARY:Tour: A Closer Look at the Collection
DESCRIPTION:Tour: A Closer Look at the Collection\n\nJoin Ackland educators for a lively half-hour look at a small handful of artworks. These engaging conversational tours offer a closer look at and new perspectives on works on view at the Museum. \nThis is a free\, walk-in event – no RSVP required. \nThis event is part of UNC–Chapel Hill’s Campus Life Experience (CLE) program. Students who attend can scan the QR code provided at the event to receive CLE credit. Check out the Ackland’s Events Calendar for other CLE offerings.  \n  \nPhoto by Cammel’s Photography \n\n\n\n      From Saturday\, May 9\, 2026 1:00 PM\n      to 1:30 PM EDT\n      at Ackland Art Museum.
URL:https://studentaffairs.unc.edu/event/tour-a-closer-look-at-the-collection-10/
CATEGORIES:Arts,Campus Life Experience,Culture & Identity
ATTACH;FMTTYPE=image/png:https://studentaffairs.unc.edu/wp-content/uploads/2026/04/d2beeb05-14d5-4ff0-aac5-fad5de17c863cecb6403-6998-41ba-9539-eae6f86290ee-9.jpg
END:VEVENT
BEGIN:VEVENT
DTSTART;TZID=America/New_York:20260510T130000
DTEND;TZID=America/New_York:20260510T150000
DTSTAMP:20260419T090301
CREATED:20260417T142355Z
LAST-MODIFIED:20260418T142652Z
UID:7915-1778418000-1778425200@studentaffairs.unc.edu
SUMMARY:Tour: A Closer Look at the Collection
DESCRIPTION:Tour: A Closer Look at the Collection\n\nJoin Ackland educators for a lively half-hour look at a small handful of artworks. These engaging conversational tours offer a closer look at and new perspectives on works on view at the Museum. \nThis is a free\, walk-in event – no RSVP required. \nThis event is part of UNC–Chapel Hill’s Campus Life Experience (CLE) program. Students who attend can scan the QR code provided at the event to receive CLE credit. Check out the Ackland’s Events Calendar for other CLE offerings.  \n  \nPhoto by Cammel’s Photography \n\n\n\n      From Sunday\, May 10\, 2026 1:00 PM\n      to 1:30 PM EDT\n      at Ackland Art Museum.
URL:https://studentaffairs.unc.edu/event/tour-a-closer-look-at-the-collection-11/
CATEGORIES:Arts,Campus Life Experience,Culture & Identity
ATTACH;FMTTYPE=image/png:https://studentaffairs.unc.edu/wp-content/uploads/2026/04/d2beeb05-14d5-4ff0-aac5-fad5de17c863cecb6403-6998-41ba-9539-eae6f86290ee-10.jpg
END:VEVENT
BEGIN:VEVENT
DTSTART;TZID=America/New_York:20260515T130000
DTEND;TZID=America/New_York:20260515T150000
DTSTAMP:20260419T090301
CREATED:20260417T142143Z
LAST-MODIFIED:20260418T142600Z
UID:7430-1778850000-1778857200@studentaffairs.unc.edu
SUMMARY:Tour: A Closer Look at "Color Concentrated"
DESCRIPTION:Tour: A Closer Look at “Color Concentrated”\n\nJoin Ackland educators for a lively half-hour look at a small handful of artworks. These engaging conversational tours offer a closer look at and new perspectives on works on view at the Museum. Today’s tour looks at Color Concentrated: A Salon-Style Show from the Robertson Collection. \nThis is a free\, walk-in event – no RSVP required. Visit the Ackland’s Events Calendar to learn more about upcoming public programming.  \nThis event is part of UNC–Chapel Hill’s Campus Life Experience (CLE) program. Students who attend can scan the QR code provided at the event to receive CLE credit. \n  \nImage credit: Vassily Kandinsky\, Russian\, 1866-1944\, Study for Autumn Landscape with Boats (detail)\, 1908\, oil on board\, 12 ×15 3/8 inches (30.5 ×40 cm). Lent by the Robertson Foundation\, in honor of Julian and Josie Robertson. \n\n\n\n      From Friday\, May 15\, 2026 1:00 PM\n      to 1:30 PM EDT\n      at Ackland Art Museum.
URL:https://studentaffairs.unc.edu/event/tour-a-closer-look-at-color-concentrated-2/
CATEGORIES:Arts,Campus Life Experience,Culture & Identity
ATTACH;FMTTYPE=image/png:https://studentaffairs.unc.edu/wp-content/uploads/2026/04/012c5a27-9975-4c38-a96e-90caf36a5a0e7169db36-69c0-4dc4-80c3-3b38a6923e6c.jpg
END:VEVENT
BEGIN:VEVENT
DTSTART;TZID=America/New_York:20260516T130000
DTEND;TZID=America/New_York:20260516T150000
DTSTAMP:20260419T090301
CREATED:20260417T142244Z
LAST-MODIFIED:20260418T142525Z
UID:7662-1778936400-1778943600@studentaffairs.unc.edu
SUMMARY:Tour: A Closer Look at "Color Concentrated"
DESCRIPTION:Tour: A Closer Look at “Color Concentrated”\n\nJoin Ackland educators for a lively half-hour look at a small handful of artworks. These engaging conversational tours offer a closer look at and new perspectives on works on view at the Museum. Today’s tour looks at Color Concentrated: A Salon-Style Show from the Robertson Collection. \nThis is a free\, walk-in event – no RSVP required. Visit the Ackland’s Events Calendar to learn more about upcoming public programming.  \nThis event is part of UNC–Chapel Hill’s Campus Life Experience (CLE) program. Students who attend can scan the QR code provided at the event to receive CLE credit. \n  \nImage credit: Vassily Kandinsky\, Russian\, 1866-1944\, Study for Autumn Landscape with Boats (detail)\, 1908\, oil on board\, 12 ×15 3/8 inches (30.5 ×40 cm). Lent by the Robertson Foundation\, in honor of Julian and Josie Robertson. \n\n\n\n      From Saturday\, May 16\, 2026 1:00 PM\n      to 1:30 PM EDT\n      at Ackland Art Museum.
URL:https://studentaffairs.unc.edu/event/tour-a-closer-look-at-color-concentrated-3/
CATEGORIES:Arts,Campus Life Experience,Culture & Identity
ATTACH;FMTTYPE=image/png:https://studentaffairs.unc.edu/wp-content/uploads/2026/04/012c5a27-9975-4c38-a96e-90caf36a5a0e7169db36-69c0-4dc4-80c3-3b38a6923e6c-1.jpg
END:VEVENT
BEGIN:VEVENT
DTSTART;TZID=America/New_York:20260517T130000
DTEND;TZID=America/New_York:20260517T150000
DTSTAMP:20260419T090301
CREATED:20260417T142357Z
LAST-MODIFIED:20260418T142654Z
UID:7922-1779022800-1779030000@studentaffairs.unc.edu
SUMMARY:Tour: A Closer Look at "Color Concentrated"
DESCRIPTION:Tour: A Closer Look at “Color Concentrated”\n\nJoin Ackland educators for a lively half-hour look at a small handful of artworks. These engaging conversational tours offer a closer look at and new perspectives on works on view at the Museum. Today’s tour looks at Color Concentrated: A Salon-Style Show from the Robertson Collection. \nThis is a free\, walk-in event – no RSVP required. Visit the Ackland’s Events Calendar to learn more about upcoming public programming.  \nThis event is part of UNC–Chapel Hill’s Campus Life Experience (CLE) program. Students who attend can scan the QR code provided at the event to receive CLE credit. \n  \nImage credit: Vassily Kandinsky\, Russian\, 1866-1944\, Study for Autumn Landscape with Boats (detail)\, 1908\, oil on board\, 12 ×15 3/8 inches (30.5 ×40 cm). Lent by the Robertson Foundation\, in honor of Julian and Josie Robertson. \n\n\n\n      From Sunday\, May 17\, 2026 1:00 PM\n      to 1:30 PM EDT\n      at Ackland Art Museum.
URL:https://studentaffairs.unc.edu/event/tour-a-closer-look-at-color-concentrated-5/
CATEGORIES:Arts,Campus Life Experience,Culture & Identity
ATTACH;FMTTYPE=image/png:https://studentaffairs.unc.edu/wp-content/uploads/2026/04/012c5a27-9975-4c38-a96e-90caf36a5a0e7169db36-69c0-4dc4-80c3-3b38a6923e6c-2.jpg
END:VEVENT
BEGIN:VEVENT
DTSTART;TZID=America/New_York:20260523T130000
DTEND;TZID=America/New_York:20260523T150000
DTSTAMP:20260419T090301
CREATED:20260417T142210Z
LAST-MODIFIED:20260418T142601Z
UID:7532-1779541200-1779548400@studentaffairs.unc.edu
SUMMARY:Tour: A Closer Look at the Collection
DESCRIPTION:Tour: A Closer Look at the Collection\n\nJoin Ackland educators for a lively half-hour look at a small handful of artworks. These engaging conversational tours offer a closer look at and new perspectives on works on view at the Museum. \nThis is a free\, walk-in event – no RSVP required. \nThis event is part of UNC–Chapel Hill’s Campus Life Experience (CLE) program. Students who attend can scan the QR code provided at the event to receive CLE credit. Check out the Ackland’s Events Calendar for other CLE offerings.  \n  \nPhoto by Cammel’s Photography \n\n\n\n      From Saturday\, May 23\, 2026 1:00 PM\n      to 1:30 PM EDT\n      at Ackland Art Museum.
URL:https://studentaffairs.unc.edu/event/tour-a-closer-look-at-the-collection-3/
CATEGORIES:Arts,Campus Life Experience,Culture & Identity
ATTACH;FMTTYPE=image/png:https://studentaffairs.unc.edu/wp-content/uploads/2026/04/d2beeb05-14d5-4ff0-aac5-fad5de17c863cecb6403-6998-41ba-9539-eae6f86290ee-2.jpg
END:VEVENT
BEGIN:VEVENT
DTSTART;TZID=America/New_York:20260524T130000
DTEND;TZID=America/New_York:20260524T150000
DTSTAMP:20260419T090301
CREATED:20260417T142359Z
LAST-MODIFIED:20260418T142655Z
UID:7926-1779627600-1779634800@studentaffairs.unc.edu
SUMMARY:Tour: A Closer Look at the Collection
DESCRIPTION:Tour: A Closer Look at the Collection\n\nJoin Ackland educators for a lively half-hour look at a small handful of artworks. These engaging conversational tours offer a closer look at and new perspectives on works on view at the Museum. \nThis is a free\, walk-in event – no RSVP required. \nThis event is part of UNC–Chapel Hill’s Campus Life Experience (CLE) program. Students who attend can scan the QR code provided at the event to receive CLE credit. Check out the Ackland’s Events Calendar for other CLE offerings.  \n  \nPhoto by Cammel’s Photography \n\n\n\n      From Sunday\, May 24\, 2026 1:00 PM\n      to 1:30 PM EDT\n      at Ackland Art Museum.
URL:https://studentaffairs.unc.edu/event/tour-a-closer-look-at-the-collection-12/
CATEGORIES:Arts,Campus Life Experience,Culture & Identity
ATTACH;FMTTYPE=image/png:https://studentaffairs.unc.edu/wp-content/uploads/2026/04/d2beeb05-14d5-4ff0-aac5-fad5de17c863cecb6403-6998-41ba-9539-eae6f86290ee-11.jpg
END:VEVENT
BEGIN:VEVENT
DTSTART;TZID=America/New_York:20260530T130000
DTEND;TZID=America/New_York:20260530T150000
DTSTAMP:20260419T090301
CREATED:20260417T142245Z
LAST-MODIFIED:20260418T142537Z
UID:7665-1780146000-1780153200@studentaffairs.unc.edu
SUMMARY:Tour: A Closer Look at the Collection
DESCRIPTION:Tour: A Closer Look at the Collection\n\nJoin Ackland educators for a lively half-hour look at a small handful of artworks. These engaging conversational tours offer a closer look at and new perspectives on works on view at the Museum. \nThis is a free\, walk-in event – no RSVP required. \nThis event is part of UNC–Chapel Hill’s Campus Life Experience (CLE) program. Students who attend can scan the QR code provided at the event to receive CLE credit. Check out the Ackland’s Events Calendar for other CLE offerings.  \n  \nPhoto by Cammel’s Photography \n\n\n\n      From Saturday\, May 30\, 2026 1:00 PM\n      to 1:30 PM EDT\n      at Ackland Art Museum.
URL:https://studentaffairs.unc.edu/event/tour-a-closer-look-at-the-collection-7/
CATEGORIES:Arts,Campus Life Experience,Culture & Identity
ATTACH;FMTTYPE=image/png:https://studentaffairs.unc.edu/wp-content/uploads/2026/04/d2beeb05-14d5-4ff0-aac5-fad5de17c863cecb6403-6998-41ba-9539-eae6f86290ee-6.jpg
END:VEVENT
BEGIN:VEVENT
DTSTART;TZID=America/New_York:20260531T130000
DTEND;TZID=America/New_York:20260531T150000
DTSTAMP:20260419T090301
CREATED:20260417T142400Z
LAST-MODIFIED:20260418T142655Z
UID:7929-1780232400-1780239600@studentaffairs.unc.edu
SUMMARY:Tour: A Closer Look at the Collection
DESCRIPTION:Tour: A Closer Look at the Collection\n\nJoin Ackland educators for a lively half-hour look at a small handful of artworks. These engaging conversational tours offer a closer look at and new perspectives on works on view at the Museum. \nThis is a free\, walk-in event – no RSVP required. \nThis event is part of UNC–Chapel Hill’s Campus Life Experience (CLE) program. Students who attend can scan the QR code provided at the event to receive CLE credit. Check out the Ackland’s Events Calendar for other CLE offerings.  \n  \nPhoto by Cammel’s Photography \n\n\n\n      From Sunday\, May 31\, 2026 1:00 PM\n      to 1:30 PM EDT\n      at Ackland Art Museum.
URL:https://studentaffairs.unc.edu/event/tour-a-closer-look-at-the-collection-13/
CATEGORIES:Arts,Campus Life Experience,Culture & Identity
ATTACH;FMTTYPE=image/png:https://studentaffairs.unc.edu/wp-content/uploads/2026/04/d2beeb05-14d5-4ff0-aac5-fad5de17c863cecb6403-6998-41ba-9539-eae6f86290ee-12.jpg
END:VEVENT
BEGIN:VEVENT
DTSTART;TZID=America/New_York:20260606T130000
DTEND;TZID=America/New_York:20260606T150000
DTSTAMP:20260419T090301
CREATED:20260417T142152Z
LAST-MODIFIED:20260418T142602Z
UID:7466-1780750800-1780758000@studentaffairs.unc.edu
SUMMARY:Tour: A Closer Look at the Collection
DESCRIPTION:Tour: A Closer Look at the Collection\n\nJoin Ackland educators for a lively half-hour look at a small handful of artworks. These engaging conversational tours offer a closer look at and new perspectives on works on view at the Museum. \nThis is a free\, walk-in event – no RSVP required. \nThis event is part of UNC–Chapel Hill’s Campus Life Experience (CLE) program. Students who attend can scan the QR code provided at the event to receive CLE credit. Check out the Ackland’s Events Calendar for other CLE offerings.  \n  \nPhoto by Cammel’s Photography \n\n\n\n      From Saturday\, June 6\, 2026 1:00 PM\n      to 1:30 PM EDT\n      at Ackland Art Museum.
URL:https://studentaffairs.unc.edu/event/tour-a-closer-look-at-the-collection/
CATEGORIES:Arts,Campus Life Experience,Culture & Identity
ATTACH;FMTTYPE=image/png:https://studentaffairs.unc.edu/wp-content/uploads/2026/04/d2beeb05-14d5-4ff0-aac5-fad5de17c863cecb6403-6998-41ba-9539-eae6f86290ee.jpg
END:VEVENT
BEGIN:VEVENT
DTSTART;TZID=America/New_York:20260607T130000
DTEND;TZID=America/New_York:20260607T150000
DTSTAMP:20260419T090301
CREATED:20260417T142401Z
LAST-MODIFIED:20260418T142656Z
UID:7933-1780837200-1780844400@studentaffairs.unc.edu
SUMMARY:Tour: A Closer Look at the Collection
DESCRIPTION:Tour: A Closer Look at the Collection\n\nJoin Ackland educators for a lively half-hour look at a small handful of artworks. These engaging conversational tours offer a closer look at and new perspectives on works on view at the Museum. \nThis is a free\, walk-in event – no RSVP required. \nThis event is part of UNC–Chapel Hill’s Campus Life Experience (CLE) program. Students who attend can scan the QR code provided at the event to receive CLE credit. Check out the Ackland’s Events Calendar for other CLE offerings.  \n  \nPhoto by Cammel’s Photography \n\n\n\n      From Sunday\, June 7\, 2026 1:00 PM\n      to 1:30 PM EDT\n      at Ackland Art Museum.
URL:https://studentaffairs.unc.edu/event/tour-a-closer-look-at-the-collection-14/
CATEGORIES:Arts,Campus Life Experience,Culture & Identity
ATTACH;FMTTYPE=image/png:https://studentaffairs.unc.edu/wp-content/uploads/2026/04/d2beeb05-14d5-4ff0-aac5-fad5de17c863cecb6403-6998-41ba-9539-eae6f86290ee-13.jpg
END:VEVENT
END:VCALENDAR