BEGIN:VCALENDAR
VERSION:2.0
PRODID:-//UNC Student Affairs - ECPv6.15.20//NONSGML v1.0//EN
CALSCALE:GREGORIAN
METHOD:PUBLISH
X-WR-CALNAME:UNC Student Affairs
X-ORIGINAL-URL:https://studentaffairs.unc.edu
X-WR-CALDESC:Events for UNC Student Affairs
REFRESH-INTERVAL;VALUE=DURATION:PT1H
X-Robots-Tag:noindex
X-PUBLISHED-TTL:PT1H
BEGIN:VTIMEZONE
TZID:America/New_York
BEGIN:DAYLIGHT
TZOFFSETFROM:-0500
TZOFFSETTO:-0400
TZNAME:EDT
DTSTART:20250309T070000
END:DAYLIGHT
BEGIN:STANDARD
TZOFFSETFROM:-0400
TZOFFSETTO:-0500
TZNAME:EST
DTSTART:20251102T060000
END:STANDARD
BEGIN:DAYLIGHT
TZOFFSETFROM:-0500
TZOFFSETTO:-0400
TZNAME:EDT
DTSTART:20260308T070000
END:DAYLIGHT
BEGIN:STANDARD
TZOFFSETFROM:-0400
TZOFFSETTO:-0500
TZNAME:EST
DTSTART:20261101T060000
END:STANDARD
BEGIN:DAYLIGHT
TZOFFSETFROM:-0500
TZOFFSETTO:-0400
TZNAME:EDT
DTSTART:20270314T070000
END:DAYLIGHT
BEGIN:STANDARD
TZOFFSETFROM:-0400
TZOFFSETTO:-0500
TZNAME:EST
DTSTART:20271107T060000
END:STANDARD
END:VTIMEZONE
BEGIN:VEVENT
DTSTART;TZID=America/New_York:20260422T090000
DTEND;TZID=America/New_York:20260422T110000
DTSTAMP:20260419T113521
CREATED:20260417T142328Z
LAST-MODIFIED:20260419T142632Z
UID:7817-1776848400-1776855600@studentaffairs.unc.edu
SUMMARY:Rockingham Hiring Event
DESCRIPTION:Rockingham Hiring Event\n\nWe are looking for candidates who have a passion for helping court-involved youth. We are Working Together to Strengthen North Carolina’s Youth and Families! \nThe job duties of a Youth Counselor include but are not limited to:  \n– Monitor and supervise juveniles while housed\, at school and all daily activities. – Safety and security duties include:*Maintaining a secure environment*Routinely monitoring and observing juveniles \n– Daily records are completed to include:*Documenting safety violations and security breaches*Activity briefing for shift personnel\, crisis intervention events\, behavioral problems/issues\, and youth progress updates. *Provide feedback to the treatment team on juveniles*Communicating information regarding treatment plans to clients*Provide counseling and therapeutic intervention*Serve as a member of a therapeutic treatment team*Utilize a range of counseling techniques and skills in crisis interventions*Implements individual and group treatment plans to effect behavioral changes*Administering scoring\, interpreting a variety of assessment tools to evaluate treatment progress\, and reviewing treatment strategies to achieve rehabilitation goals*Participate in the development of individual treatment\, educational\, vocational and community reintegration programs. \n– Physical and Mechanical Restraints– Medication administration. \n  \n  \n  \n  \n  \n  \nCandidates for these positions are eligible to receive a shift premium (10%) when assigned to either 2nd or 3rd shift. \n  \n\n\n\n      From Wednesday\, April 22\, 2026 9:00 AM\n      to 3:30 PM EDT\n      at Rockingham Youth Development Center.
URL:https://studentaffairs.unc.edu/event/rockingham-hiring-event/
CATEGORIES:Career Exploration & Development,Civic Engagement, Public Service, & Philanthropy,Community Building & Social Activities,Graduate & Professional Student Program,Leadership Development,Social
END:VEVENT
BEGIN:VEVENT
DTSTART;TZID=America/New_York:20260422T153000
DTEND;TZID=America/New_York:20260422T173000
DTSTAMP:20260419T113521
CREATED:20260417T142328Z
LAST-MODIFIED:20260419T142633Z
UID:7819-1776871800-1776879000@studentaffairs.unc.edu
SUMMARY:Leveling Up LinkedIn Working Group
DESCRIPTION:Leveling Up LinkedIn Working Group\n\nUnlock the power of LinkedIn to build your professional brand! Learn how to create a standout profile\, connect with industry professionals\, and use LinkedIn to find jobs\, internships\, and networking opportunities. You will update your profile during this interactive working session with opportunities to get feedback on how to best use LinkedIn to put your best foot forward! \n\n\n\n      From Wednesday\, April 22\, 2026 3:30 PM\n      to 5:00 PM EDT\n      at Hanes 242.
URL:https://studentaffairs.unc.edu/event/leveling-up-linkedin-working-group/
CATEGORIES:Campus Life Experience,Career Exploration & Development,Civic Engagement, Public Service, & Philanthropy,Community Building & Social Activities,Graduate & Professional Student Program,Leadership Development,Social
ATTACH;FMTTYPE=image/png:https://studentaffairs.unc.edu/wp-content/uploads/2026/04/9bdf1abf-cfb6-414d-bb45-66f9c4109708f11c9cd9-3b81-49f5-8174-178876b657f2.jpg
END:VEVENT
BEGIN:VEVENT
DTSTART;TZID=America/New_York:20260422T160000
DTEND;TZID=America/New_York:20260422T180000
DTSTAMP:20260419T113521
CREATED:20260417T142330Z
LAST-MODIFIED:20260419T142635Z
UID:7827-1776873600-1776880800@studentaffairs.unc.edu
SUMMARY:Making Cards for Cancer Patients
DESCRIPTION:Making Cards for Cancer Patients\n\nNeed a study break? Join us in the Union to make cards for people undergoing bone marrow transplants. We’re partnering with Amy’s Rays of Sunshine to share some love ☀️ \nCome by anytime\, stay as long as you’d like\, and bring a friend if you want. Snacks will be provided :)) \n  \nFeel free to message us on GroupMe with any questions:  \nhttps://groupme.com/join_group/110987512/gRyNicj5 \n  \n  \n\n\n\n      From Wednesday\, April 22\, 2026 4:00 PM\n      to 5:00 PM EDT\n      at Student Union Rm 2511.
URL:https://studentaffairs.unc.edu/event/making-cards-for-cancer-patients/
CATEGORIES:Civic Engagement, Public Service, & Philanthropy,Community Building & Social Activities,CommunityService
ATTACH;FMTTYPE=image/png:https://studentaffairs.unc.edu/wp-content/uploads/2026/04/33e13ea7-fc01-4e16-b2be-e2135e03bae87bfc95db-1ece-4376-9585-bb3974831e45.jpg
END:VEVENT
BEGIN:VEVENT
DTSTART;TZID=America/New_York:20260422T160000
DTEND;TZID=America/New_York:20260422T180000
DTSTAMP:20260419T113521
CREATED:20260417T142340Z
LAST-MODIFIED:20260419T142643Z
UID:7860-1776873600-1776880800@studentaffairs.unc.edu
SUMMARY:UNC Earth Day Celebration
DESCRIPTION:UNC Earth Day Celebration\n\nCome join us on the Quad from 4-7pm on April 22nd\, for UNC’s First Annual Earth Day Celebration!! This event will feature many fun activities for students and the community\, including pot planting\, live screen printing\, and Paperhand Puppet Project. We will have vendors such as Rumors\, Meantime Coffee\, Student-Made UNC\, and Carolina Thrift. This event is organized by the Environmental Student Organization Network and funded by Residence Hall Association. \n\n\n\n      From Wednesday\, April 22\, 2026 4:00 PM\n      to 7:00 PM EDT\n      at The Quad.
URL:https://studentaffairs.unc.edu/event/unc-earth-day-celebration/
CATEGORIES:Community Building & Social Activities,Social
ATTACH;FMTTYPE=image/png:https://studentaffairs.unc.edu/wp-content/uploads/2026/04/9dd01ed5-f3e4-4677-ac4e-94ffec9f8ba3bdb86cc7-0834-477c-867e-7a10fc1879cf.jpg
END:VEVENT
BEGIN:VEVENT
DTSTART;TZID=America/New_York:20260422T160000
DTEND;TZID=America/New_York:20260422T180000
DTSTAMP:20260419T113521
CREATED:20260417T142341Z
LAST-MODIFIED:20260419T142644Z
UID:7864-1776873600-1776880800@studentaffairs.unc.edu
SUMMARY:UNC Earth Day Celebration
DESCRIPTION:UNC Earth Day Celebration\n\nCome join us on the Quad from 4-7pm on April 22nd\, for UNC’s First Annual Earth Day Celebration!! This event will feature many fun activities for students and the community\, including pot planting\, live screen printing\, and Paperhand Puppet Project. We will have vendors such as Rumors\, Meantime Coffee\, Student-Made UNC\, and Carolina Thrift. This event is organized by the Environmental Student Organization Network and funded by Residence Hall Association. \n\n\n\n      From Wednesday\, April 22\, 2026 4:00 PM\n      to 7:00 PM EDT\n      at The Quad.
URL:https://studentaffairs.unc.edu/event/unc-earth-day-celebration-2/
CATEGORIES:Community Building & Social Activities,Social
ATTACH;FMTTYPE=image/png:https://studentaffairs.unc.edu/wp-content/uploads/2026/04/9dd01ed5-f3e4-4677-ac4e-94ffec9f8ba3bdb86cc7-0834-477c-867e-7a10fc1879cf-1.jpg
END:VEVENT
BEGIN:VEVENT
DTSTART;TZID=America/New_York:20260422T170000
DTEND;TZID=America/New_York:20260422T190000
DTSTAMP:20260419T113521
CREATED:20260417T142333Z
LAST-MODIFIED:20260419T142638Z
UID:7838-1776877200-1776884400@studentaffairs.unc.edu
SUMMARY:Swahili Language Table
DESCRIPTION:Swahili Language Table\n\nA fun welcoming gathering where students enrolled in Swahili and community members practice Swahili conversation\, grammar and vocabulary in a supportive environment. \n\n\n\n      From Wednesday\, April 22\, 2026 5:00 PM\n      to 6:00 PM EDT\n      at Aumni Hall 0207.
URL:https://studentaffairs.unc.edu/event/swahili-language-table-2/
CATEGORIES:Campus Life Experience,Community Building & Social Activities,Cultural,Culture & Identity
END:VEVENT
BEGIN:VEVENT
DTSTART;TZID=America/New_York:20260422T180000
DTEND;TZID=America/New_York:20260422T200000
DTSTAMP:20260419T113521
CREATED:20260417T142344Z
LAST-MODIFIED:20260419T142647Z
UID:7876-1776880800-1776888000@studentaffairs.unc.edu
SUMMARY:HHJ Exhibition Night
DESCRIPTION:HHJ Exhibition Night\n\nPlease join us to celebrate the launch of the 2025-26 Annual Issue of the Health Humanities Journal! At this year’s Exhibition Night\, enjoy snacks and refreshments\, readings from our published authors\, words from a guest speaker\, and of course\, free copies of our freshly minted journal. We are hosting our event Wednesday\, April 22nd\, from 6:00pm to 7:30pm in Graham Memorial Rm 039\, and we hope to see you there. \n\n\n\n      From Wednesday\, April 22\, 2026 6:00 PM\n      to 7:30 PM EDT\n      at Graham Memorial Rm 039.
URL:https://studentaffairs.unc.edu/event/hhj-exhibition-night/
CATEGORIES:Arts,Campus Life Experience,Community Building & Social Activities
ATTACH;FMTTYPE=image/png:https://studentaffairs.unc.edu/wp-content/uploads/2026/04/2e89c64d-00b9-401c-86f6-d3497eddc086c3a6d16a-f610-4fcd-abe2-d0efebca88c0.jpg
END:VEVENT
BEGIN:VEVENT
DTSTART;TZID=America/New_York:20260422T183000
DTEND;TZID=America/New_York:20260422T203000
DTSTAMP:20260419T113521
CREATED:20260417T142346Z
LAST-MODIFIED:20260419T142648Z
UID:7880-1776882600-1776889800@studentaffairs.unc.edu
SUMMARY:Team Trivia and Craft Night
DESCRIPTION:Team Trivia and Craft Night\n\nCome destress before finals with team style bar trivia and some fun crafts! Bring your friends and test your knowledge! \n\n\n\n      From Wednesday\, April 22\, 2026 6:30 PM\n      to 7:30 PM EDT\n      at Dey 202.
URL:https://studentaffairs.unc.edu/event/team-trivia-and-craft-night/
CATEGORIES:Community Building & Social Activities,Culture & Identity,Social
ATTACH;FMTTYPE=image/png:https://studentaffairs.unc.edu/wp-content/uploads/2026/04/28e2cfc3-124f-4ce5-9333-119cc913617eb7bb39fa-6d0f-44e9-92ba-d7b1c02cd325.jpg
END:VEVENT
BEGIN:VEVENT
DTSTART;TZID=America/New_York:20260422T190000
DTEND;TZID=America/New_York:20260422T210000
DTSTAMP:20260419T113521
CREATED:20260417T142347Z
LAST-MODIFIED:20260419T142650Z
UID:7884-1776884400-1776891600@studentaffairs.unc.edu
SUMMARY:Wednesday Life Group
DESCRIPTION:Wednesday Life Group\n\nThis life group will be prayer-focused\, interceding on behalf of the campus\, students\, and each other. Come join as we pray together before the Lord and see how He might answer our prayers! \n\n\n\n      From Wednesday\, April 22\, 2026 7:00 PM\n      to 8:00 PM EDT\n      at NC Study Center (Conference Room).
URL:https://studentaffairs.unc.edu/event/wednesday-life-group/
CATEGORIES:Community Building & Social Activities,Religious & Spiritual,Spirituality
ATTACH;FMTTYPE=image/png:https://studentaffairs.unc.edu/wp-content/uploads/2026/04/5580cc67-8ec8-4471-94bd-d9b4e2a1dafc53545bee-cc0d-4ae6-8ab5-3893f37be087.jpg
END:VEVENT
END:VCALENDAR