BEGIN:VCALENDAR
VERSION:2.0
PRODID:-//UNC Student Affairs - ECPv6.15.20//NONSGML v1.0//EN
CALSCALE:GREGORIAN
METHOD:PUBLISH
X-ORIGINAL-URL:https://studentaffairs.unc.edu
X-WR-CALDESC:Events for UNC Student Affairs
REFRESH-INTERVAL;VALUE=DURATION:PT1H
X-Robots-Tag:noindex
X-PUBLISHED-TTL:PT1H
BEGIN:VTIMEZONE
TZID:America/New_York
BEGIN:DAYLIGHT
TZOFFSETFROM:-0500
TZOFFSETTO:-0400
TZNAME:EDT
DTSTART:20250309T070000
END:DAYLIGHT
BEGIN:STANDARD
TZOFFSETFROM:-0400
TZOFFSETTO:-0500
TZNAME:EST
DTSTART:20251102T060000
END:STANDARD
BEGIN:DAYLIGHT
TZOFFSETFROM:-0500
TZOFFSETTO:-0400
TZNAME:EDT
DTSTART:20260308T070000
END:DAYLIGHT
BEGIN:STANDARD
TZOFFSETFROM:-0400
TZOFFSETTO:-0500
TZNAME:EST
DTSTART:20261101T060000
END:STANDARD
BEGIN:DAYLIGHT
TZOFFSETFROM:-0500
TZOFFSETTO:-0400
TZNAME:EDT
DTSTART:20270314T070000
END:DAYLIGHT
BEGIN:STANDARD
TZOFFSETFROM:-0400
TZOFFSETTO:-0500
TZNAME:EST
DTSTART:20271107T060000
END:STANDARD
END:VTIMEZONE
BEGIN:VEVENT
DTSTART;TZID=America/New_York:20260423T130000
DTEND;TZID=America/New_York:20260423T150000
DTSTAMP:20260419T092023
CREATED:20260417T142357Z
LAST-MODIFIED:20260418T142642Z
UID:7920-1776949200-1776956400@studentaffairs.unc.edu
SUMMARY:Adulting 201: Budgeting and Money Management
DESCRIPTION:Adulting 201: Budgeting and Money Management\n\nLearn the essentials of budgeting and managing your money as you step into the working world. This workshop will provide practical tips for tracking expenses\, planning for future goals\, and building smart financial habits. \n**NOTE: Students will not be admitted to the session 10+ minutes after the start time. To learn how to use Zoom at UNC-Chapel Hill\, please refer to Step-by-Step Guide Joining UNC Career Center’s Virtual Event – Copy.docx \n\n\n\n      From Thursday\, April 23\, 2026 1:00 PM\n      to 2:00 PM EDT\n      at Online.
URL:https://studentaffairs.unc.edu/event/adulting-201-budgeting-and-money-management/
CATEGORIES:Campus Life Experience,Career Exploration & Development,Civic Engagement, Public Service, & Philanthropy,Community Building & Social Activities,Graduate & Professional Student Program,Leadership Development,Social
ATTACH;FMTTYPE=image/png:https://studentaffairs.unc.edu/wp-content/uploads/2026/04/4f47cb74-7430-4834-a943-3a42445b6fe5a1e2b447-371b-4b7f-afe5-ae6524c28d01.jpg
END:VEVENT
BEGIN:VEVENT
DTSTART;TZID=America/New_York:20260423T183000
DTEND;TZID=America/New_York:20260423T203000
DTSTAMP:20260419T092023
CREATED:20260417T142144Z
LAST-MODIFIED:20260418T142656Z
UID:7434-1776969000-1776976200@studentaffairs.unc.edu
SUMMARY:The Librarians - Movie Screening
DESCRIPTION:The Librarians – Movie Screening\n\nJoin us for a special National Library Week 2026 Screening of the documentary The Librarians on Thursday\, April 26\, at the Undergraduate Library. \nIn today’s America\, political polarization finds librarians under siege as an unprecedented wave of book banning is sparked in Texas\, Florida\, and beyond. As the crisis escalates\, they join forces as unlikely defenders on the frontlines of democracy. Director Kim A. Snyder’s documentary The Librarians traverses small-town U.S.A. with riveting interviews and troves of archival material to reveal the story of the country’s heroic librarians\, everyday Americans who have become unlikely defenders of democracy\, risking everything to uphold our most fundamental of rights. \nDoors open at 6:30 p.m\, with the event promptly starting at 7:00 p.m. Happening in room 205 of the Undergraduate Library. Seating is first-come\, first-served and this event is open to all. \n\n\n\n      From Thursday\, April 23\, 2026 6:30 PM\n      to 8:30 PM EDT\n      at Undergraduate Library.
URL:https://studentaffairs.unc.edu/event/the-librarians-movie-screening/
CATEGORIES:Arts,Campus Life Experience,Civic Engagement, Public Service, & Philanthropy,Culture & Identity,Films, Music, & Performing Arts
ATTACH;FMTTYPE=image/png:https://studentaffairs.unc.edu/wp-content/uploads/2026/04/464d6621-cf93-4bb6-94a0-8633c053c92865d58144-3474-43cc-ae9e-36c48bf57d81.jpg
END:VEVENT
BEGIN:VEVENT
DTSTART;TZID=America/New_York:20260423T183000
DTEND;TZID=America/New_York:20260423T203000
DTSTAMP:20260419T092023
CREATED:20260417T142212Z
LAST-MODIFIED:20260418T142654Z
UID:7542-1776969000-1776976200@studentaffairs.unc.edu
SUMMARY:Raleigh Durham Startup Week Student Networking Night
DESCRIPTION:Raleigh Durham Startup Week Student Networking Night\n\nConnect. Build. Grow. \n GrepBeat’s College Night is BACK! Check out the official event at https://luma.com/vuwm09u3 \nThis spring edition is happening in collaboration with The Seed List and Raleigh/Durham Startup Week — bringing together the next generation of founders with the people building the Triangle’s startup ecosystem. \nStudents. Founders. Investors. Ecosystem leaders.All in one room. \nNC startup enthusiasts\, this is your moment. \nYou’re not in Kansas anymore…You’re in North Carolina’s startup ecosystem.  \nCome meet the builders\, the dreamers\, and the people turning big ideas into real companies. \nJoin us Thursday April 23rd at Boxyard RTP for an evening of connecting with other student startup entrepreneurs and networking with startup ecosystem members\, including founders who are living and growing their startups right here in the Triangle. \nCollege Night is your chance to step outside your campus bubble and into the broader Triangle startup ecosystem. \nWhy Attend? \n✨ Meet student entrepreneurs from other Triangle universities Connect with founders building successful startups in RTP\, Durham\, Raleigh\, and Chapel Hill Discover opportunities for internships\, jobs\, freelance work\, and co-founders️ See the Triangle differently — as a place to build your career\, not just earn your degree \nWho Should Come? \nAnd anyone else who wants more snacks and networking opportunities after RDSW sessions. \nThis event is part of Raleigh-Durham Startup Week\, a community-driven conference that supports founders and celebrates entrepreneurship across the region. Learn more at raleighdurhamstartupweek.com. \nMade possible by a NC IDEA ENGAGE Grant  \nQuestions? Email hello@theseedlist.org \n\n\n\n      From Thursday\, April 23\, 2026 6:30 PM\n      to 8:30 PM EDT\n      at Boxyard RTP.
URL:https://studentaffairs.unc.edu/event/raleigh-durham-startup-week-student-networking-night/
CATEGORIES:Career Exploration & Development,Civic Engagement, Public Service, & Philanthropy,Community Building & Social Activities,Graduate & Professional Student Program,Leadership Development,Social
END:VEVENT
BEGIN:VEVENT
DTSTART;TZID=America/New_York:20260424T113000
DTEND;TZID=America/New_York:20260424T133000
DTSTAMP:20260419T092023
CREATED:20260417T142138Z
LAST-MODIFIED:20260418T142606Z
UID:7411-1777030200-1777037400@studentaffairs.unc.edu
SUMMARY:Graduate Student Tour
DESCRIPTION:Graduate Student Tour\n\nGet a glimpse of what your graduate school experience could look like during this 90-minute tour for enrolled and prospective graduate school students. The UNC Visitors Center graduate student walking tour is hosted by a current graduate student who introduces Carolina history\, traditions and hallmarks as well as some of the University’s current endeavors in research\, innovation and public service. Included is information related to graduate student life at UNC as well as the many ways The Graduate School supports graduate and professional students from admission to graduation. \n\n\n\n      From Friday\, April 24\, 2026 11:30 AM\n      to 12:30 PM EDT\n      at UNC Visitors Center.
URL:https://studentaffairs.unc.edu/event/graduate-student-tour/
CATEGORIES:Campus Life Experience,Career Exploration & Development,Civic Engagement, Public Service, & Philanthropy,Community Building & Social Activities,ThoughtfulLearning
ATTACH;FMTTYPE=image/png:https://studentaffairs.unc.edu/wp-content/uploads/2026/04/7194a113-d609-4f8a-a4ea-875f7481845f41101f73-0b99-4666-be89-8d3ff6725754.jpg
END:VEVENT
BEGIN:VEVENT
DTSTART;TZID=America/New_York:20260425T083000
DTEND;TZID=America/New_York:20260425T103000
DTSTAMP:20260419T092023
CREATED:20260417T142220Z
LAST-MODIFIED:20260418T142615Z
UID:7572-1777105800-1777113000@studentaffairs.unc.edu
SUMMARY:UNC-CH Habitat for Humanity Build
DESCRIPTION:UNC-CH Habitat for Humanity Build\n\nPut your hard hats on and join fellow UNC students to help build a house in Orange County Habitat for Humanity’s new neighborhood\, Weaver’s Grove! With morning and afternoon shifts available\, you can spend some of your Saturday helping our community! Students gain hands-on experience with real-world issues to enhance their learning. They will also receive education from community leaders about best practices in affordable housing\, the history of Weavers Grove\, and the state of housing in Chapel Hill.  \n \nSign up HERE:  \nhttps://orangehabitat.volunteerhub.com/vv2/lp/unchabitat/ \nJoin our GroupMe for all details about rides and further build info! \n  \nYou must sign up through Volunteer Hub to be able to attend!  \n\n\n\n      From Saturday\, April 25\, 2026 8:30 AM\n      to 12:00 PM EDT\n      at Weaver.
URL:https://studentaffairs.unc.edu/event/unc-ch-habitat-for-humanity-build-6/
CATEGORIES:Campus Life Experience,Civic Engagement, Public Service, & Philanthropy,CommunityService
ATTACH;FMTTYPE=image/png:https://studentaffairs.unc.edu/wp-content/uploads/2026/04/f778eba0-78fc-4e4c-87d7-099e88f1fac566814ca9-9522-47db-8af3-24b38e6a7c22-5.jpg
END:VEVENT
BEGIN:VEVENT
DTSTART;TZID=America/New_York:20260425T100000
DTEND;TZID=America/New_York:20260425T120000
DTSTAMP:20260419T092023
CREATED:20260417T142221Z
LAST-MODIFIED:20260418T142617Z
UID:7576-1777111200-1777118400@studentaffairs.unc.edu
SUMMARY:Allied Health Career Expo
DESCRIPTION:Allied Health Career Expo\n\nJoin us for our Allied Health Career Expo\, an exciting in-person event that offers the opportunity for you to explore career opportunities and meet hiring managers within the allied health field. \n\nExplore a wide range of job openings and career paths within the allied health sector\nMeet allied health leaders from across the system and learn about their journey in health care\nEngage with fellow professionals and expand your network\nGain insights into ECU Health’s mission\, vision\, values and commitment to patient centered care\n\n  \nRegister: https://wkf.ms/47eoJs0  \nNetwork with allied health professionals from across the region and participate in educational sessions to learn more about various career areas. \n  \n\nLaboratory\nRehabilitation\nPharmacy\nRespiratory Therapy\nRadiology/Imaging\nSurgical Technology\n\nLearn more about this event by visiting our website. \n\n\n\n      From Saturday\, April 25\, 2026 10:00 AM\n      to 2:00 PM EDT\n      at East Carolina Heart Institute.
URL:https://studentaffairs.unc.edu/event/allied-health-career-expo/
LOCATION: East Carolina Heart Institute\, 115 Heart Drive\, Greenville\, NC 27834
CATEGORIES:Career Exploration & Development,Civic Engagement, Public Service, & Philanthropy,Community Building & Social Activities,Graduate & Professional Student Program,Leadership Development,Social
ATTACH;FMTTYPE=image/png:https://studentaffairs.unc.edu/wp-content/uploads/2026/04/2a4c251a-0204-40b2-bc57-758b4e9be596c7b0d8fd-9915-4f97-a160-e03cbb50c558.jpg
END:VEVENT
BEGIN:VEVENT
DTSTART;TZID=America/New_York:20260425T100000
DTEND;TZID=America/New_York:20260425T120000
DTSTAMP:20260419T092023
CREATED:20260417T142310Z
LAST-MODIFIED:20260418T142544Z
UID:7756-1777111200-1777118400@studentaffairs.unc.edu
SUMMARY:ECU Health Allied Health Career Expo (Cancelled)
DESCRIPTION:ECU Health Allied Health Career Expo\n\nJoin us for our Allied Health Career Expo\, an exciting in-person event that offers the opportunity for you to explore career opportunities and meet hiring managers within the allied health field. \n\nExplore a wide range of job openings and career paths within the allied health sector\nMeet allied health leaders from across the system and learn about their journey in health care\nEngage with fellow professionals and expand your network\nGain insights into ECU Health’s mission\, vision\, values and commitment to patient centered care\n\n  \nRegister: https://wkf.ms/47eoJs0  \nNetwork with allied health professionals from across the region and participate in educational sessions to learn more about various career areas. \n  \n\nLaboratory\nRehabilitation\nPharmacy\nRespiratory Therapy\nRadiology/Imaging\nSurgical Technology\n\n  \nLearn more about this event by visiting our website. \n\n\n\n      From Saturday\, April 25\, 2026 10:00 AM\n      to 2:00 PM EDT\n      at East Carolina Heart Institute.
URL:https://studentaffairs.unc.edu/event/ecu-health-allied-health-career-expo-cancelled/
LOCATION: East Carolina Heart Institute\, 115 Heart Drive\, Greenville\, NC 27834
CATEGORIES:Career Exploration & Development,Civic Engagement, Public Service, & Philanthropy,Community Building & Social Activities,Graduate & Professional Student Program,Leadership Development,Social
ATTACH;FMTTYPE=image/png:https://studentaffairs.unc.edu/wp-content/uploads/2026/04/4a7b972e-cc2e-4fa7-abea-32798da9f34f3b240c6d-5d93-4949-97a2-60324c4b1899.jpg
END:VEVENT
BEGIN:VEVENT
DTSTART;TZID=America/New_York:20260425T130000
DTEND;TZID=America/New_York:20260425T150000
DTSTAMP:20260419T092023
CREATED:20260417T142158Z
LAST-MODIFIED:20260418T142514Z
UID:7490-1777122000-1777129200@studentaffairs.unc.edu
SUMMARY:UNC-CH Habitat for Humanity Build
DESCRIPTION:UNC-CH Habitat for Humanity Build\n\nPut your hard hats on and join fellow UNC students to help build a house in Orange County Habitat for Humanity’s new neighborhood\, Weaver’s Grove! With morning and afternoon shifts available\, you can spend some of your Saturday helping our community! Students gain hands-on experience with real-world issues to enhance their learning. They will also receive education from community leaders about best practices in affordable housing\, the history of Weavers Grove\, and the state of housing in Chapel Hill.  \n \nSign up HERE:  \nhttps://orangehabitat.volunteerhub.com/vv2/lp/unchabitat/ \nJoin our GroupMe for all details about rides and further build info! \n  \nYou must sign up through Volunteer Hub to be able to attend!  \n\n\n\n      From Saturday\, April 25\, 2026 1:00 PM\n      to 4:00 PM EDT\n      at Weaver.
URL:https://studentaffairs.unc.edu/event/unc-ch-habitat-for-humanity-build-3/
CATEGORIES:Campus Life Experience,Civic Engagement, Public Service, & Philanthropy,CommunityService
ATTACH;FMTTYPE=image/png:https://studentaffairs.unc.edu/wp-content/uploads/2026/04/f778eba0-78fc-4e4c-87d7-099e88f1fac566814ca9-9522-47db-8af3-24b38e6a7c22-2.jpg
END:VEVENT
BEGIN:VEVENT
DTSTART;TZID=America/New_York:20260427T110000
DTEND;TZID=America/New_York:20260427T130000
DTSTAMP:20260419T092023
CREATED:20260417T142320Z
LAST-MODIFIED:20260418T142548Z
UID:7791-1777287600-1777294800@studentaffairs.unc.edu
SUMMARY:Graduate Student Tour
DESCRIPTION:Graduate Student Tour\n\nGet a glimpse of what your graduate school experience could look like during this 90-minute tour for enrolled and prospective graduate school students. The UNC Visitors Center graduate student walking tour is hosted by a current graduate student who introduces Carolina history\, traditions and hallmarks as well as some of the University’s current endeavors in research\, innovation and public service. Included is information related to graduate student life at UNC as well as the many ways The Graduate School supports graduate and professional students from admission to graduation. \n\n\n\n      From Monday\, April 27\, 2026 11:00 AM\n      to 12:30 PM EDT\n      at UNC Visitors Center.
URL:https://studentaffairs.unc.edu/event/graduate-student-tour-4/
CATEGORIES:Campus Life Experience,Career Exploration & Development,Civic Engagement, Public Service, & Philanthropy,Community Building & Social Activities,ThoughtfulLearning
ATTACH;FMTTYPE=image/png:https://studentaffairs.unc.edu/wp-content/uploads/2026/04/7194a113-d609-4f8a-a4ea-875f7481845f41101f73-0b99-4666-be89-8d3ff6725754-3.jpg
END:VEVENT
BEGIN:VEVENT
DTSTART;TZID=America/New_York:20260427T130000
DTEND;TZID=America/New_York:20260427T150000
DTSTAMP:20260419T092023
CREATED:20260417T142321Z
LAST-MODIFIED:20260418T142531Z
UID:7795-1777294800-1777302000@studentaffairs.unc.edu
SUMMARY:AI in Research Series – Using AI in Survey Research: Practices and Pitfalls
DESCRIPTION:AI in Research Series – Using AI in Survey Research: Practices and Pitfalls\n\nAI in Research: Driving Innovation Forward\n \nDiscover how artificial intelligence can streamline workflows\, uncover hidden patterns\, and empower breakthroughs in your field. Learn practical applications of AI through Odum Institute AIR series that can revolutionize your research process.\nThis course offers an overview of how AI tools such as large language models (LLMS) can enhance early stages of the survey process\, including item generation\, questionnaire evaluation\, and survey refinement. This session will highlight practical ways LLMs such as ChatGPT and Microsoft Copilot can support researchers while also addressing common pitfalls. Participants will learn best practices for questionnaire design focusing on writing questions\, response option development\, and question ordering. Ideal for researchers seeking to incorporate AI thoughtfully and efficiently during survey development work. The first half of the session will provide structured lecture content\, and the second half will offer time for participants to ask questions and discuss the specific projects they are working on. \nRegistration is required to secure your spot. To learn more and register\, click HERE. \n\n\n\n      From Monday\, April 27\, 2026 1:00 PM\n      to 2:00 PM EDT\n      at Online.
URL:https://studentaffairs.unc.edu/event/ai-in-research-series-using-ai-in-survey-research-practices-and-pitfalls-2/
CATEGORIES:Campus Life Experience,Career Exploration & Development,Civic Engagement, Public Service, & Philanthropy,Lecture,Science & Nature,ThoughtfulLearning
ATTACH;FMTTYPE=image/png:https://studentaffairs.unc.edu/wp-content/uploads/2026/04/db5e6cf3-6bfb-4f2e-99d7-eba3e3762f6cc9eb7a77-135d-4834-846d-bb818cc55827.jpg
END:VEVENT
BEGIN:VEVENT
DTSTART;TZID=America/New_York:20260427T143000
DTEND;TZID=America/New_York:20260427T163000
DTSTAMP:20260419T092023
CREATED:20260417T142136Z
LAST-MODIFIED:20260418T142627Z
UID:7401-1777300200-1777307400@studentaffairs.unc.edu
SUMMARY:HDFS Internship Symposium
DESCRIPTION:HDFS Internship Symposium\n\nHuman Development and Family Science interns will showcase their internship projects and posters in the fields of education\, health\, and human services. \n\n\n\n      From Monday\, April 27\, 2026 2:30 PM\n      to 4:30 PM EDT\n      at Wilson Library Lobby.
URL:https://studentaffairs.unc.edu/event/hdfs-internship-symposium/
CATEGORIES:Campus Life Experience,Career Exploration & Development,Civic Engagement, Public Service, & Philanthropy,Community Building & Social Activities,ThoughtfulLearning
ATTACH;FMTTYPE=image/png:https://studentaffairs.unc.edu/wp-content/uploads/2026/04/14913b0f-e7d8-458b-a4b8-073bae4df161ae7f4b7c-3b2b-4896-87b5-ede4ed285fff.jpg
END:VEVENT
BEGIN:VEVENT
DTSTART;TZID=America/New_York:20260428T130000
DTEND;TZID=America/New_York:20260428T150000
DTSTAMP:20260419T092023
CREATED:20260417T142136Z
LAST-MODIFIED:20260418T142633Z
UID:7403-1777381200-1777388400@studentaffairs.unc.edu
SUMMARY:AI in Research Series – Using AI in Survey Research: Practices and Pitfalls
DESCRIPTION:AI in Research Series – Using AI in Survey Research: Practices and Pitfalls\n\nAI in Research: Driving Innovation Forward\n \nDiscover how artificial intelligence can streamline workflows\, uncover hidden patterns\, and empower breakthroughs in your field. Learn practical applications of AI through Odum Institute AIR series that can revolutionize your research process.\nThis course offers an overview of how AI tools such as large language models (LLMS) can enhance early stages of the survey process\, including item generation\, questionnaire evaluation\, and survey refinement. This session will highlight practical ways LLMs such as ChatGPT and Microsoft Copilot can support researchers while also addressing common pitfalls. Participants will learn best practices for questionnaire design focusing on writing questions\, response option development\, and question ordering. Ideal for researchers seeking to incorporate AI thoughtfully and efficiently during survey development work. The first half of the session will provide structured lecture content\, and the second half will offer time for participants to ask questions and discuss the specific projects they are working on. \nRegistration is required to secure your spot. To learn more and register\, click HERE. \n\n\n\n      From Tuesday\, April 28\, 2026 1:00 PM\n      to 2:00 PM EDT\n      at Online.
URL:https://studentaffairs.unc.edu/event/ai-in-research-series-using-ai-in-survey-research-practices-and-pitfalls/
CATEGORIES:Campus Life Experience,Career Exploration & Development,Civic Engagement, Public Service, & Philanthropy,Lecture,Science & Nature,ThoughtfulLearning
ATTACH;FMTTYPE=image/png:https://studentaffairs.unc.edu/wp-content/uploads/2026/04/99ab2725-10bb-41e6-9c46-c9bf819f0a4051423d33-4816-4a92-a717-d26d660479a8.jpg
END:VEVENT
BEGIN:VEVENT
DTSTART;TZID=America/New_York:20260502T083000
DTEND;TZID=America/New_York:20260502T103000
DTSTAMP:20260419T092023
CREATED:20260417T142150Z
LAST-MODIFIED:20260418T142556Z
UID:7458-1777710600-1777717800@studentaffairs.unc.edu
SUMMARY:UNC-CH Habitat for Humanity Build
DESCRIPTION:UNC-CH Habitat for Humanity Build\n\nPut your hard hats on and join fellow UNC students to help build a house in Orange County Habitat for Humanity’s new neighborhood\, Weaver’s Grove! With morning and afternoon shifts available\, you can spend some of your Saturday helping our community! Students gain hands-on experience with real-world issues to enhance their learning. They will also receive education from community leaders about best practices in affordable housing\, the history of Weavers Grove\, and the state of housing in Chapel Hill.  \n \nSign up HERE:  \nhttps://orangehabitat.volunteerhub.com/vv2/lp/unchabitat/ \nJoin our GroupMe for all details about rides and further build info! \n  \nYou must sign up through Volunteer Hub to be able to attend!  \n\n\n\n      From Saturday\, May 2\, 2026 8:30 AM\n      to 12:00 PM EDT\n      at Weaver.
URL:https://studentaffairs.unc.edu/event/unc-ch-habitat-for-humanity-build/
CATEGORIES:Campus Life Experience,Civic Engagement, Public Service, & Philanthropy,CommunityService
ATTACH;FMTTYPE=image/png:https://studentaffairs.unc.edu/wp-content/uploads/2026/04/f778eba0-78fc-4e4c-87d7-099e88f1fac566814ca9-9522-47db-8af3-24b38e6a7c22.jpg
END:VEVENT
BEGIN:VEVENT
DTSTART;TZID=America/New_York:20260502T130000
DTEND;TZID=America/New_York:20260502T150000
DTSTAMP:20260419T092023
CREATED:20260417T142345Z
LAST-MODIFIED:20260418T142644Z
UID:7878-1777726800-1777734000@studentaffairs.unc.edu
SUMMARY:UNC-CH Habitat for Humanity Build
DESCRIPTION:UNC-CH Habitat for Humanity Build\n\nPut your hard hats on and join fellow UNC students to help build a house in Orange County Habitat for Humanity’s new neighborhood\, Weaver’s Grove! With morning and afternoon shifts available\, you can spend some of your Saturday helping our community! Students gain hands-on experience with real-world issues to enhance their learning. They will also receive education from community leaders about best practices in affordable housing\, the history of Weavers Grove\, and the state of housing in Chapel Hill.  \n \nSign up HERE:  \nhttps://orangehabitat.volunteerhub.com/vv2/lp/unchabitat/ \nJoin our GroupMe for all details about rides and further build info! \n  \nYou must sign up through Volunteer Hub to be able to attend!  \n\n\n\n      From Saturday\, May 2\, 2026 1:00 PM\n      to 4:00 PM EDT\n      at Weaver.
URL:https://studentaffairs.unc.edu/event/unc-ch-habitat-for-humanity-build-8/
CATEGORIES:Campus Life Experience,Civic Engagement, Public Service, & Philanthropy,CommunityService
ATTACH;FMTTYPE=image/png:https://studentaffairs.unc.edu/wp-content/uploads/2026/04/f778eba0-78fc-4e4c-87d7-099e88f1fac566814ca9-9522-47db-8af3-24b38e6a7c22-7.jpg
END:VEVENT
BEGIN:VEVENT
DTSTART;TZID=America/New_York:20260509T083000
DTEND;TZID=America/New_York:20260509T103000
DTSTAMP:20260419T092023
CREATED:20260417T142209Z
LAST-MODIFIED:20260418T142559Z
UID:7528-1778315400-1778322600@studentaffairs.unc.edu
SUMMARY:UNC-CH Habitat for Humanity Build
DESCRIPTION:UNC-CH Habitat for Humanity Build\n\nPut your hard hats on and join fellow UNC students to help build a house in Orange County Habitat for Humanity’s new neighborhood\, Weaver’s Grove! With morning and afternoon shifts available\, you can spend some of your Saturday helping our community! Students gain hands-on experience with real-world issues to enhance their learning. They will also receive education from community leaders about best practices in affordable housing\, the history of Weavers Grove\, and the state of housing in Chapel Hill.  \n \nSign up HERE:  \nhttps://orangehabitat.volunteerhub.com/vv2/lp/unchabitat/ \nJoin our GroupMe for all details about rides and further build info! \n  \nYou must sign up through Volunteer Hub to be able to attend!  \n\n\n\n      From Saturday\, May 9\, 2026 8:30 AM\n      to 12:00 PM EDT\n      at Weaver.
URL:https://studentaffairs.unc.edu/event/unc-ch-habitat-for-humanity-build-5/
CATEGORIES:Campus Life Experience,Civic Engagement, Public Service, & Philanthropy,CommunityService
ATTACH;FMTTYPE=image/png:https://studentaffairs.unc.edu/wp-content/uploads/2026/04/f778eba0-78fc-4e4c-87d7-099e88f1fac566814ca9-9522-47db-8af3-24b38e6a7c22-4.jpg
END:VEVENT
BEGIN:VEVENT
DTSTART;TZID=America/New_York:20260509T130000
DTEND;TZID=America/New_York:20260509T150000
DTSTAMP:20260419T092023
CREATED:20260417T142243Z
LAST-MODIFIED:20260418T142537Z
UID:7658-1778331600-1778338800@studentaffairs.unc.edu
SUMMARY:UNC-CH Habitat for Humanity Build
DESCRIPTION:UNC-CH Habitat for Humanity Build\n\nPut your hard hats on and join fellow UNC students to help build a house in Orange County Habitat for Humanity’s new neighborhood\, Weaver’s Grove! With morning and afternoon shifts available\, you can spend some of your Saturday helping our community! Students gain hands-on experience with real-world issues to enhance their learning. They will also receive education from community leaders about best practices in affordable housing\, the history of Weavers Grove\, and the state of housing in Chapel Hill.  \n \nSign up HERE:  \nhttps://orangehabitat.volunteerhub.com/vv2/lp/unchabitat/ \nJoin our GroupMe for all details about rides and further build info! \n  \nYou must sign up through Volunteer Hub to be able to attend!  \n\n\n\n      From Saturday\, May 9\, 2026 1:00 PM\n      to 4:00 PM EDT\n      at Weaver.
URL:https://studentaffairs.unc.edu/event/unc-ch-habitat-for-humanity-build-7/
CATEGORIES:Campus Life Experience,Civic Engagement, Public Service, & Philanthropy,CommunityService
ATTACH;FMTTYPE=image/png:https://studentaffairs.unc.edu/wp-content/uploads/2026/04/f778eba0-78fc-4e4c-87d7-099e88f1fac566814ca9-9522-47db-8af3-24b38e6a7c22-6.jpg
END:VEVENT
END:VCALENDAR