BEGIN:VCALENDAR
VERSION:2.0
PRODID:-//UNC Student Affairs - ECPv6.15.20//NONSGML v1.0//EN
CALSCALE:GREGORIAN
METHOD:PUBLISH
X-ORIGINAL-URL:https://studentaffairs.unc.edu
X-WR-CALDESC:Events for UNC Student Affairs
REFRESH-INTERVAL;VALUE=DURATION:PT1H
X-Robots-Tag:noindex
X-PUBLISHED-TTL:PT1H
BEGIN:VTIMEZONE
TZID:America/New_York
BEGIN:DAYLIGHT
TZOFFSETFROM:-0500
TZOFFSETTO:-0400
TZNAME:EDT
DTSTART:20250309T070000
END:DAYLIGHT
BEGIN:STANDARD
TZOFFSETFROM:-0400
TZOFFSETTO:-0500
TZNAME:EST
DTSTART:20251102T060000
END:STANDARD
BEGIN:DAYLIGHT
TZOFFSETFROM:-0500
TZOFFSETTO:-0400
TZNAME:EDT
DTSTART:20260308T070000
END:DAYLIGHT
BEGIN:STANDARD
TZOFFSETFROM:-0400
TZOFFSETTO:-0500
TZNAME:EST
DTSTART:20261101T060000
END:STANDARD
BEGIN:DAYLIGHT
TZOFFSETFROM:-0500
TZOFFSETTO:-0400
TZNAME:EDT
DTSTART:20270314T070000
END:DAYLIGHT
BEGIN:STANDARD
TZOFFSETFROM:-0400
TZOFFSETTO:-0500
TZNAME:EST
DTSTART:20271107T060000
END:STANDARD
END:VTIMEZONE
BEGIN:VEVENT
DTSTART;TZID=America/New_York:20260426T130000
DTEND;TZID=America/New_York:20260426T150000
DTSTAMP:20260419T090035
CREATED:20260417T142224Z
LAST-MODIFIED:20260418T142623Z
UID:7589-1777208400-1777215600@studentaffairs.unc.edu
SUMMARY:Tour: A Closer Look at the Collection
DESCRIPTION:Tour: A Closer Look at the Collection\n\nJoin Ackland educators for a lively half-hour look at a small handful of artworks. These engaging conversational tours offer a closer look at and new perspectives on works on view at the Museum. \nThis is a free\, walk-in event – no RSVP required. \nThis event is part of UNC–Chapel Hill’s Campus Life Experience (CLE) program. Students who attend can scan the QR code provided at the event to receive CLE credit. Check out the Ackland’s Events Calendar for other CLE offerings.  \n  \nPhoto by Cammel’s Photography \n\n\n\n      From Sunday\, April 26\, 2026 1:00 PM\n      to 1:30 PM EDT\n      at Ackland Art Museum.
URL:https://studentaffairs.unc.edu/event/tour-a-closer-look-at-the-collection-5/
CATEGORIES:Arts,Campus Life Experience,Culture & Identity
ATTACH;FMTTYPE=image/png:https://studentaffairs.unc.edu/wp-content/uploads/2026/04/d2beeb05-14d5-4ff0-aac5-fad5de17c863cecb6403-6998-41ba-9539-eae6f86290ee-4.jpg
END:VEVENT
BEGIN:VEVENT
DTSTART;TZID=America/New_York:20260426T150000
DTEND;TZID=America/New_York:20260426T170000
DTSTAMP:20260419T090035
CREATED:20260417T142317Z
LAST-MODIFIED:20260418T142530Z
UID:7780-1777215600-1777222800@studentaffairs.unc.edu
SUMMARY:UNC Glee Club | MFE 25-26
DESCRIPTION:UNC Glee Club | MFE 25-26\n\nUNC Glee Club\, directed by Sean Grier \n  \nTBA \n  \nPurchase tickets or livestream registration online. Tickets are also available at the door\, 30 minutes prior to the concert start time. \n*NOTE: Tickets will go on sale September 1. \n  \nPlease plan to arrive early as parking on campus can be tricky. Learn more about parking and directions to UNC-Chapel Hill’s campus. \n\nThis performance is part of the 2025-2026 Martha Flowers Ensemble series. \n\n\n\n      From Sunday\, April 26\, 2026 3:00 PM\n      to 4:30 PM EDT\n      at Moeser Auditorium\, Hill Hall.
URL:https://studentaffairs.unc.edu/event/unc-glee-club-mfe-25-26/
CATEGORIES:Arts,Campus Life Experience,Films, Music, & Performing Arts
ATTACH;FMTTYPE=image/png:https://studentaffairs.unc.edu/wp-content/uploads/2026/04/f47e5359-592b-493c-a67f-02b58b63d01c86773536-8cbd-43f2-ae43-5cff569cb936.jpg
END:VEVENT
BEGIN:VEVENT
DTSTART;TZID=America/New_York:20260426T153000
DTEND;TZID=America/New_York:20260426T173000
DTSTAMP:20260419T090035
CREATED:20260417T142147Z
LAST-MODIFIED:20260418T142624Z
UID:7446-1777217400-1777224600@studentaffairs.unc.edu
SUMMARY:125 Years Memory (Kainan 1890) – Film Screening
DESCRIPTION:125 Years Memory (Kainan 1890) – Film Screening\n\nJoin us for a screening of 125 Years Memory (Kainan 1890)\, a film based on true events that highlight the enduring friendship between Japan and Turkey. The film tells the story of two historical moments—separated by nearly a century—in which acts of compassion and mutual aid forged a lasting international bond. \nThe screening will take place on Sunday\, April 26 from 3:30 to 5:30 PM in the Nelson Mandela Auditorium at the FedEx Global Education Center (301 Pittsboro St.\, Chapel Hill\, NC 27516). Free parking is available at the McCauley Parking Deck. \nA reception will be held prior to the film\, featuring Turkish pastries\, tea\, and raffle prizes\, including free roundtrip flights to Turkey. \nThe event is free and open to the public. \nFor more information about the film\, please visit: http://www.125yearsmemory.com/ \n\n\n\n      From Sunday\, April 26\, 2026 3:30 PM\n      to 5:30 PM EDT\n      at FedEx Global Education Center\, Nelson Mandela Auditorium .
URL:https://studentaffairs.unc.edu/event/125-years-memory-kainan-1890-film-screening/
CATEGORIES:Campus Life Experience,ThoughtfulLearning
ATTACH;FMTTYPE=image/png:https://studentaffairs.unc.edu/wp-content/uploads/2026/04/00c553a3-da31-4040-97b4-035896db6f3a6569a9fe-fc52-46d0-81ea-444886d88253.jpg
END:VEVENT
END:VCALENDAR