BEGIN:VCALENDAR
VERSION:2.0
PRODID:-//UNC Student Affairs - ECPv6.15.20//NONSGML v1.0//EN
CALSCALE:GREGORIAN
METHOD:PUBLISH
X-ORIGINAL-URL:https://studentaffairs.unc.edu
X-WR-CALDESC:Events for UNC Student Affairs
REFRESH-INTERVAL;VALUE=DURATION:PT1H
X-Robots-Tag:noindex
X-PUBLISHED-TTL:PT1H
BEGIN:VTIMEZONE
TZID:America/New_York
BEGIN:DAYLIGHT
TZOFFSETFROM:-0500
TZOFFSETTO:-0400
TZNAME:EDT
DTSTART:20250309T070000
END:DAYLIGHT
BEGIN:STANDARD
TZOFFSETFROM:-0400
TZOFFSETTO:-0500
TZNAME:EST
DTSTART:20251102T060000
END:STANDARD
BEGIN:DAYLIGHT
TZOFFSETFROM:-0500
TZOFFSETTO:-0400
TZNAME:EDT
DTSTART:20260308T070000
END:DAYLIGHT
BEGIN:STANDARD
TZOFFSETFROM:-0400
TZOFFSETTO:-0500
TZNAME:EST
DTSTART:20261101T060000
END:STANDARD
BEGIN:DAYLIGHT
TZOFFSETFROM:-0500
TZOFFSETTO:-0400
TZNAME:EDT
DTSTART:20270314T070000
END:DAYLIGHT
BEGIN:STANDARD
TZOFFSETFROM:-0400
TZOFFSETTO:-0500
TZNAME:EST
DTSTART:20271107T060000
END:STANDARD
END:VTIMEZONE
BEGIN:VEVENT
DTSTART;TZID=America/New_York:20260424T130000
DTEND;TZID=America/New_York:20260424T150000
DTSTAMP:20260419T085923
CREATED:20260417T142256Z
LAST-MODIFIED:20260418T142539Z
UID:7707-1777035600-1777042800@studentaffairs.unc.edu
SUMMARY:Tour: A Closer Look at “Color Concentrated”
DESCRIPTION:Tour: A Closer Look at “Color Concentrated”\n\n\nJoin Ackland educators for a lively half-hour look at a small handful of artworks. These engaging conversational tours offer a closer look at and new perspectives on works on view at the Museum. Today’s tour looks at Color Concentrated: A Salon-Style Show from the Robertson Collection. \nThis is a free\, walk-in event – no RSVP required. Visit the Ackland’s Events Calendar to learn more about upcoming public programming.  \nThis event is part of UNC–Chapel Hill’s Campus Life Experience (CLE) program. Students who attend can scan the QR code provided at the event to receive CLE credit. \n  \nImage credit: Vassily Kandinsky\, Russian\, 1866-1944\, Study for Autumn Landscape with Boats (detail)\, 1908\, oil on board\, 12 ×15 3/8 inches (30.5 ×40 cm). Lent by the Robertson Foundation\, in honor of Julian and Josie Robertson. \n\n\n\n\n      From Friday\, April 24\, 2026 1:00 PM\n      to 1:30 PM EDT\n      at Ackland Art Museum.
URL:https://studentaffairs.unc.edu/event/tour-a-closer-look-at-color-concentrated-4/
CATEGORIES:Arts,Campus Life Experience,Culture & Identity
ATTACH;FMTTYPE=image/png:https://studentaffairs.unc.edu/wp-content/uploads/2026/04/8b012edc-db7a-4439-a42e-cc38d88ff8404e03c84c-73e5-4193-8514-f854068c770e-1.jpg
END:VEVENT
BEGIN:VEVENT
DTSTART;TZID=America/New_York:20260424T150000
DTEND;TZID=America/New_York:20260424T170000
DTSTAMP:20260419T085923
CREATED:20260417T142258Z
LAST-MODIFIED:20260418T142540Z
UID:7715-1777042800-1777050000@studentaffairs.unc.edu
SUMMARY:UNC Jazz Combos
DESCRIPTION:UNC Jazz Combos\n\nUNC Jazz Combos\, coached by Dan Davis and Jason Foureman \n  \nTBA \n  \nPlease plan to arrive early as parking on campus can be tricky. Learn more about parking and directions to UNC-Chapel Hill’s campus. \n\n\n\n      From Friday\, April 24\, 2026 3:00 PM\n      to 4:30 PM EDT\n      at Moeser Auditorium\, Hill Hall.
URL:https://studentaffairs.unc.edu/event/unc-jazz-combos/
CATEGORIES:Arts,Films, Music, & Performing Arts
ATTACH;FMTTYPE=image/png:https://studentaffairs.unc.edu/wp-content/uploads/2026/04/9cb11a85-f78d-4748-a166-3dbc4b9a192d11d96bd7-2e38-4259-b29e-45ff05f0b21e.jpg
END:VEVENT
BEGIN:VEVENT
DTSTART;TZID=America/New_York:20260424T173000
DTEND;TZID=America/New_York:20260424T193000
DTSTAMP:20260419T085923
CREATED:20260417T142302Z
LAST-MODIFIED:20260418T142542Z
UID:7729-1777051800-1777059000@studentaffairs.unc.edu
SUMMARY:Weekly Animation Meetup!
DESCRIPTION:Weekly Animation Meetup!\n\nWelcome to Carolina Animators Anonymous (AniAno for short)! Whether you’re an experienced animator or an animation fan with no experience\, all are welcome to learn the art of animation! We hold animation workshops\, movie nights\, and other fun activities related to animation each week! \n\n\n\n      From Friday\, April 24\, 2026 5:30 PM\n      to 7:00 PM EDT\n      at Hanes Art Center (NOT HANES HALL) Rm 117.
URL:https://studentaffairs.unc.edu/event/weekly-animation-meetup-2/
CATEGORIES:Arts
ATTACH;FMTTYPE=image/png:https://studentaffairs.unc.edu/wp-content/uploads/2026/04/ca44fa97-045e-424a-b534-2106df66242f59f9ea9b-333e-4c37-8ad3-0c448e50e867-1.jpg
END:VEVENT
BEGIN:VEVENT
DTSTART;TZID=America/New_York:20260424T193000
DTEND;TZID=America/New_York:20260424T213000
DTSTAMP:20260419T085923
CREATED:20260417T142219Z
LAST-MODIFIED:20260418T142614Z
UID:7568-1777059000-1777066200@studentaffairs.unc.edu
SUMMARY:UNC Percussion Ensemble and UNC Global Rhythms Ensemble Spring Concert
DESCRIPTION:UNC Percussion Ensemble and UNC Global Rhythms Ensemble Spring Concert\n\nUNC Percussion Ensemble\, directed by Juan ÁlamoUNC Global Rhythms Ensemble\, directed by Juan Álamo \n  \nTBA \n  \nPlease plan to arrive early as parking on campus can be tricky. Learn more about parking and directions to UNC-Chapel Hill’s campus. \n\n\n\n      From Friday\, April 24\, 2026 7:30 PM\n      to 9:00 PM EDT\n      at Kenan Music Building\, Rehearsal Hall.
URL:https://studentaffairs.unc.edu/event/unc-percussion-ensemble-and-unc-global-rhythms-ensemble-spring-concert/
CATEGORIES:Arts,Campus Life Experience,Films, Music, & Performing Arts
ATTACH;FMTTYPE=image/png:https://studentaffairs.unc.edu/wp-content/uploads/2026/04/19e43c5b-91ca-4738-8f07-b177e4db0f50bb10aa45-821c-4054-b1e2-78c1efbfcf97.jpg
END:VEVENT
BEGIN:VEVENT
DTSTART;TZID=America/New_York:20260424T193000
DTEND;TZID=America/New_York:20260424T213000
DTSTAMP:20260419T085923
CREATED:20260417T142307Z
LAST-MODIFIED:20260418T142520Z
UID:7745-1777059000-1777066200@studentaffairs.unc.edu
SUMMARY:Steel Magnolias
DESCRIPTION:Steel Magnolias\n\nSteel Magnolias by Robert Harling \n  \nIn a small-town beauty salon\, six Southern women gather to share laughter\, heartache\, and everything in between. Through it all\, their friendship endures every tear and triumph\, proving that the strongest bonds are built with humor\, heart\, and hairspray. \nInteract with activities in our lobby exploring dramaturgy\, Southern idioms\, and local creative economy\, including hair stylists. \n  \nPlayMakers Repertory Company is your professional theatre company located on the UNC campus. \n  \nNote: If you are planning on receiving CLE credit\, you must scan your ticket as you walk into the theatre at the beginning of the performance AND scan the QR code in the lobby at the end of the performance.  \nPlease also note that not all performances of Steel Magnolias are eligible for CLE credit. Select only from the performances listed in Heel Life! \n  \nLearn More \nGet Tickets Here \n  \nhttps://youtu.be/zsaRQVGOB58 \n\n\n\n      From Friday\, April 24\, 2026 7:30 PM\n      to 10:00 PM EDT\n      at Joan H. Gillings Center for Dramatic Art.
URL:https://studentaffairs.unc.edu/event/steel-magnolias-6/
CATEGORIES:Arts,Campus Life Experience,Carolina After Dark
ATTACH;FMTTYPE=image/png:https://studentaffairs.unc.edu/wp-content/uploads/2026/04/6fbc4ad6-5ac0-48ab-9c81-1c5ae6e3369a73a5c3f8-b7c8-46d3-aae0-0d23fb57a6ed-5.jpg
END:VEVENT
BEGIN:VEVENT
DTSTART;TZID=America/New_York:20260424T200000
DTEND;TZID=America/New_York:20260424T220000
DTSTAMP:20260419T085923
CREATED:20260417T142157Z
LAST-MODIFIED:20260418T142614Z
UID:7486-1777060800-1777068000@studentaffairs.unc.edu
SUMMARY:Jazz at Lincoln Center Orchestra with Wynton Marsalis
DESCRIPTION:Jazz at Lincoln Center Orchestra with Wynton Marsalis\n\nThe Jazz at Lincoln Center Orchestra with Wynton Marsalis returns to Carolina Performing Arts blending swing\, soul\, and storytelling with their polished arrangements and iconic sound. Known for their tight-knit chemistry\, the group brings energy\, heart\, and history to every performance. Get ready for a night that’s rich in rhythm\, full of feeling\, and alive with possibility. \n\n\n\n      From Friday\, April 24\, 2026 8:00 PM\n      to 9:30 PM EDT\n      at Memorial Hall.
URL:https://studentaffairs.unc.edu/event/jazz-at-lincoln-center-orchestra-with-wynton-marsalis/
CATEGORIES:Arts,Campus Life Experience,Culture & Identity,Films, Music, & Performing Arts
ATTACH;FMTTYPE=image/png:https://studentaffairs.unc.edu/wp-content/uploads/2026/04/e7ed425e-e5b7-425b-a234-04918920af7b3647869a-6415-474c-84b8-282a0aec199e.jpg
END:VEVENT
END:VCALENDAR