BEGIN:VCALENDAR
VERSION:2.0
PRODID:-//UNC Student Affairs - ECPv6.15.20//NONSGML v1.0//EN
CALSCALE:GREGORIAN
METHOD:PUBLISH
X-ORIGINAL-URL:https://studentaffairs.unc.edu
X-WR-CALDESC:Events for UNC Student Affairs
REFRESH-INTERVAL;VALUE=DURATION:PT1H
X-Robots-Tag:noindex
X-PUBLISHED-TTL:PT1H
BEGIN:VTIMEZONE
TZID:America/New_York
BEGIN:DAYLIGHT
TZOFFSETFROM:-0500
TZOFFSETTO:-0400
TZNAME:EDT
DTSTART:20250309T070000
END:DAYLIGHT
BEGIN:STANDARD
TZOFFSETFROM:-0400
TZOFFSETTO:-0500
TZNAME:EST
DTSTART:20251102T060000
END:STANDARD
BEGIN:DAYLIGHT
TZOFFSETFROM:-0500
TZOFFSETTO:-0400
TZNAME:EDT
DTSTART:20260308T070000
END:DAYLIGHT
BEGIN:STANDARD
TZOFFSETFROM:-0400
TZOFFSETTO:-0500
TZNAME:EST
DTSTART:20261101T060000
END:STANDARD
BEGIN:DAYLIGHT
TZOFFSETFROM:-0500
TZOFFSETTO:-0400
TZNAME:EDT
DTSTART:20270314T070000
END:DAYLIGHT
BEGIN:STANDARD
TZOFFSETFROM:-0400
TZOFFSETTO:-0500
TZNAME:EST
DTSTART:20271107T060000
END:STANDARD
END:VTIMEZONE
BEGIN:VEVENT
DTSTART;TZID=America/New_York:20260422T170000
DTEND;TZID=America/New_York:20260422T190000
DTSTAMP:20260419T085927
CREATED:20260417T142337Z
LAST-MODIFIED:20260418T142627Z
UID:7849-1776877200-1776884400@studentaffairs.unc.edu
SUMMARY:The Living Hip-Hop Museum
DESCRIPTION:The Living Hip-Hop Museum\n\nJoin us for our exploration of hip-hop culture: its history\, evolution\, and our vision for its future! \nThe artifacts on display are of personal\, public\, and cultural significance\, expertly curated by the students of MUSC 150: Intro to Hip-Hop. \n\n\n\n      From Wednesday\, April 22\, 2026 5:00 PM\n      to 7:00 PM EDT\n      at Hill Hall Rotunda.
URL:https://studentaffairs.unc.edu/event/the-living-hip-hop-museum/
CATEGORIES:Arts,Campus Life Experience,Culture & Identity,Films, Music, & Performing Arts
ATTACH;FMTTYPE=image/png:https://studentaffairs.unc.edu/wp-content/uploads/2026/04/49b4b70b-6e5e-4a45-bf4d-5a61ecfc4a87741e054e-aed1-40e4-8074-c3a548575175.jpg
END:VEVENT
BEGIN:VEVENT
DTSTART;TZID=America/New_York:20260422T180000
DTEND;TZID=America/New_York:20260422T200000
DTSTAMP:20260419T085927
CREATED:20260417T142344Z
LAST-MODIFIED:20260418T142632Z
UID:7876-1776880800-1776888000@studentaffairs.unc.edu
SUMMARY:HHJ Exhibition Night
DESCRIPTION:HHJ Exhibition Night\n\nPlease join us to celebrate the launch of the 2025-26 Annual Issue of the Health Humanities Journal! At this year’s Exhibition Night\, enjoy snacks and refreshments\, readings from our published authors\, words from a guest speaker\, and of course\, free copies of our freshly minted journal. We are hosting our event Wednesday\, April 22nd\, from 6:00pm to 7:30pm in Graham Memorial Rm 039\, and we hope to see you there. \n\n\n\n      From Wednesday\, April 22\, 2026 6:00 PM\n      to 7:30 PM EDT\n      at Graham Memorial Rm 039.
URL:https://studentaffairs.unc.edu/event/hhj-exhibition-night/
CATEGORIES:Arts,Campus Life Experience,Community Building & Social Activities
ATTACH;FMTTYPE=image/png:https://studentaffairs.unc.edu/wp-content/uploads/2026/04/2e89c64d-00b9-401c-86f6-d3497eddc086c3a6d16a-f610-4fcd-abe2-d0efebca88c0.jpg
END:VEVENT
BEGIN:VEVENT
DTSTART;TZID=America/New_York:20260422T190000
DTEND;TZID=America/New_York:20260422T210000
DTSTAMP:20260419T085927
CREATED:20260417T142352Z
LAST-MODIFIED:20260418T142639Z
UID:7902-1776884400-1776891600@studentaffairs.unc.edu
SUMMARY:Ballroom Dance Beginner Lessons
DESCRIPTION:Ballroom Dance Beginner Lessons\n\n\n\nJoin us for our beginner lessons! We teach you how to waltz\, tango\, cha-cha\, and much more! It doesn’t matter if you’ve never danced; if you’re interested in learning\, please join! Don’t worry if you don’t have a partner either\, we make sure no one dances alone. You are welcome to join at any point during the year and still gain a good understanding of what’s happening. Don’t worry if you’ve never danced before because this is geared toward absolute beginners. All you need is a pair of socks and yourself! \n  \nTuesday Lessons: These lessons focus on learning to dance with another individual and the basics of moving around the social dance floor. We alternate styles on Tuesday each week\, beginning with Latin dancing such as cha-cha\, rumba\, and swing and switching to smooth\, which is more the waltz and tango dances. The lesson goes from 7 to 8 p.m.\, and we leave time for dancers to practice social dancing on their own from 8 to 9 p.m. \n  \nWednesday Lessons: The Wednesday lessons will begin with a Latin-style dance lesson from 7 to 8 p.m. and a standard-style lesson from 8 to 9 p.m. These lessons focus more on technique and learning how to move your body. They will be beginner-friendly but get a little bit harder as time goes on. \nAfter the dues deadline\, they are members-only\, so please make sure to talk to a council member if you want to try it out! \n  \nGetting In Touch: If you’re interested in learning more about the team\, you can email us at hcreid@ad.unc.edu or join our listserv here: https://forms.gle/i1VADq7u4jaEZU7P9 \n\n\n \n \n\n\n\n      From Wednesday\, April 22\, 2026 7:00 PM\n      to 9:00 PM EDT\n      at Woollen Gymnasium\, Room B017.
URL:https://studentaffairs.unc.edu/event/ballroom-dance-beginner-lessons-2/
CATEGORIES:Arts,Films, Music, & Performing Arts
END:VEVENT
BEGIN:VEVENT
DTSTART;TZID=America/New_York:20260422T193000
DTEND;TZID=America/New_York:20260422T213000
DTSTAMP:20260419T085927
CREATED:20260417T142355Z
LAST-MODIFIED:20260418T142641Z
UID:7913-1776886200-1776893400@studentaffairs.unc.edu
SUMMARY:Steel Magnolias
DESCRIPTION:Steel Magnolias\n\nSteel Magnolias by Robert Harling \n  \nIn a small-town beauty salon\, six Southern women gather to share laughter\, heartache\, and everything in between. Through it all\, their friendship endures every tear and triumph\, proving that the strongest bonds are built with humor\, heart\, and hairspray. \nInteract with activities in our lobby exploring dramaturgy\, Southern idioms\, and local creative economy\, including hair stylists. \n  \nPlayMakers Repertory Company is your professional theatre company located on the UNC campus. \n  \nNote: If you are planning on receiving CLE credit\, you must scan your ticket as you walk into the theatre at the beginning of the performance AND scan the QR code in the lobby at the end of the performance.  \nPlease also note that not all performances of Steel Magnolias are eligible for CLE credit. Select only from the performances listed in Heel Life! \n  \nLearn More \nGet Tickets Here \n  \nhttps://youtu.be/zsaRQVGOB58 \n\n\n\n      From Wednesday\, April 22\, 2026 7:30 PM\n      to 10:00 PM EDT\n      at Joan H. Gillings Center for Dramatic Art.
URL:https://studentaffairs.unc.edu/event/steel-magnolias-9/
CATEGORIES:Arts,Campus Life Experience,Carolina After Dark
ATTACH;FMTTYPE=image/png:https://studentaffairs.unc.edu/wp-content/uploads/2026/04/6fbc4ad6-5ac0-48ab-9c81-1c5ae6e3369a73a5c3f8-b7c8-46d3-aae0-0d23fb57a6ed-9.jpg
END:VEVENT
END:VCALENDAR